BEGIN:VCALENDAR
VERSION:2.0
PRODID:-//Tergar Indonesia - ECPv6.15.20//NONSGML v1.0//EN
CALSCALE:GREGORIAN
METHOD:PUBLISH
X-ORIGINAL-URL:https://tergarindonesia.com
X-WR-CALDESC:Events for Tergar Indonesia
REFRESH-INTERVAL;VALUE=DURATION:PT1H
X-Robots-Tag:noindex
X-PUBLISHED-TTL:PT1H
BEGIN:VTIMEZONE
TZID:UTC
BEGIN:STANDARD
TZOFFSETFROM:+0000
TZOFFSETTO:+0000
TZNAME:UTC
DTSTART:20240101T000000
END:STANDARD
END:VTIMEZONE
BEGIN:VEVENT
DTSTART;TZID=UTC:20251203T193000
DTEND;TZID=UTC:20251203T210000
DTSTAMP:20260421T115153
CREATED:20251203T031108Z
LAST-MODIFIED:20251203T031108Z
UID:2743-1764790200-1764795600@tergarindonesia.com
SUMMARY:Latihan Meditasi Bersama 3 Desember 2025
DESCRIPTION:Mari bersama-sama melakukan latihan meditasi yang bertujuan untuk menenangkan batin serta menemukan kualitas sejati yang sudah ada di dalam diri kita. \nTerbuka untuk umum dan bebas biaya\nRabu\, 3 Desember 2025\n19:30-21:00 WIB \nLokasi: Tergar Meditation Centre Jakarta. Alamat: Jl. Daan Mogot\, Perumahan Green Mansion\, Boulevard Raya No.35\, Jakarta Barat\nMaps: https://goo.gl/maps/maVW3Y3upjbVouqm8 \nInfo:\n* WA: 0878 0692 2480\n* ⁠Website: http://www.tergarindonesia.com/events/\n* ⁠Organized by @tergarindonesia
URL:https://tergarindonesia.com/event/latihan-meditasi-bersama-3-desember-2025/
CATEGORIES:Meditasi Umum
ATTACH;FMTTYPE=image/jpeg:https://tergarindonesia.com/wp-content/uploads/2025/12/WhatsApp-Image-2025-12-03-at-09.10.14-e1764731454711.jpeg
END:VEVENT
BEGIN:VEVENT
DTSTART;TZID=UTC:20251207T100000
DTEND;TZID=UTC:20251207T120000
DTSTAMP:20260421T115153
CREATED:20251203T031249Z
LAST-MODIFIED:20251203T032801Z
UID:2746-1765101600-1765108800@tergarindonesia.com
SUMMARY:✨ SATU PELITA SEJUTA DOA ✨
DESCRIPTION:Pemasangan Pelita & Puja Buddha Pengobatan Bersama untuk Korban Banjir\nDipimpin Lama Samten – Biara Tergar Ösel Ling\, Nepal \nMinggu\, 07 Desember 2025\nPukul 10:00 – 12:00 WIB \nSaudara/i kita di Sumatra dan Aceh tengah menghadapi musibah banjir yang membawa duka mendalam dan tantangan yang berat bagi banyak keluarga. Dalam semangat welas asih dan kebersamaan\, Tergar Meditation Center Indonesia mengundang para umat untuk bergabung dalam penyalaan pelita dan puja bersama\, sebagai wujud doa\, harapan\, dan pelimpahan kebajikan bagi semua yang terdampak. \nPelita akan dinyalakan sepanjang puja sebagai simbol cahaya\, aspirasi\, dan persembahan doa.\nUmat dapat memasang pelita dengan mencantumkan nama tujuan doa — silakan hubungi Admin.\nTersedia makan siang bagi seluruh peserta yang hadir.\nDana Paramita untuk puja & doa ini dapat disalurkan melalui:\nBCA – Yayasan Tergar Indonesia\nA/C 441 3988 899\nMohon cantumkan angka “8” pada akhir nominal transfer \nMay all be safe. May all be free from suffering\n@TergarIndonesia
URL:https://tergarindonesia.com/event/%e2%9c%a8-satu-pelita-sejuta-doa-%e2%9c%a8/
CATEGORIES:Buddha Medicine,Puja Mingguan
ATTACH;FMTTYPE=image/jpeg:https://tergarindonesia.com/wp-content/uploads/2025/12/WhatsApp-Image-2025-12-03-at-10.16.14-e1764732474689.jpeg
END:VEVENT
BEGIN:VEVENT
DTSTART;TZID=UTC:20251208T193000
DTEND;TZID=UTC:20251208T210000
DTSTAMP:20260421T115153
CREATED:20251208T040040Z
LAST-MODIFIED:20251208T040040Z
UID:2754-1765222200-1765227600@tergarindonesia.com
SUMMARY:"Compassion yang Melebur Klesha"
DESCRIPTION:Diskusi dan Latihan meditasi JOL 2. Hanya untuk Alumni JOL 2. \nSaat hati melembut\, klesha mulai mencair. Temani dirimu dengan welas asih—obat paling kuat bagi luka batin. \nMari latihan compassion yang memulihkan batin secara alami. \nSenin\, 8 Desember 2025\, 19:30-20:30 WIB\nDipandu oleh Hemmarata (Host) dan Eripin (Co-host) \nPendaftaran : 087806922480 (WA) \nOrganized by: @tergarindonesia
URL:https://tergarindonesia.com/event/compassion-yang-melebur-klesha/
CATEGORIES:Latihan Meditasi Bersama,Latihan Meditasi JOL 2
ATTACH;FMTTYPE=image/jpeg:https://tergarindonesia.com/wp-content/uploads/2025/12/WhatsApp-Image-2025-12-08-at-09.41.08-e1765166407539.jpeg
END:VEVENT
BEGIN:VEVENT
DTSTART;TZID=UTC:20251209T190000
DTEND;TZID=UTC:20251209T200000
DTSTAMP:20260421T115153
CREATED:20251209T035316Z
LAST-MODIFIED:20251209T035316Z
UID:2759-1765306800-1765310400@tergarindonesia.com
SUMMARY:Mendengar Hanya Mendengar
DESCRIPTION:Semua orang beranggapan bahwa meditasi harus di tempat sunyi. Tetapi sebenarnya kita bisa bermeditasi di mana saja bahkan di tempat yang ramai sekalipun. Pernahkah kita mendengar secara mendalam tanpa di beri bumbu-bumbu prasangka dan konsep. Bagaimana caranya mendengar hanya mendengar. \nTerbuka untuk umum dan bebas biaya. Selasa\, 9 Desember 2025\, 19:00-20:00 WIB. Dipandu oleh Gunawan Muliawan (host) dan Eripin (co-host). \nVia ZOOM\, meeting ID : 821 1856 5010\nPasscode : kesadaran\n.\nInfo :\n– WA : 0878 0692 2480\n– Website : http://www.tergarindonesia.com/events/\n* Organized by @tergarindonesia
URL:https://tergarindonesia.com/event/mendengar-hanya-mendengar/
CATEGORIES:Latihan Meditasi Bersama,Meditasi Umum
ATTACH;FMTTYPE=image/jpeg:https://tergarindonesia.com/wp-content/uploads/2025/12/WhatsApp-Image-2025-12-09-at-10.01.41-e1765252365350.jpeg
END:VEVENT
BEGIN:VEVENT
DTSTART;TZID=UTC:20251210T193000
DTEND;TZID=UTC:20251210T210000
DTSTAMP:20260421T115153
CREATED:20251210T032631Z
LAST-MODIFIED:20251210T032631Z
UID:2762-1765395000-1765400400@tergarindonesia.com
SUMMARY:Anytime Anywhere Meditation : Essence of meditation
DESCRIPTION:Jika kita mengenali esensi dari meditasi maka kita akan bisa bermeditasi di mana saja dan kapan saja.\nEverything becomes food of Awareness. \nTerbuka untuk umum dan bebas biaya\nRabu\, 10 Desember 2025\n19:30-21:00 WIB \nLokasi: Tergar Meditation Centre Jakarta. Alamat: Jl. Daan Mogot\, Perumahan Green Mansion\, Boulevard Raya No.35\, Jakarta Barat\nMaps: https://goo.gl/maps/maVW3Y3upjbVouqm8 \nInfo:\n* WA: 0878 0692 2480\n* ⁠Website: http://www.tergarindonesia.com/events/\n* ⁠Organized by @tergarindonesia
URL:https://tergarindonesia.com/event/anytime-anywhere-meditation-essence-of-meditation/
CATEGORIES:Latihan Meditasi Bersama,Meditasi Umum
ATTACH;FMTTYPE=image/jpeg:https://tergarindonesia.com/wp-content/uploads/2025/12/WhatsApp-Image-2025-12-10-at-09.13.29-e1765337163831.jpeg
END:VEVENT
BEGIN:VEVENT
DTSTART;TZID=UTC:20251214T100000
DTEND;TZID=UTC:20251214T170000
DTSTAMP:20260421T115153
CREATED:20251203T031431Z
LAST-MODIFIED:20251208T040219Z
UID:2749-1765706400-1765731600@tergarindonesia.com
SUMMARY:Puja Tutup Tahun Vajrasattva
DESCRIPTION:Dipimpin oleh Lama Samten dari Tergar Oseling\, Nepal \nMinggu\, 14 Des’2025\n⏰ 10:00 – 17:00 WIB \nMari menutup tahun dengan praktik Vajrasattva untuk pemurnian rintangan\, pelanggaran samaya\, dan kenegatifan melalui kekuatan empat daya\, sekaligus melimpahkan jasa bagi yang masih hidup maupun yang telah meninggal. \nCatatan:\n• Masukkan nama untuk pelimpahan jasa (hidup/meninggal)\, ditutup Jumat\, 12 Desember.\n• Registrasi nama di papan/dana pelita di altar selama puja pada link berikut https://bit.ly/TergarDoa.\n• Bagi yang ingin berdana untuk Puja Vajrasattva:\nBCA\nA/N. Yayasan Tergar Indonesia\nA/C. 441 3988 899\nCantumkan “9” diakhir (mis: 50.009). \nInfo:\nWA. 0878-0692-2480 \nLokasi:\nTergar Meditation Centre\nPerumahan Green Mansion\, Boulevard Raya No.35\, RT.1/RW.10\nKedaung Kali Angke\nJakarta Barat 11710 \n@TergarIndonesia
URL:https://tergarindonesia.com/event/puja-tutup-tahun-vajrasattva/
CATEGORIES:Big Puja,Events
ATTACH;FMTTYPE=image/jpeg:https://tergarindonesia.com/wp-content/uploads/2025/12/WhatsApp-Image-2025-12-02-at-14.27.51-e1764731646730.jpeg
END:VEVENT
BEGIN:VEVENT
DTSTART;TZID=UTC:20251217T193000
DTEND;TZID=UTC:20251217T210000
DTSTAMP:20260421T115153
CREATED:20251217T022508Z
LAST-MODIFIED:20251217T022508Z
UID:2766-1765999800-1766005200@tergarindonesia.com
SUMMARY:Latihan Meditasi Bersama Akhir Tahun 2025
DESCRIPTION:Mari bersama melakukan latihan meditasi menjelang penutupan akhir tahun 2025 untuk menenangkan batin kita yang telah sibuk setahun ini agar siap menyambut tahun baru dengan batin yang lebih segar dan jernih. \nTerbuka untuk umum dan bebas biaya\nRabu\, 17 Desember 2025\n19:30-21:00 WIB \nLokasi: Tergar Meditation Centre Jakarta. Alamat: Jl. Daan Mogot\, Perumahan Green Mansion\, Boulevard Raya No.35\, Jakarta Barat\nMaps: https://goo.gl/maps/maVW3Y3upjbVouqm8 \nInfo:\n* WA: 0878 0692 2480\n* ⁠Website: http://www.tergarindonesia.com/events/\n* ⁠Organized by @tergarindonesia
URL:https://tergarindonesia.com/event/latihan-meditasi-bersama-akhir-tahun-2025/
CATEGORIES:Latihan Meditasi Bersama,Meditasi Umum
ATTACH;FMTTYPE=image/jpeg:https://tergarindonesia.com/wp-content/uploads/2025/12/WhatsApp-Image-2025-12-17-at-09.11.27-e1765938278728.jpeg
END:VEVENT
BEGIN:VEVENT
DTSTART;TZID=UTC:20251222T193000
DTEND;TZID=UTC:20251222T203000
DTSTAMP:20260421T115153
CREATED:20251222T032958Z
LAST-MODIFIED:20251222T032958Z
UID:2769-1766431800-1766435400@tergarindonesia.com
SUMMARY:Seeing The Nature of Emotions
DESCRIPTION:Diskusi dan Latihan meditasi JOL 3. Hanya untuk Alumni JOL 3. \nSenin\, 22 Desember 2025\, 19:30-20:30 WIB\nDipandu oleh Anthony (Host) dan Arief (Co-host). \nPendaftaran : 0878 0692 2480 (WA) \nOrganized by: @tergarindonesia
URL:https://tergarindonesia.com/event/seeing-the-nature-of-emotions/
CATEGORIES:Latihan Meditasi Bersama,Latihan Meditasi JOL 3
ATTACH;FMTTYPE=image/jpeg:https://tergarindonesia.com/wp-content/uploads/2025/12/WhatsApp-Image-2025-12-21-at-22.49.36-e1766374171945.jpeg
END:VEVENT
BEGIN:VEVENT
DTSTART;TZID=UTC:20251223T190000
DTEND;TZID=UTC:20251223T200000
DTSTAMP:20260421T115153
CREATED:20251222T034959Z
LAST-MODIFIED:20251222T034959Z
UID:2772-1766516400-1766520000@tergarindonesia.com
SUMMARY:“Kecerdasan Hening: Meluruhkan Racun Batin”
DESCRIPTION:Mari sejenak berhenti dari hiruk pikuk pikiran\,\ndan masuk ke ruang hening yang jernih di dalam diri.\nDi sana\, kita belajar hadir tanpa menghakimi\,\nmembiarkan racun batin seperti marah\, takut\, dan gelisah\nperlahan meluruh oleh cahaya kesadaran. \nMari berlatih bersama\, kembali jernih\, tenang\, dan utuh.\nTerbuka untuk umum dan bebas biaya. Selasa\, 23 Desember 2025\, 19:00-20:00 WIB. Dipandu oleh Hemmarata (host) dan Alit (co-host) \nVia ZOOM\, meeting ID : 821 1856 5010\nPasscode : kesadaran \nInfo :\n– WA : 0878 0692 2480\n– Website : http://www.tergarindonesia.com/events/\n* Organized by @tergarindonesia
URL:https://tergarindonesia.com/event/kecerdasan-hening-meluruhkan-racun-batin/
CATEGORIES:Latihan Meditasi Bersama,Meditasi Umum
ATTACH;FMTTYPE=image/jpeg:https://tergarindonesia.com/wp-content/uploads/2025/12/WhatsApp-Image-2025-12-19-at-22.05.15-e1766375368216.jpeg
END:VEVENT
END:VCALENDAR