BEGIN:VCALENDAR
VERSION:2.0
PRODID:-//Tergar Indonesia - ECPv6.15.20//NONSGML v1.0//EN
CALSCALE:GREGORIAN
METHOD:PUBLISH
X-ORIGINAL-URL:https://tergarindonesia.com
X-WR-CALDESC:Events for Tergar Indonesia
REFRESH-INTERVAL;VALUE=DURATION:PT1H
X-Robots-Tag:noindex
X-PUBLISHED-TTL:PT1H
BEGIN:VTIMEZONE
TZID:UTC
BEGIN:STANDARD
TZOFFSETFROM:+0000
TZOFFSETTO:+0000
TZNAME:UTC
DTSTART:20240101T000000
END:STANDARD
END:VTIMEZONE
BEGIN:VEVENT
DTSTART;TZID=UTC:20251101T143000
DTEND;TZID=UTC:20251101T160000
DTSTAMP:20260421T132432
CREATED:20251024T102322Z
LAST-MODIFIED:20251024T102322Z
UID:2701-1762007400-1762012800@tergarindonesia.com
SUMMARY:Latihan Basic Yoga 1 November 2025
DESCRIPTION:Terbuka Untuk Umum \nLatihan yoga adalah kombinasi antara pose tubuh\, teknik pernapasan (pranayama)\, dan meditasi atau relaksasi. Olahraga yoga bermanfaat untuk meningkatkan kesehatan fisik dan mental\, termasuk meningkatkan fleksibilitas\, kekuatan\, dan keseimbangan tubuh\, serta menenangkan pikiran\, mengurangi stres\, dan memperbaiki suasana hati. Yoga juga membantu menjaga kesehatan jantung\, meredakan nyeri punggung\, mendukung pemulihan penyakit\, dan meningkatkan kualitas tidur. \nMari kita ikuti Latihan Basic Yoga pada:\nSabtu\, 1 November 2025\nJam: 14.30 – 16.00 WIB\nBersama Eko Johan \nBiaya: Rp 50.000/orang/sesi.\nHarap mendaftar melalui link berikut:\nhttps://bit.ly/yogatergar \nKami tidak menyediakan matras yoga jadi silakan membawa matras yoga masing-masing. \nLokasi: Tergar Meditation Centre Jakarta. Alamat: Jl. Daan Mogot\, Perumahan Green Mansion\, Boulevard Raya No.35\, Jakarta Barat\nMaps: https://goo.gl/maps/maVW3Y3upjbVouqm8 \nInfo: 0878 0692 2480 (WA) \nOrganized by Komunitas Meditasi @tergarindonesia
URL:https://tergarindonesia.com/event/latihan-basic-yoga-1-november-2025/
ATTACH;FMTTYPE=image/jpeg:https://tergarindonesia.com/wp-content/uploads/2025/10/WhatsApp-Image-2025-10-24-at-11.16.42-e1761301370594.jpeg
END:VEVENT
BEGIN:VEVENT
DTSTART;TZID=UTC:20251105T193000
DTEND;TZID=UTC:20251105T210000
DTSTAMP:20260421T132432
CREATED:20251104T084450Z
LAST-MODIFIED:20251104T084552Z
UID:2714-1762371000-1762376400@tergarindonesia.com
SUMMARY:Latihan Meditasi Bersama 5 November 2025
DESCRIPTION:Mari bersama-sama melakukan latihan meditasi yang bertujuan untuk menenangkan batin serta menemukan kualitas sejati yang sudah ada di dalam diri kita. \nTerbuka untuk umum dan bebas biaya\nRabu\, 5 November 2025\n19:30-21:00 WIB \nLokasi: Tergar Meditation Centre Jakarta. Alamat: Jl. Daan Mogot\, Perumahan Green Mansion\, Boulevard Raya No.35\, Jakarta Barat\nMaps: https://goo.gl/maps/maVW3Y3upjbVouqm8 \nInfo:\n* WA: 0878 0692 2480\n* ⁠Website: http://www.tergarindonesia.com/events/\n* ⁠Organized by @tergarindonesia
URL:https://tergarindonesia.com/event/latihan-meditasi-bersama-5-november-2025/
CATEGORIES:Latihan Meditasi Bersama,Meditasi Umum
ATTACH;FMTTYPE=image/jpeg:https://tergarindonesia.com/wp-content/uploads/2025/11/WhatsApp-Image-2025-11-04-at-14.51.25-e1762245946687.jpeg
END:VEVENT
BEGIN:VEVENT
DTSTART;TZID=UTC:20251112T193000
DTEND;TZID=UTC:20251112T210000
DTSTAMP:20260421T132432
CREATED:20251112T030943Z
LAST-MODIFIED:20251112T030943Z
UID:2719-1762975800-1762981200@tergarindonesia.com
SUMMARY:Looking Inside
DESCRIPTION:Melihat “ke dalam” untuk menemukan kunci hidup yang damai\, tenang & bahagia \nMari kita share\, diskusi dan berlatih meditasi bersama. \nWaktu : Rabu\, 12 November 2025\nJam 19:30 – 21:00 WIB\nBebas Biaya dan terbuka untuk umum. \nAlamat:\nJl. Daan Mogot\, Perumahan Green Mansion\, Boulevard Raya No.35\, Jakarta Barat\, DKI Jakarta.\nMaps: https://goo.gl/maps/maVW3Y3upjbVouqm8 \nInfo:\n0878 0692 2480\nhttps://tergarindonesia.com/events/\n@TergarIndonesia
URL:https://tergarindonesia.com/event/looking-inside/
CATEGORIES:Latihan Meditasi Bersama,Meditasi Umum
ATTACH;FMTTYPE=image/jpeg:https://tergarindonesia.com/wp-content/uploads/2025/11/WhatsApp-Image-2025-11-12-at-09.09.55-e1762916897366.jpeg
END:VEVENT
BEGIN:VEVENT
DTSTART;TZID=UTC:20251116T143000
DTEND;TZID=UTC:20251116T160000
DTSTAMP:20260421T132432
CREATED:20251112T031206Z
LAST-MODIFIED:20251112T031206Z
UID:2722-1763303400-1763308800@tergarindonesia.com
SUMMARY:16 November 2025
DESCRIPTION:Untuk Sistem Pencernaan \nTerbuka Untuk Umum \nAktivitas duduk yang terlalu lama bagi manusia modern sering kali mengakibatkan gangguan kesehatan.\nBagi Anda yang sudah terbiasa bekerja sangat lama di depan komputer\, akan terasa kram pada titik otot tertentu.\nOleh karena itu\, sangat penting bagi kita untuk mulai melakukan kegiatan olah fisik seperti yoga.\nLatihan ini juga membantu jalannya energi bagi fungsi organ yang optimal\, istirahat yang lebih baik\, serta mendukung latihan meditasi karena dapat duduk dengan lebih nyaman.\nJadi dengan melakukan yoga\, kita tidak hanya mengolah fisik kita saja. Tapi batin pun akan mendapatkan manfaatnya. \nYoga yang akan dibawakan adalah Yin Yoga. Tipe yoga ini merupakan jenis yoga dengan melibatkan pose-pose ringan namun cukup dalam. Sehingga\, yoga ini cocok bagi Anda yang menginginkan gerakan dengan tempo yang lebih lambat dan santai. \nMari kita ikuti Latihan Yin Yoga pada:\nMinggu\, 16 November 2025\nJam: 14.30 – 16.00 WIB\nBersama Siska Marsudhy @siska00 \nBiaya: Rp 50.000/orang/sesi.\nHarap mendaftar melalui link berikut:\nhttps://bit.ly/yogatergar\nKami tidak menyediakan matras yoga jadi silakan membawa matras yoga masing-masing. \nLokasi: Tergar Meditation Centre Jakarta. Alamat: Jl. Daan Mogot\, Perumahan Green Mansion\, Boulevard Raya No.35\, Jakarta Barat\nMaps: https://goo.gl/maps/maVW3Y3upjbVouqm8 \nInfo: 0878 0692 2480 (WA) \nOrganized by Komunitas Meditasi @tergarindonesia
URL:https://tergarindonesia.com/event/16-november-2025/
CATEGORIES:Latihan Meditasi Bersama
ATTACH;FMTTYPE=image/jpeg:https://tergarindonesia.com/wp-content/uploads/2025/11/WhatsApp-Image-2025-11-09-at-00.35.09-e1762917098938.jpeg
END:VEVENT
BEGIN:VEVENT
DTSTART;TZID=UTC:20251119T193000
DTEND;TZID=UTC:20251119T210000
DTSTAMP:20260421T132432
CREATED:20251119T040843Z
LAST-MODIFIED:20251119T040843Z
UID:2732-1763580600-1763586000@tergarindonesia.com
SUMMARY:Latihan Meditasi Bersama 19 November 2025
DESCRIPTION:Mari bersama-sama melakukan latihan meditasi yang bertujuan untuk menenangkan batin serta menemukan kualitas sejati yang sudah ada di dalam diri kita. \nTerbuka untuk umum dan bebas biaya\nRabu\, 19 November 2025\n19:30-21:00 WIB \nLokasi: Tergar Meditation Centre Jakarta. Alamat: Jl. Daan Mogot\, Perumahan Green Mansion\, Boulevard Raya No.35\, Jakarta Barat\nMaps: https://goo.gl/maps/maVW3Y3upjbVouqm8 \nInfo:\n* WA: 0878 0692 2480\n* ⁠Website: http://www.tergarindonesia.com/events/\n* ⁠Organized by @tergarindonesia
URL:https://tergarindonesia.com/event/latihan-meditasi-bersama-19-november-2025/
CATEGORIES:Latihan Meditasi Bersama,Meditasi Umum
ATTACH;FMTTYPE=image/jpeg:https://tergarindonesia.com/wp-content/uploads/2025/11/WhatsApp-Image-2025-11-19-at-09.18.57-e1763525293473.jpeg
END:VEVENT
BEGIN:VEVENT
DTSTART;TZID=UTC:20251123T100000
DTEND;TZID=UTC:20251123T130000
DTSTAMP:20260421T132432
CREATED:20251118T033910Z
LAST-MODIFIED:20251118T033910Z
UID:2726-1763892000-1763902800@tergarindonesia.com
SUMMARY:Together in Joy
DESCRIPTION:Celebrating the Birthday of Our Guru  \nBersama Lama Samten dari Biara Tergar Oseling\, Nepal \n✨ Dengan penuh sukacita dan rasa syukur\, kami mengundang segenap Sahabat & Murid Tergar\, untuk hadir dalam perayaan ulang tahun dari Guru kita yang terkasih Yongey Mingyur Rinpoche. \n✨ Pada hari spesial ini\, mari berkumpul dalam inspirasi ajaran beliau\, untuk merayakan\, mendedikasikan doa\, dan bergembira dalam kebersamaan. \n Kapan: Minggu\, 23 November 2025\n Waktu: 10:00 – 13:00 WIB\n Tempat: Tergar Meditation Center Jakarta \nNotes\n Bagi yang ingin offering lagu/snack/apapun\, silakan hubungi Admin.\n Dress code: warna pink/merah/cerah/terserah.\n Kehadiran Anda adalah hadiah terindah. \n@TergarIndonesia
URL:https://tergarindonesia.com/event/together-in-joy/
CATEGORIES:Big Puja
ATTACH;FMTTYPE=image/jpeg:https://tergarindonesia.com/wp-content/uploads/2025/11/WhatsApp-Image-2025-11-17-at-17.00.28-e1763437108183.jpeg
END:VEVENT
BEGIN:VEVENT
DTSTART;TZID=UTC:20251124T193000
DTEND;TZID=UTC:20251124T203000
DTSTAMP:20260421T132432
CREATED:20251124T033441Z
LAST-MODIFIED:20251124T033441Z
UID:2736-1764012600-1764016200@tergarindonesia.com
SUMMARY:Let Life Be
DESCRIPTION:Diskusi dan Latihan meditasi JOL 2. Hanya untuk Alumni JOL 2. \nTeman-teman\, hari ini kita akan berlatih membiarkan hidup apa adanya. Bukan pasrah\, bukan menyerah—tapi memberi ruang pada setiap pengalaman tanpa memaksa harus nyaman atau menyenangkan.\nKetika kita berhenti melawan dan berhenti terlalu mengejar\, batin menjadi lebih luas dan tenang. \nLatihan singkat untuk mengembangkan equanimity: kemampuan menerima keadaan tanpa reaktif\, tanpa terbawa arus. \nSenin\, 24 November 2025\, 19:30-20:30 WIB\nDipandu oleh Hemmarata (Host) dan Arief (Co-host) \nPendaftaran : 087806922480 (WA) \nOrganized by: @tergarindonesia
URL:https://tergarindonesia.com/event/let-life-be/
CATEGORIES:Latihan Meditasi Bersama,Latihan Meditasi JOL 2
ATTACH;FMTTYPE=image/jpeg:https://tergarindonesia.com/wp-content/uploads/2025/11/WhatsApp-Image-2025-11-23-at-15.50.52-e1763955239520.jpeg
END:VEVENT
BEGIN:VEVENT
DTSTART;TZID=UTC:20251126T193000
DTEND;TZID=UTC:20251126T210000
DTSTAMP:20260421T132432
CREATED:20251126T024616Z
LAST-MODIFIED:20251126T024616Z
UID:2739-1764185400-1764190800@tergarindonesia.com
SUMMARY:Open to All
DESCRIPTION:Mari kita sharing\, diskusi dan berlatih meditasi bersama. \nWaktu : Rabu\, 26 November 2025\nJam 19:30 – 21:00 WIB\nBebas Biaya dan terbuka untuk umum. \nAlamat:\nJl. Daan Mogot\, Perumahan Green Mansion\, Boulevard Raya No.35\, Jakarta Barat\, DKI Jakarta.\nMaps: https://goo.gl/maps/maVW3Y3upjbVouqm8 \nInfo:\n0878 0692 2480\nhttps://tergarindonesia.com/events/\n@TergarIndonesia
URL:https://tergarindonesia.com/event/open-to-all/
CATEGORIES:Latihan Meditasi Bersama,Meditasi Umum
ATTACH;FMTTYPE=image/jpeg:https://tergarindonesia.com/wp-content/uploads/2025/11/WhatsApp-Image-2025-11-26-at-09.22.21-e1764125148919.jpeg
END:VEVENT
BEGIN:VEVENT
DTSTART;TZID=UTC:20251129T090000
DTEND;TZID=UTC:20251130T170000
DTSTAMP:20260421T132432
CREATED:20251118T034114Z
LAST-MODIFIED:20251118T034114Z
UID:2729-1764406800-1764522000@tergarindonesia.com
SUMMARY:Workshop Meditasi Joy of Living level 1: Menenangkan Batin
DESCRIPTION:Joy of Living adalah program meditasi sistematis & bertahap yang dapat diikuti siapapun terlepas apapun latar belakang\, agama dan kepercayaannya. Meditasi memungkinkan kita terhubung dengan kedamaian dan sukacita sejati dalam batin\, dengan menggunakan semua objek dari indra\, segala situasi\, rintangan bahkan emosi mengganggu dan sakit fisik sebagai pendukung meditasi. \nSabtu-Minggu\, 29-30 November 2025\nJam 09:00-18:00 \nKetentuan:\n– Terbuka untuk umum.\n– Pendaftaran akan ditutup setelah mencapai kuota peserta.\n– Wajib mengikuti workshop 2 hari penuh.\n– Dibimbing Yongey Mingyur Rinpoche melalui program DVD\, dan dipandu fasilitator Tergar Indonesia.\n– Melakukan registrasi dan donasi sebesar Rp 300.000\,- \nLokasi:\nTergar Meditation Centre Jakarta.\nAlamat: Jl. Daan Mogot\, Perumahan Green Mansion\, Boulevard Raya No.35\, Jakarta Barat\nMaps: https://goo.gl/maps/maVW3Y3upjbVouqm8 \nPendaftaran dapat dilakukan mulai tanggal 10 November pukul 12:00 WIB:\nhttp://bit.ly/RegistrasiJOL1 \nInformasi:\n087806922480 (WhatsApp) \n@TergarIndonesia
URL:https://tergarindonesia.com/event/workshop-meditasi-joy-of-living-level-1-menenangkan-batin-2/
CATEGORIES:Workshop Joy of Living,Workshop Joy of Living 1
ATTACH;FMTTYPE=image/jpeg:https://tergarindonesia.com/wp-content/uploads/2025/11/WhatsApp-Image-2025-11-07-at-09.16.05-e1763437249917.jpeg
END:VEVENT
END:VCALENDAR