BEGIN:VCALENDAR
VERSION:2.0
PRODID:-//Tergar Indonesia - ECPv6.15.20//NONSGML v1.0//EN
CALSCALE:GREGORIAN
METHOD:PUBLISH
X-ORIGINAL-URL:https://tergarindonesia.com
X-WR-CALDESC:Events for Tergar Indonesia
REFRESH-INTERVAL;VALUE=DURATION:PT1H
X-Robots-Tag:noindex
X-PUBLISHED-TTL:PT1H
BEGIN:VTIMEZONE
TZID:UTC
BEGIN:STANDARD
TZOFFSETFROM:+0000
TZOFFSETTO:+0000
TZNAME:UTC
DTSTART:20240101T000000
END:STANDARD
END:VTIMEZONE
BEGIN:VEVENT
DTSTART;TZID=UTC:20250901T193000
DTEND;TZID=UTC:20250901T203000
DTSTAMP:20260421T165244
CREATED:20250901T082701Z
LAST-MODIFIED:20250901T082701Z
UID:2655-1756755000-1756758600@tergarindonesia.com
SUMMARY:Menghirup Luka\, Menghembuskan Cinta
DESCRIPTION:Diskusi dan Latihan meditasi JOL 2. Hanya untuk Alumni JOL 2. \nTeman-teman\, bangsa kita sedang menghadapi masa penuh luka dan keresahan. Penderitaan ini milik kita bersama sebagai sesama anak bangsa. \nMari kita berlatih meditasi cinta kasih – welas asih bersama dengan teknik tonglen. \nDalam latihan tonglen ini\, setiap tarikan napas kita bayangkan menghirup penderitaan masyarakat. Setiap hembusan napas\, kita lepaskan cinta kasih dan harapan bagi semua\, tanpa kecuali. \nSemoga dari hati yang terbuka\, lahir kedamaian bagi diri kita\, bangsa kita\, dan seluruh makhluk. \nSenin\, 01 September 2025\, 19:30-20:30 WIB\nDipandu oleh Hemmarata (Host) dan Norlela (Co-host) \nPendaftaran : 0878 0692 2450 (WA) \nOrganized by: @tergarindonesia
URL:https://tergarindonesia.com/event/menghirup-luka-menghembuskan-cinta/
CATEGORIES:Latihan Meditasi Bersama,Latihan Meditasi JOL 2
ATTACH;FMTTYPE=image/jpeg:https://tergarindonesia.com/wp-content/uploads/2025/09/WhatsApp-Image-2025-09-01-at-09.42.08-e1756715178951.jpeg
END:VEVENT
BEGIN:VEVENT
DTSTART;TZID=UTC:20250902T190000
DTEND;TZID=UTC:20250902T200000
DTSTAMP:20260421T165244
CREATED:20250901T082844Z
LAST-MODIFIED:20250901T082844Z
UID:2658-1756839600-1756843200@tergarindonesia.com
SUMMARY:Damai di Tengah Badai
DESCRIPTION:[Online] Latihan Meditasi Bersama\nTerbuka untuk Umum & Bebas biaya \nSelasa\, 02 September 2025\nJam 19:00 – 20:00 WIB \nMudah bagi kita untuk mengalami ketenangan batin di kala situasi kondisi luar dalam keadaan tenang dan menguntungkan. \nNamun tantangan dan praktik sesungguhnya adalah sewaktu keadaan di luar kacau & batin di dalam sedang bergejolak\, mampukah kita menggunakan situasi dan kondisi itu sebagai bahan bakar penumbuhan kualitas hakiki batin kita? \nVia ZOOM\, meeting ID : 821 1856 5010\nPasscode : kesadaran \nInfo:\n* WA: 0878 0692 2450\n* ⁠Website: http://www.tergarindonesia.com/events/\n* ⁠Organized by @tergarindonesia
URL:https://tergarindonesia.com/event/damai-di-tengah-badai/
CATEGORIES:Latihan Meditasi Bersama,Meditasi Umum
ATTACH;FMTTYPE=image/jpeg:https://tergarindonesia.com/wp-content/uploads/2025/09/WhatsApp-Image-2025-09-01-at-10.53.04-e1756715294768.jpeg
END:VEVENT
BEGIN:VEVENT
DTSTART;TZID=UTC:20250910T193000
DTEND;TZID=UTC:20250910T210000
DTSTAMP:20260421T165244
CREATED:20250910T041450Z
LAST-MODIFIED:20250910T041450Z
UID:2663-1757532600-1757538000@tergarindonesia.com
SUMMARY:Latihan Meditasi Bersama 10 September 2025
DESCRIPTION:Mari bersama-sama melakukan latihan meditasi yang bertujuan untuk menenangkan batin serta menemukan kualitas sejati yang sudah ada di dalam diri kita. \nTerbuka untuk umum dan bebas biaya\nRabu\, 10 September 2025\n19:00-20:00 WIB \nInfo:\n* WA: 0878 0692 2450\n* ⁠Website: http://www.tergarindonesia.com/events/\n* ⁠Organized by @tergarindonesia
URL:https://tergarindonesia.com/event/latihan-meditasi-bersama-10-september-2025/
CATEGORIES:Latihan Meditasi Bersama,Meditasi Umum
ATTACH;FMTTYPE=image/jpeg:https://tergarindonesia.com/wp-content/uploads/2025/09/WhatsApp-Image-2025-09-10-at-09.01.32-e1757477667779.jpeg
END:VEVENT
BEGIN:VEVENT
DTSTART;TZID=UTC:20250915T193000
DTEND;TZID=UTC:20250915T203000
DTSTAMP:20260421T165244
CREATED:20250915T044941Z
LAST-MODIFIED:20250915T044941Z
UID:2667-1757964600-1757968200@tergarindonesia.com
SUMMARY:Gembira Dalam Ketidak kekalan
DESCRIPTION:Diskusi dan Latihan meditasi JOL 3. Hanya untuk Alumni JOL 3. \nOrang-orang yang hadir di kehidupan selalu berubah\nTubuh kita juga selalu berubah\, sakit\, sembuh\, menua\nSituasi di sekitar juga selalu berubah\, aman\, banjir\, situasi yang tidak kondusif\nBagaimana tetap gembira di dalam ketidak kekalan \nSenin\, 15 September 2025\, 19:30-20:30 WIB\nDipandu oleh Gunawan (Host) dan Clay (Co-host). \nPendaftaran : 0878 0692 2450 (WA) \nOrganized by: @tergarindonesia
URL:https://tergarindonesia.com/event/gembira-dalam-ketidak-kekalan/
CATEGORIES:Latihan Meditasi Bersama,Latihan Meditasi JOL 3
ATTACH;FMTTYPE=image/jpeg:https://tergarindonesia.com/wp-content/uploads/2025/09/WhatsApp-Image-2025-09-15-at-09.21.45-e1757911758649.jpeg
END:VEVENT
BEGIN:VEVENT
DTSTART;TZID=UTC:20250916T190000
DTEND;TZID=UTC:20250916T200000
DTSTAMP:20260421T165244
CREATED:20250916T033533Z
LAST-MODIFIED:20250916T033533Z
UID:2670-1758049200-1758052800@tergarindonesia.com
SUMMARY:My Meditation Journey
DESCRIPTION:Terbuka untuk umum dan bebas biaya\nSelasa\, 16 September 2025\n19:00-20:00 WIB\nDipandu oleh Anthony. \nVia ZOOM\, meeting ID : 821 1856 5010\nPasscode : kesadaran \nInfo:\n•⁠ ⁠WA: 0878 0692 2450\n•⁠ ⁠⁠Website: http://www.tergarindonesia.com/events/\n•⁠ ⁠⁠Organized by @tergarindonesia
URL:https://tergarindonesia.com/event/my-meditation-journey/
CATEGORIES:Latihan Meditasi Bersama,Meditasi Umum
ATTACH;FMTTYPE=image/jpeg:https://tergarindonesia.com/wp-content/uploads/2025/09/WhatsApp-Image-2025-09-16-at-10.27.12-e1757993705735.jpeg
END:VEVENT
BEGIN:VEVENT
DTSTART;TZID=UTC:20250917T193000
DTEND;TZID=UTC:20250917T210000
DTSTAMP:20260421T165244
CREATED:20250917T044005Z
LAST-MODIFIED:20250917T044005Z
UID:2675-1758137400-1758142800@tergarindonesia.com
SUMMARY:Recognize & Connect
DESCRIPTION:Kita sudah mempunyai kualitas-kualitas mendasar yang sangat berharga dan senantiasa bersama kita setiap saat. Kualitas-kualitas ini sangat membantu kita dalam menguraikan dan bahkan dapat membebaskan kita dari masalah2 kehidupan. Kita selalu mencari solusi2 sementara diluar diri kita.\nBahkan kita jarang dan tidak pernah mengenali kualitas2 ini. \nMari kita share\, diskusi dan berlatih meditasi bersama\, bagaimana kualitas2 ini dapat mentransformasi hidup kita lebih baik. \nWaktu : Rabu\, 17 September 2025\nJam 19:30 – 21:00 WIB\nBebas Biaya dan terbuka untuk umum. \nAlamat:\nJl. Daan Mogot\, Perumahan Green Mansion\, Boulevard Raya No.35\, Jakarta Barat\, DKI Jakarta.\nMaps: https://goo.gl/maps/maVW3Y3upjbVouqm8 \nInfo:\n083805263185\nhttps://tergarindonesia.com/events/\n@TergarIndonesia
URL:https://tergarindonesia.com/event/recognize-connect/
CATEGORIES:Latihan Meditasi Bersama,Meditasi Umum
ATTACH;FMTTYPE=image/jpeg:https://tergarindonesia.com/wp-content/uploads/2025/09/WhatsApp-Image-2025-09-17-at-10.05.26-e1758083967842.jpeg
END:VEVENT
BEGIN:VEVENT
DTSTART;TZID=UTC:20250921T143000
DTEND;TZID=UTC:20250921T160000
DTSTAMP:20260421T165244
CREATED:20250917T073654Z
LAST-MODIFIED:20250917T074252Z
UID:2678-1758465000-1758470400@tergarindonesia.com
SUMMARY:Latihan Yin Yoga 21 September 2025
DESCRIPTION:Untuk kesehatan punggung \nTerbuka Untuk Umum \nAktivitas duduk yang terlalu lama bagi manusia modern sering kali mengakibatkan gangguan kesehatan.\nBagi Anda yang sudah terbiasa bekerja sangat lama di depan komputer\, akan terasa kram pada titik otot tertentu.\nOleh karena itu\, sangat penting bagi kita untuk mulai melakukan kegiatan olah fisik seperti yoga.\nLatihan ini juga membantu jalannya energi bagi fungsi organ yang optimal\, istirahat yang lebih baik\, serta mendukung latihan meditasi karena dapat duduk dengan lebih nyaman.\nJadi dengan melakukan yoga\, kita tidak hanya mengolah fisik kita saja. Tapi batin pun akan mendapatkan manfaatnya. \nYoga yang akan dibawakan adalah Yin Yoga. Tipe yoga ini merupakan jenis yoga dengan melibatkan pose-pose ringan namun cukup dalam. Sehingga\, yoga ini cocok bagi Anda yang menginginkan gerakan dengan tempo yang lebih lambat dan santai. \nMari kita ikuti Latihan Yin Yoga pada:\nMinggu\, 21 September 2025\nJam: 14.30 – 16.00 WIB\nBersama Siska Marsudhy @siska00 \nBiaya: Rp 50.000/orang/sesi.\nHarap mendaftar melalui link berikut:\nhttps://bit.ly/yogatergar\nKami tidak menyediakan matras yoga jadi silakan membawa matras yoga masing-masing. \nLokasi: Tergar Meditation Centre Jakarta. Alamat: Jl. Daan Mogot\, Perumahan Green Mansion\, Boulevard Raya No.35\, Jakarta Barat\nMaps: https://goo.gl/maps/maVW3Y3upjbVouqm8 \nInfo: 0838 0526 3185 (WA) \nOrganized by Komunitas Meditasi @tergarindonesia
URL:https://tergarindonesia.com/event/2678/
ATTACH;FMTTYPE=image/jpeg:https://tergarindonesia.com/wp-content/uploads/2025/09/WhatsApp-Image-2025-09-17-at-14.34.41-e1758094582338.jpeg
END:VEVENT
BEGIN:VEVENT
DTSTART;TZID=UTC:20250924T193000
DTEND;TZID=UTC:20250924T210000
DTSTAMP:20260421T165244
CREATED:20250923T101607Z
LAST-MODIFIED:20250923T101607Z
UID:2684-1758742200-1758747600@tergarindonesia.com
SUMMARY:Latihan Meditasi Bersama 24 September 2025
DESCRIPTION:Mari bersama-sama melakukan latihan meditasi yang bertujuan untuk menenangkan batin serta menemukan kualitas sejati yang sudah ada di dalam diri kita. \nTerbuka untuk umum dan bebas biaya\nRabu\, 24 September 2025\n19:30-21:00 WIB \nInfo:\n* WA: 0838 0526 3185\n* ⁠Website: http://www.tergarindonesia.com/events/\n* ⁠Organized by @tergarindonesia
URL:https://tergarindonesia.com/event/latihan-meditasi-bersama-24-september-2025/
CATEGORIES:Latihan Meditasi Bersama,Meditasi Umum
ATTACH;FMTTYPE=image/jpeg:https://tergarindonesia.com/wp-content/uploads/2025/09/WhatsApp-Image-2025-09-23-at-10.51.10-e1758622536213.jpeg
END:VEVENT
BEGIN:VEVENT
DTSTART;TZID=UTC:20250930T190000
DTEND;TZID=UTC:20250930T200000
DTSTAMP:20260421T165244
CREATED:20250930T033800Z
LAST-MODIFIED:20250930T033800Z
UID:2687-1759258800-1759262400@tergarindonesia.com
SUMMARY:Anything Can Happen
DESCRIPTION:Terbuka untuk umum dan bebas biaya\nSelasa\, 30 September 2025 19:00-20:00 WIB\nDipandu oleh Linda (host) dan Eripin (co-host) \nVia ZOOM\, meeting ID : 821 1856 5010\nPasscode : kesadaran \nInfo:\n* WA: 0878 0692 2480\n* ⁠Website: http://www.tergarindonesia.com/events/\n* ⁠Organized by @tergarindonesia
URL:https://tergarindonesia.com/event/anything-can-happen/
CATEGORIES:Latihan Meditasi Bersama,Meditasi Umum
ATTACH;FMTTYPE=image/jpeg:https://tergarindonesia.com/wp-content/uploads/2025/09/WhatsApp-Image-2025-09-30-at-09.43.39-e1759202860944.jpeg
END:VEVENT
END:VCALENDAR