BEGIN:VCALENDAR
VERSION:2.0
PRODID:-//Tergar Indonesia - ECPv6.15.20//NONSGML v1.0//EN
CALSCALE:GREGORIAN
METHOD:PUBLISH
X-WR-CALNAME:Tergar Indonesia
X-ORIGINAL-URL:https://tergarindonesia.com
X-WR-CALDESC:Events for Tergar Indonesia
REFRESH-INTERVAL;VALUE=DURATION:PT1H
X-Robots-Tag:noindex
X-PUBLISHED-TTL:PT1H
BEGIN:VTIMEZONE
TZID:UTC
BEGIN:STANDARD
TZOFFSETFROM:+0000
TZOFFSETTO:+0000
TZNAME:UTC
DTSTART:20240101T000000
END:STANDARD
END:VTIMEZONE
BEGIN:VEVENT
DTSTART;TZID=UTC:20250604T193000
DTEND;TZID=UTC:20250604T210000
DTSTAMP:20260421T212142
CREATED:20250603T044505Z
LAST-MODIFIED:20250603T044505Z
UID:2572-1749065400-1749070800@tergarindonesia.com
SUMMARY:Latihan meditasi JOL 1 Bersama 4 Juni 2025
DESCRIPTION:Latihan meditasi JOL 1 Bersama \nWaktu : Rabu\, 4 Juni 2025\nJam 19:30 – 21:00 WIB\nBebas Biaya dan terbuka untuk umum. \nAlamat:\nJl. Daan Mogot\, Perumahan Green Mansion\, Boulevard Raya No.35\, Jakarta Barat\, DKI Jakarta.\nMaps: https://goo.gl/maps/maVW3Y3upjbVouqm8 \nInfo:\n083806922450\nhttps://tergarindonesia.com/events/\n@TergarIndonesia
URL:https://tergarindonesia.com/event/latihan-meditasi-jol-1-bersama-4-juni-2025/
CATEGORIES:Latihan Meditasi Bersama,Meditasi Umum
ATTACH;FMTTYPE=image/jpeg:https://tergarindonesia.com/wp-content/uploads/2025/06/WhatsApp-Image-2025-06-02-at-16.13.37-e1748925873557.jpeg
END:VEVENT
BEGIN:VEVENT
DTSTART;TZID=UTC:20250610T190000
DTEND;TZID=UTC:20250610T200000
DTSTAMP:20260421T212142
CREATED:20250610T033312Z
LAST-MODIFIED:20250610T033312Z
UID:2578-1749582000-1749585600@tergarindonesia.com
SUMMARY:Short Times\, Many Times
DESCRIPTION:Terbuka untuk umum dan bebas biaya. Selasa\, 10 Juni 2025\, 19:00-20:00 WIB. Dipandu oleh Anthony. \nVia ZOOM\, meeting ID : 821 1856 5010\nPasscode : kesadaran \nInfo :\n•⁠ ⁠WA : 0838 0692 2450\n•⁠ ⁠Website : http://www.tergarindonesia.com/events/\n•⁠ ⁠Organized by @tergarindonesia
URL:https://tergarindonesia.com/event/short-times-many-times/
CATEGORIES:Latihan Meditasi Bersama,Meditasi Umum
ATTACH;FMTTYPE=image/jpeg:https://tergarindonesia.com/wp-content/uploads/2025/06/WhatsApp-Image-2025-06-10-at-09.45.50-e1749526367523.jpeg
END:VEVENT
BEGIN:VEVENT
DTSTART;TZID=UTC:20250611T193000
DTEND;TZID=UTC:20250611T210000
DTSTAMP:20260421T212142
CREATED:20250610T033144Z
LAST-MODIFIED:20250610T033144Z
UID:2575-1749670200-1749675600@tergarindonesia.com
SUMMARY:Monkey\, Let's Be Friend
DESCRIPTION:Apakah ia adalah musuh saya? Bagaimana cara saya menghadapi si “monyet gila” ini?\nMari kita temukan bersama. \nLatihan meditasi dan studi bersama\nWaktu : Rabu\, 11 Juni 2025\nJam 19:30 – 21:00 WIB\nBebas Biaya dan terbuka untuk umum. \nAlamat:\nJl. Daan Mogot\, Perumahan Green Mansion Boulevard Raya No.35\, Jakarta Barat\, DKI Jakarta.\nMaps: https://goo.gl/maps/maVW3Y3upjbVouqm8 \nInfo:\nTlp. 021-29025314 | WA. 083806922450\nhttps://tergarindonesia.com/events/\n@TergarIndonesia
URL:https://tergarindonesia.com/event/monkey-lets-be-friend/
CATEGORIES:Latihan Meditasi Bersama,Meditasi Umum
ATTACH;FMTTYPE=image/jpeg:https://tergarindonesia.com/wp-content/uploads/2025/06/WhatsApp-Image-2025-06-08-at-18.07.15-e1749526283829.jpeg
END:VEVENT
BEGIN:VEVENT
DTSTART;TZID=UTC:20250618T193000
DTEND;TZID=UTC:20250618T210000
DTSTAMP:20260421T212142
CREATED:20250616T044319Z
LAST-MODIFIED:20250616T044319Z
UID:2582-1750275000-1750280400@tergarindonesia.com
SUMMARY:Latihan meditasi JOL 1 Bersama 18 Juni 2025
DESCRIPTION:Waktu : Rabu\, 18 Juni 2025\nJam 19:30 – 21:00 WIB\nBebas Biaya dan terbuka untuk umum. \nAlamat:\nJl. Daan Mogot\, Perumahan Green Mansion\, Boulevard Raya No.35\, Jakarta Barat\, DKI Jakarta.\nMaps: https://goo.gl/maps/maVW3Y3upjbVouqm8 \nInfo:\n083806922450\nhttps://tergarindonesia.com/events/\n@TergarIndonesia
URL:https://tergarindonesia.com/event/latihan-meditasi-jol-1-bersama-18-juni-2025/
CATEGORIES:Latihan Meditasi Bersama,Meditasi Umum
ATTACH;FMTTYPE=image/jpeg:https://tergarindonesia.com/wp-content/uploads/2025/06/WhatsApp-Image-2025-06-15-at-17.29.51-e1750048965934.jpeg
END:VEVENT
BEGIN:VEVENT
DTSTART;TZID=UTC:20250623T193000
DTEND;TZID=UTC:20250623T203000
DTSTAMP:20260421T212142
CREATED:20250623T032456Z
LAST-MODIFIED:20250623T032456Z
UID:2585-1750707000-1750710600@tergarindonesia.com
SUMMARY:"Embrace Your Anger: Transformasi dengan Welas Asih"
DESCRIPTION:Diskusi dan Latihan meditasi JOL 2. Hanya untuk Alumni JOL 2. \nKita semua pernah merasakan marah. Tapi\, tahukah kamu bahwa di balik marah\, ada cinta kasih dan welas asih? \nHari ini\, dalam meditasi ini\, kita akan berlatih untuk menyadari rasa marah kita\, tanpa terjebak di dalamnya\, dan mengubahnya menjadi kewelasasihan. \nDengan latihan ini\, kita bisa lebih bijak dalam bertindak dan merespons emosi kita–bukannya terhanyut bersama kemarahan. \nSenin\, 23 Juni 2025\, 19:30-20:30 WIB\nDipandu oleh Hemmarata (Host) dan Arief (Co-host) \nPendaftaran : 0838 0692 2450 (WA) \nOrganized by: @tergarindonesia
URL:https://tergarindonesia.com/event/embrace-your-anger-transformasi-dengan-welas-asih/
CATEGORIES:Latihan Meditasi JOL 2
ATTACH;FMTTYPE=image/jpeg:https://tergarindonesia.com/wp-content/uploads/2025/06/WhatsApp-Image-2025-06-23-at-10.01.20-e1750649058375.jpeg
END:VEVENT
BEGIN:VEVENT
DTSTART;TZID=UTC:20250624T190000
DTEND;TZID=UTC:20250624T200000
DTSTAMP:20260421T212142
CREATED:20250624T080436Z
LAST-MODIFIED:20250624T080436Z
UID:2589-1750791600-1750795200@tergarindonesia.com
SUMMARY:Turning Obstacles into Opportunities
DESCRIPTION:Terbuka untuk umum dan bebas biaya. Selasa\, 24 Juni 2025\, 19:00-20:00 WIB. Dipandu oleh Gunawan (Host) & Eripin (Co-Host) \nVia ZOOM\, meeting ID : 821 1856 5010\nPasscode : kesadaran \nInfo :\n•⁠ ⁠WA : 0838 0692 2450\n•⁠ ⁠Website : http://www.tergarindonesia.com/events/\n•⁠ ⁠Organized by @tergarindonesia
URL:https://tergarindonesia.com/event/turning-obstacles-into-opportunities/
CATEGORIES:Latihan Meditasi Bersama,Meditasi Umum
ATTACH;FMTTYPE=image/jpeg:https://tergarindonesia.com/wp-content/uploads/2025/06/WhatsApp-Image-2025-06-24-at-13.00.49-e1750752253124.jpeg
END:VEVENT
BEGIN:VEVENT
DTSTART;TZID=UTC:20250625T193000
DTEND;TZID=UTC:20250625T210000
DTSTAMP:20260421T212142
CREATED:20250625T033912Z
LAST-MODIFIED:20250625T033912Z
UID:2593-1750879800-1750885200@tergarindonesia.com
SUMMARY:Working with the mind (Mengelola batin)
DESCRIPTION:Apakah Anda ‘dikendalikan’ oleh pikiran atau Anda bisa ‘mengendalikan’ pikiran? Bagaimana cara yang lebih ‘sehat’ dalam mengelola pikiran dan batin kita? Mari berlatih dan berdiskusi bersama. \nLatihan meditasi dan studi bersama\nWaktu : Rabu\, 25 Juni 2025\nJam 19:30 – 21:00 WIB\nBebas Biaya dan terbuka untuk umum. \nAlamat:\nJl. Daan Mogot\, Perumahan Green Mansion Boulevard Raya No.35\, Jakarta Barat\, DKI Jakarta.\nMaps: https://goo.gl/maps/maVW3Y3upjbVouqm8 \nInfo:\nTlp. 021-29025314 | WA. 083806922450\nhttps://tergarindonesia.com/events/\n@TergarIndonesia
URL:https://tergarindonesia.com/event/working-with-the-mind-mengelola-batin/
CATEGORIES:Latihan Meditasi Bersama,Meditasi Umum
ATTACH;FMTTYPE=image/jpeg:https://tergarindonesia.com/wp-content/uploads/2025/06/WhatsApp-Image-2025-06-25-at-07.04.00-e1750822729399.jpeg
END:VEVENT
END:VCALENDAR