BEGIN:VCALENDAR
VERSION:2.0
PRODID:-//Tergar Indonesia - ECPv6.15.20//NONSGML v1.0//EN
CALSCALE:GREGORIAN
METHOD:PUBLISH
X-ORIGINAL-URL:https://tergarindonesia.com
X-WR-CALDESC:Events for Tergar Indonesia
REFRESH-INTERVAL;VALUE=DURATION:PT1H
X-Robots-Tag:noindex
X-PUBLISHED-TTL:PT1H
BEGIN:VTIMEZONE
TZID:UTC
BEGIN:STANDARD
TZOFFSETFROM:+0000
TZOFFSETTO:+0000
TZNAME:UTC
DTSTART:20240101T000000
END:STANDARD
END:VTIMEZONE
BEGIN:VEVENT
DTSTART;TZID=UTC:20250409T193000
DTEND;TZID=UTC:20250409T210000
DTSTAMP:20260422T000608
CREATED:20250409T044132Z
LAST-MODIFIED:20250409T044132Z
UID:2538-1744227000-1744232400@tergarindonesia.com
SUMMARY:Latihan meditasi JOL 1 Bersama 9 April 2025
DESCRIPTION:Latihan meditasi JOL 1 Bersama \nWaktu : Rabu\, 9 April 2025\nJam 19:30 – 21:00 WIB\nBebas Biaya dan terbuka untuk umum. \nAlamat:\nJl. Daan Mogot\, Perumahan Green Mansion Boulevard Raya No.35\, Jakarta Barat\, DKI Jakarta.\nMaps: https://goo.gl/maps/maVW3Y3upjbVouqm8 \nInfo:\n083806922450\nhttps://tergarindonesia.com/events/\n@TergarIndonesia
URL:https://tergarindonesia.com/event/latihan-meditasi-jol-1-bersama-9-april-2025/
CATEGORIES:Latihan Meditasi Bersama,Meditasi Umum
ATTACH;FMTTYPE=image/jpeg:https://tergarindonesia.com/wp-content/uploads/2025/04/WhatsApp-Image-2025-04-02-at-15.24.05-e1744173667657.jpeg
END:VEVENT
BEGIN:VEVENT
DTSTART;TZID=UTC:20250413T133000
DTEND;TZID=UTC:20250413T170000
DTSTAMP:20260422T000608
CREATED:20250409T043938Z
LAST-MODIFIED:20250409T043938Z
UID:2533-1744551000-1744563600@tergarindonesia.com
SUMMARY:Ajaran “4 Kebenaran Mulia” & Transmisi “Stainless Prajna”
DESCRIPTION:Oleh Khenpo Pema Woser \nJadwal:\nMinggu\, 13 April 2025\nJam 13:30 – 15:30 WIB Ajaran 4 Kebenaran Mulia\nJam 15:45 – 17:00 WIB Transmisi “Prajna tanpa Noda” \n4 Kebenaran Mulia merupakan ajaran pertama dari Buddha Sakyamuni setelah merealisasi pencerahan sempurna\, yang merupakan landasan dan inti dari seluruh ajaran Buddha.\nSetelah pengajaran\, Khenpo Pema Woser akan memberikan Transmisi Bacaan (Tib.lung) untuk buku Mingyur Rinpoche yang berdasarkan pada teks Abhidharma “Prajna tanpa Noda: Tahapan Meditasi pada Khazanah Abhidharma”. Transmisi bacaan/lisan memiliki arti penting dalam Vajrayana & dalam tradisi meditasi Mingyur Rinpoche\, karena hal ini memastikan ajaran diturunkan dari guru ke murid dalam silsilah yang tak terputus dan otentik. Melalui berkah silsilah demikian\, akan memungkinkan kita membaca dan mempelajari teks tersebut untuk memahami makna terdalamnya. \nTentang Khenpo:\nKhenpo Pema Woser lahir di Tsum\, perbatasan antara Tibet & Nepal. Beliau kemudian masuk ke Biara Osel Ling dan kemudian belajar di perguruan tinggi (shedra) di biara Sherab Ling\, India. Setelah selesai dan menerima gelar Khenpo pada tahun 2010\, Khenpo Pema Woser bekerja secara dekat dengan Mingyur Rinpoche untuk mewujudkan visi Rinpoche di Tergar Osel Ling\, terutama dalam mengajar logika\, debat\, dan epistemologi\, serta melayani dalam berbagai peran kepemimpinan. Selain program studi tradisional\, Khenpo telah mempelajari banyak sistem praktik penting\, termasuk Lima Khazanah Agung oleh Jamgon Kongtrul Lodro Thaye serta berbagai komentar tentang Mahamudra yang diberikan oleh HH.Dalai Lama\, Tai Situ Rinpoche\, serta Mingyur Rinpoche. \nNotes:\n– Tanpa registrasi.\n– Hanya secara Offline \nLokasi:\nTergar Meditation Center\nPerumahan Green Mansion\, Boulevard Raya No.35\nJakarta 11710 \nInfo:\n0838 0692 2450 (WA) \n@TergarIndonesia
URL:https://tergarindonesia.com/event/ajaran-4-kebenaran-mulia-transmisi-stainless-prajna/
CATEGORIES:Dharma Study,Events
ATTACH;FMTTYPE=image/jpeg:https://tergarindonesia.com/wp-content/uploads/2025/04/WhatsApp-Image-2025-04-08-at-18.21.19-e1744173537465.jpeg
END:VEVENT
BEGIN:VEVENT
DTSTART;TZID=UTC:20250414T193000
DTEND;TZID=UTC:20250414T203000
DTSTAMP:20260422T000608
CREATED:20250414T091559Z
LAST-MODIFIED:20250414T091559Z
UID:2541-1744659000-1744662600@tergarindonesia.com
SUMMARY:Luminous Me: We are more than who we think we are
DESCRIPTION:Diskusi dan Latihan meditasi JOL 3. Hanya untuk Alumni JOL 3. \nSenin\, 14 April 2025\, 19:30-20:30 WIB\nDipandu oleh Mustafa (Host) dan Eripin (Co-host). \nPendaftaran : 0838 0692 2450 (WA) \nOrganized by: @tergarindonesia
URL:https://tergarindonesia.com/event/luminous-me-we-are-more-than-who-we-think-we-are/
CATEGORIES:Latihan Meditasi Bersama,Latihan Meditasi JOL 3
ATTACH;FMTTYPE=image/jpeg:https://tergarindonesia.com/wp-content/uploads/2025/04/WhatsApp-Image-2025-04-14-at-09.17.41-e1744622134544.jpeg
END:VEVENT
BEGIN:VEVENT
DTSTART;TZID=UTC:20250415T190000
DTEND;TZID=UTC:20250415T200000
DTSTAMP:20260422T000608
CREATED:20250414T091736Z
LAST-MODIFIED:20250414T091736Z
UID:2544-1744743600-1744747200@tergarindonesia.com
SUMMARY:"Ruwet di Batin? Nggak Masalah\, Kok"
DESCRIPTION:Siapa bilang meditasi itu harus selalu tenang dan damai?\nKadang saat duduk diam\, justru muncul semua keruwetan yang selama ini nggak sempat kita perhatikan.\nDan itu bukan tanda gagal—itu justru bagian dari latihan. \nMeditasi bukan soal mengusir pikiran atau perasaan yang nggak nyaman.\nTapi soal hadir dan sadar atas apa yang sedang terjadi di dalam diri.\nBatin boleh ruwet\, yang penting kita nggak ikut terseret. Kita temani. \nLuangkan waktu sejenak untuk duduk diam.\nBukan untuk mengusir yang ruwet\, tapi untuk menyadarinya.\nKarena keruwetan batin bukan penghalang—ia adalah pintu masuk\, objek yang bisa mengantar kita kembali terhubung dengan kesadaran. \nTerbuka untuk umum dan bebas biaya. Selasa\, 15 April 2025\, 19:00-20:00 WIB. Dipandu oleh Hemmarata dan Norlela \nVia ZOOM\, meeting ID : 821 1856 5010\nPasscode : kesadaran \nInfo :\n– WA : 0838 0692 2450\n– Website : http://www.tergarindonesia.com/events/\n* Organized by @tergarindonesia
URL:https://tergarindonesia.com/event/ruwet-di-batin-nggak-masalah-kok/
CATEGORIES:Latihan Meditasi Bersama,Meditasi Umum
ATTACH;FMTTYPE=image/jpeg:https://tergarindonesia.com/wp-content/uploads/2025/04/WhatsApp-Image-2025-04-14-at-16.07.23-e1744622234335.jpeg
END:VEVENT
BEGIN:VEVENT
DTSTART;TZID=UTC:20250416T193000
DTEND;TZID=UTC:20250416T210000
DTSTAMP:20260422T000608
CREATED:20250415T111439Z
LAST-MODIFIED:20250415T111439Z
UID:2547-1744831800-1744837200@tergarindonesia.com
SUMMARY:Berteman dengan Emosi
DESCRIPTION:Apa yang Anda lakukan saat emosi muncul? Apakah Anda melampiaskan emosi Anda atau menekan emosi Anda? Apakah ada cara lain untuk menghadapi emosi? Mari kita sejenak meluangkan waktu untuk berlatih dan berdiskusi bersama menghadapi emosi. \nLatihan meditasi dan studi bersama\nWaktu : Rabu\, 16 April 2025\nJam 19:30 – 21:00 WIB\nBebas Biaya dan terbuka untuk umum. \nAlamat:\nJl. Daan Mogot\, Perumahan Green Mansion Boulevard Raya No.35\, Jakarta Barat\, DKI Jakarta.\nMaps: https://goo.gl/maps/maVW3Y3upjbVouqm8 \nInfo:\nTlp. 021-29025314 | WA. 083806922450\nhttps://tergarindonesia.com/events/\n@TergarIndonesia
URL:https://tergarindonesia.com/event/berteman-dengan-emosi/
CATEGORIES:Meditasi Umum
ATTACH;FMTTYPE=image/jpeg:https://tergarindonesia.com/wp-content/uploads/2025/04/WhatsApp-Image-2025-04-14-at-20.08.36-e1744715632934.jpeg
END:VEVENT
BEGIN:VEVENT
DTSTART;TZID=UTC:20250423T193000
DTEND;TZID=UTC:20250423T210000
DTSTAMP:20260422T000608
CREATED:20250423T044158Z
LAST-MODIFIED:20250423T044158Z
UID:2552-1745436600-1745442000@tergarindonesia.com
SUMMARY:Latihan meditasi JOL 1 Bersama 23 April 2025
DESCRIPTION:Waktu : Rabu\, 23 April 2025\nJam 19:30 – 21:00 WIB\nBebas Biaya dan terbuka untuk umum. \nAlamat:\nJl. Daan Mogot\, Perumahan Green Mansion\, Boulevard Raya No.35\, Jakarta Barat\, DKI Jakarta.\nMaps: https://goo.gl/maps/maVW3Y3upjbVouqm8 \nInfo:\n083806922450\nhttps://tergarindonesia.com/events/\n@TergarIndonesia
URL:https://tergarindonesia.com/event/latihan-meditasi-jol-1-bersama-23-april-2025/
CATEGORIES:Latihan Meditasi Bersama,Meditasi Umum
ATTACH;FMTTYPE=image/jpeg:https://tergarindonesia.com/wp-content/uploads/2025/04/WhatsApp-Image-2025-04-21-at-23.55.06-e1745383301909.jpeg
END:VEVENT
BEGIN:VEVENT
DTSTART;TZID=UTC:20250428T193000
DTEND;TZID=UTC:20250428T203000
DTSTAMP:20260422T000608
CREATED:20250428T104235Z
LAST-MODIFIED:20250428T104235Z
UID:2555-1745868600-1745872200@tergarindonesia.com
SUMMARY:Healthier Relationship With Ourselves
DESCRIPTION:Diskusi dan Latihan meditasi JOL 2. Hanya untuk Alumni JOL 2. \nSenin\, 28 April 2025\, 19:30-20:30 WIB\nDipandu oleh Susi (Host) dan Arief (Co-host) \nPendaftaran : 0838 0692 2450 (WA) \nOrganized by: @tergarindonesia
URL:https://tergarindonesia.com/event/healthier-relationship-with-ourselves/
CATEGORIES:Latihan Meditasi Bersama,Latihan Meditasi JOL 2
ATTACH;FMTTYPE=image/jpeg:https://tergarindonesia.com/wp-content/uploads/2025/04/WhatsApp-Image-2025-04-27-at-18.13.07-e1745836924855.jpeg
END:VEVENT
BEGIN:VEVENT
DTSTART;TZID=UTC:20250429T190000
DTEND;TZID=UTC:20250429T200000
DTSTAMP:20260422T000608
CREATED:20250428T104352Z
LAST-MODIFIED:20250428T104352Z
UID:2558-1745953200-1745956800@tergarindonesia.com
SUMMARY:The 3 Poisons
DESCRIPTION:Terbuka untuk umum dan bebas biaya. Selasa\, 29 April 2025\, 19:00-20:00 WIB. Dipandu oleh Anthony dan Gunawan \nVia ZOOM\, meeting ID : 821 1856 5010\nPasscode : kesadaran \nInfo :\n•⁠ ⁠WA : 0838 0692 2450\n•⁠ ⁠Website : http://www.tergarindonesia.com/events/\n•⁠ ⁠Organized by @tergarindonesia
URL:https://tergarindonesia.com/event/the-3-poisons/
CATEGORIES:Latihan Meditasi Bersama,Meditasi Umum
ATTACH;FMTTYPE=image/jpeg:https://tergarindonesia.com/wp-content/uploads/2025/04/WhatsApp-Image-2025-04-28-at-10.01.54-e1745837004625.jpeg
END:VEVENT
END:VCALENDAR