BEGIN:VCALENDAR
VERSION:2.0
PRODID:-//Tergar Indonesia - ECPv6.15.20//NONSGML v1.0//EN
CALSCALE:GREGORIAN
METHOD:PUBLISH
X-WR-CALNAME:Tergar Indonesia
X-ORIGINAL-URL:https://tergarindonesia.com
X-WR-CALDESC:Events for Tergar Indonesia
REFRESH-INTERVAL;VALUE=DURATION:PT1H
X-Robots-Tag:noindex
X-PUBLISHED-TTL:PT1H
BEGIN:VTIMEZONE
TZID:UTC
BEGIN:STANDARD
TZOFFSETFROM:+0000
TZOFFSETTO:+0000
TZNAME:UTC
DTSTART:20230101T000000
END:STANDARD
END:VTIMEZONE
BEGIN:VEVENT
DTSTART;TZID=UTC:20240904T193000
DTEND;TZID=UTC:20240904T210000
DTSTAMP:20260422T103201
CREATED:20240903T101805Z
LAST-MODIFIED:20240903T101805Z
UID:2373-1725478200-1725483600@tergarindonesia.com
SUMMARY:Hustle & Bustle Life
DESCRIPTION:How Meditation Transforms into Awareness & Calm Mind \nHiruk pikuk \, naik turun \, semua pergerakan perubahan dalam hidup terkadang membuat kita kelabakan\, kehilangan arah bahkan membuat masalah besar dan serius.\nBagaimana meditasi dapat mulai mengatasi masalah tsb?\nYuk kita sharing\, berdiskusi dan berlatih bersama. \nWaktu : Rabu\, 4 Sept 2024\nJam 19:30 – 21:00 WIB\nBebas Biaya dan terbuka untuk umum. \nAlamat:\nJl. Daan Mogot\, Perumahan Green Mansion Boulevard Raya No.35\, Jakarta Barat\, DKI Jakarta.\nMaps: https://goo.gl/maps/maVW3Y3upjbVouqm8 \nInfo:\nTlp. 021-29025314 | WA. 083806922450\nhttps://tergarindonesia.com/events/\n@TergarIndonesia
URL:https://tergarindonesia.com/event/hustle-bustle-life/
CATEGORIES:Latihan Meditasi Bersama,Meditasi Umum
ATTACH;FMTTYPE=image/jpeg:https://tergarindonesia.com/wp-content/uploads/2024/09/WhatsApp-Image-2024-09-03-at-11.05.35-e1725358659328.jpeg
END:VEVENT
BEGIN:VEVENT
DTSTART;TZID=UTC:20240909T193000
DTEND;TZID=UTC:20240909T203000
DTSTAMP:20260422T103201
CREATED:20240909T044051Z
LAST-MODIFIED:20240909T044051Z
UID:2376-1725910200-1725913800@tergarindonesia.com
SUMMARY:The Real Power is in You
DESCRIPTION:Diskusi dan Latihan meditasi JOL 3. Hanya untuk Alumni JOL 3. \nSenin\, 9 September 2024\, 19:30-20:30 WIB\nDipandu oleh Mustafa (Host) dan Clay (Co-host). \nPendaftaran : 0838 0692 2450 (WA) \nOrganized by: @tergarindonesia
URL:https://tergarindonesia.com/event/the-real-power-is-in-you/
CATEGORIES:Latihan Meditasi Bersama,Latihan Meditasi JOL 3
ATTACH;FMTTYPE=image/jpeg:https://tergarindonesia.com/wp-content/uploads/2024/09/WhatsApp-Image-2024-09-09-at-11.35.44-e1725856817807.jpeg
END:VEVENT
BEGIN:VEVENT
DTSTART;TZID=UTC:20240910T190000
DTEND;TZID=UTC:20240910T200000
DTSTAMP:20260422T103201
CREATED:20240909T113018Z
LAST-MODIFIED:20240909T113018Z
UID:2379-1725994800-1725998400@tergarindonesia.com
SUMMARY:Does Meditation Make You More Emotional?
DESCRIPTION:Latihan Meditasi Bersama. Terbuka untuk umum dan bebas biaya. \nSelasa\, 10 September 2024\, 19:00-20:00 WIB.\nDipandu oleh Anthony (Host) dan Gunawan (Co-Host) \nVia ZOOM\, meeting ID : 821 1856 5010\nPasscode : kesadaran \nInfo :\n•⁠ ⁠WA : 0838 0692 2450\n•⁠ ⁠Website : http://www.tergarindonesia.com/events/\n•⁠ ⁠Organized by @tergarindonesia
URL:https://tergarindonesia.com/event/does-meditation-make-you-more-emotional/
CATEGORIES:Latihan Meditasi Bersama,Meditasi Umum
ATTACH;FMTTYPE=image/jpeg:https://tergarindonesia.com/wp-content/uploads/2024/09/WhatsApp-Image-2024-09-09-at-15.24.36-e1725881387988.jpeg
END:VEVENT
BEGIN:VEVENT
DTSTART;TZID=UTC:20240911T193000
DTEND;TZID=UTC:20240911T210000
DTSTAMP:20260422T103201
CREATED:20240910T040239Z
LAST-MODIFIED:20240910T040239Z
UID:2382-1726083000-1726088400@tergarindonesia.com
SUMMARY:Latihan meditasi bersama JOL 1 11 September 2024
DESCRIPTION:Latihan meditasi bersama JOL 1 \nWaktu : Rabu\, 11 September 2024\nJam 19:30 – 21:00 WIB\nTerbuka untuk umum dan bebas Biaya. \nAlamat:\nJl. Daan Mogot\, Perumahan Green Mansion Boulevard Raya No.35\, Jakarta Barat\, DKI Jakarta.\nMaps: https://goo.gl/maps/maVW3Y3upjbVouqm8 \nInfo:\nTlp. 021-29025314 | WA. 083806922450\nhttps://tergarindonesia.com/events/\n@TergarIndonesia
URL:https://tergarindonesia.com/event/latihan-meditasi-bersama-jol-1-11-september-2024/
CATEGORIES:Latihan Meditasi Bersama,Meditasi Umum
ATTACH;FMTTYPE=image/jpeg:https://tergarindonesia.com/wp-content/uploads/2024/09/WhatsApp-Image-2024-09-10-at-10.49.50-e1725940928256.jpeg
END:VEVENT
BEGIN:VEVENT
DTSTART;TZID=UTC:20240918T193000
DTEND;TZID=UTC:20240918T210000
DTSTAMP:20260422T103201
CREATED:20240917T094408Z
LAST-MODIFIED:20240917T094408Z
UID:2390-1726687800-1726693200@tergarindonesia.com
SUMMARY:Mengalami Fenomena Tanpa Melekat
DESCRIPTION:Latihan meditasi dan studi bersama\nWaktu : Rabu\, 18 September 2024\nJam 19:30 – 21:00 WIB\nBebas Biaya dan terbuka untuk umum. \nAlamat:\nJl. Daan Mogot\, Perumahan Green Mansion Boulevard Raya No.35\, Jakarta Barat\, DKI Jakarta.\nMaps: https://goo.gl/maps/maVW3Y3upjbVouqm8 \nInfo:\nTlp. 021-29025314 | WA. 083806922450\nhttps://tergarindonesia.com/events/\n@TergarIndonesia
URL:https://tergarindonesia.com/event/mengalami-fenomena-tanpa-melekat/
CATEGORIES:Latihan Meditasi Bersama,Meditasi Umum
ATTACH;FMTTYPE=image/jpeg:https://tergarindonesia.com/wp-content/uploads/2024/09/WhatsApp-Image-2024-09-17-at-12.39.47-e1726566221795.jpeg
END:VEVENT
BEGIN:VEVENT
DTSTART;TZID=UTC:20240923T080000
DTEND;TZID=UTC:20240923T170000
DTSTAMP:20260422T103201
CREATED:20240923T031407Z
LAST-MODIFIED:20240923T031407Z
UID:2394-1727078400-1727110800@tergarindonesia.com
SUMMARY:The Immeasurable Joy
DESCRIPTION:Diskusi dan Latihan meditasi JOL 2. Hanya untuk Alumni JOL 2. \nSenin\, 23 September 2024\, 19:30-20:30 WIB\nDipandu oleh Susi (Host)dan Arief (Co-host). \nPendaftaran : 0838 0692 2450 (WA) \nOrganized by: @tergarindonesia
URL:https://tergarindonesia.com/event/the-immeasurable-joy/
CATEGORIES:Latihan Meditasi Bersama,Latihan Meditasi JOL 2
ATTACH;FMTTYPE=image/jpeg:https://tergarindonesia.com/wp-content/uploads/2024/09/WhatsApp-Image-2024-09-22-at-14.23.07-e1727061230750.jpeg
END:VEVENT
BEGIN:VEVENT
DTSTART;TZID=UTC:20240924T190000
DTEND;TZID=UTC:20240924T200000
DTSTAMP:20260422T103201
CREATED:20240924T042220Z
LAST-MODIFIED:20240924T042220Z
UID:2402-1727204400-1727208000@tergarindonesia.com
SUMMARY:Terampil Menghadapi Perubahan?
DESCRIPTION:Banyak dari kita merasa berat menerima perubahan\, terutama ketika perubahan itu terjadi secara mendadak atau membawa kita ke arah yang tidak diinginkan.Kita tidak bisa menghindari perubahan\, karena perubahan adalah bagian dari Hukum Kehidupan yang berlaku bagi siapa saja\, di mana saja\, kapan saja\, dan dalam kondisi apa pun—baik kita siap atau tidak. \nSebenarnya\, yang menjadi persoalan bukanlah apakah kita bisa menghindari atau dengan mudah menerima perubahan\, melainkan bagaimana keterampilan kita dalam menyikapi perubahan apa adanya. \nMari berlatih meditasi bersama untuk mengembangkan keterampilan ini\, agar kita dapat menghadapi perubahan tanpa penolakan atau menyerah begitu saja. \nTerbuka untuk umum dan bebas biaya. Selasa\, 24 September 2024\, 19:00-20:00 WIB. Dipandu oleh Hemmarata dan Norlela \nVia ZOOM\, meeting ID : 821 1856 5010\nPasscode : kesadaran \nInfo :\n– WA : 0838 0692 2450\n– Website : http://www.tergarindonesia.com/events/\n* Organized by @tergarindonesia
URL:https://tergarindonesia.com/event/terampil-menghadapi-perubahan/
CATEGORIES:Latihan Meditasi Bersama,Meditasi Umum
ATTACH;FMTTYPE=image/jpeg:https://tergarindonesia.com/wp-content/uploads/2024/09/WhatsApp-Image-2024-09-23-at-20.23.52-e1727151709960.jpeg
END:VEVENT
BEGIN:VEVENT
DTSTART;TZID=UTC:20240925T193000
DTEND;TZID=UTC:20240925T210000
DTSTAMP:20260422T103201
CREATED:20240923T031559Z
LAST-MODIFIED:20240923T031559Z
UID:2397-1727292600-1727298000@tergarindonesia.com
SUMMARY:Latihan JOL 1 Bersama 25 September 2024
DESCRIPTION:Latihan meditasi bersama JOL 1 \nWaktu : Rabu\, 25 September 2024\nJam 19:30 – 21:00 WIB\nBebas Biaya dan terbuka untuk umum. \nAlamat:\nJl. Daan Mogot\, Perumahan Green Mansion Boulevard Raya No.35\, Jakarta Barat\, DKI Jakarta.\nMaps: https://goo.gl/maps/maVW3Y3upjbVouqm8 \nInfo:\nTlp. 021-29025314 | WA. 083806922450\nhttps://tergarindonesia.com/events/\n@TergarIndonesia
URL:https://tergarindonesia.com/event/latihan-jol-1-bersama-25-september-2024/
CATEGORIES:Latihan Meditasi Bersama,Meditasi Umum
ATTACH;FMTTYPE=image/jpeg:https://tergarindonesia.com/wp-content/uploads/2024/09/WhatsApp-Image-2024-09-22-at-14.24.27-e1727061328353.jpeg
END:VEVENT
BEGIN:VEVENT
DTSTART;TZID=UTC:20240928T090000
DTEND;TZID=UTC:20240929T180000
DTSTAMP:20260422T103201
CREATED:20240912T032259Z
LAST-MODIFIED:20240912T032259Z
UID:2386-1727514000-1727632800@tergarindonesia.com
SUMMARY:Workshop Meditasi Joy of Living level 1: Menenangkan Batin
DESCRIPTION:Workshop Meditasi Joy of Living level 1: Menenangkan Batin \nJoy of Living adalah program meditasi sistematis & bertahap universal yang dapat diikuti siapapun terlepas latar belakang\, agama dan kepercayaannya. Meditasi memungkinkan kita merasakan kedamaian sejati dan sukacita batin kapan pun dan dimana pun tanpa tergantung kondisi dunia eksternal\, dengan menggunakan semua objek dari indera\, situasi\, rintangan bahkan emosi mengganggu dan sakit fisik sebagai pendukung kesadaran dalam meditasi. \nSabtu-Minggu\, 28-29 September 2024\nJam 09:00-18:00 \nKetentuan:\n– Terbuka untuk umum.\n– Pendaftaran akan ditutup setelah mencapai kuota peserta.\n– Wajib mengikuti workshop 2 hari penuh.\n– Dibimbing Yongey Mingyur Rinpoche melalui program DVD\, dan dipandu fasilitator Tergar Indonesia.\n– Melakukan registrasi dan donasi sebesar Rp 300.000\,- \nLokasi:\nTergar Meditation Centre Jakarta.\nAlamat: Jl. Daan Mogot\, Perumahan Green Mansion\, Boulevard Raya No.35\, Jakarta Barat\nMaps: https://goo.gl/maps/maVW3Y3upjbVouqm8 \nPendaftaran dapat dilakukan mulai tanggal 13 september pukul 12:00 WIB:\nhttp://bit.ly/RegistrasiJOL1 \nInformasi:\n083806922450 (WhatsApp) \n@TergarIndonesia
URL:https://tergarindonesia.com/event/workshop-meditasi-joy-of-living-level-1-menenangkan-batin/
CATEGORIES:Workshop Joy of Living,Workshop Joy of Living 1
ATTACH;FMTTYPE=image/jpeg:https://tergarindonesia.com/wp-content/uploads/2024/09/WhatsApp-Image-2024-09-07-at-15.17.18-e1726111317945.jpeg
END:VEVENT
END:VCALENDAR