BEGIN:VCALENDAR
VERSION:2.0
PRODID:-//Tergar Indonesia - ECPv6.15.20//NONSGML v1.0//EN
CALSCALE:GREGORIAN
METHOD:PUBLISH
X-WR-CALNAME:Tergar Indonesia
X-ORIGINAL-URL:https://tergarindonesia.com
X-WR-CALDESC:Events for Tergar Indonesia
REFRESH-INTERVAL;VALUE=DURATION:PT1H
X-Robots-Tag:noindex
X-PUBLISHED-TTL:PT1H
BEGIN:VTIMEZONE
TZID:UTC
BEGIN:STANDARD
TZOFFSETFROM:+0000
TZOFFSETTO:+0000
TZNAME:UTC
DTSTART:20220101T000000
END:STANDARD
END:VTIMEZONE
BEGIN:VEVENT
DTSTART;TZID=UTC:20231204T193000
DTEND;TZID=UTC:20231204T203000
DTSTAMP:20260423T010633
CREATED:20231204T085722Z
LAST-MODIFIED:20231204T085722Z
UID:2004-1701718200-1701721800@tergarindonesia.com
SUMMARY:3 Metode Meditasi Dengan Emosi
DESCRIPTION:Diskusi dan Latihan meditasi JOL 1. Hanya untuk alumni JOL 1. \nSenin\, 4 Des 2023\, 19:30-20:30 WIB\nDipandu oleh Gunawan (Host) dan Arief (Co-host). \nRegistrasi: 0838 0692 2450 (WA) \nOrganized by: @tergarindonesia
URL:https://tergarindonesia.com/event/3-metode-meditasi-dengan-emosi/
CATEGORIES:Pendalaman JOL 1
ATTACH;FMTTYPE=image/jpeg:https://tergarindonesia.com/wp-content/uploads/2023/12/WhatsApp-Image-2023-12-04-at-12.49.39-e1701680205170.jpeg
END:VEVENT
BEGIN:VEVENT
DTSTART;TZID=UTC:20231205T190000
DTEND;TZID=UTC:20231205T200000
DTSTAMP:20260423T010633
CREATED:20231204T085454Z
LAST-MODIFIED:20231204T085454Z
UID:2001-1701802800-1701806400@tergarindonesia.com
SUMMARY:Kayu Bakar dan Api Unggun
DESCRIPTION:Awal saya mengenal meditasi\, semangat saya\,…”Semangat ’45”\, tapi gak lama kemudian semangat itu semakin lama semakin menurun. Salah satu sebabnya adalah saya punya tujuan dalam meditasi tapi tujuan saya “gak jelas” alias “kabur”\,…ujung-ujungnya malas latihan\, dan itu terjadi cukup lama. \nAda pemahaman yang keliru dalam diri saya tentang tujuan meditasi dan ternyata\, memiliki tujuan yang benar dan jelas\,…itu berpengaruh besar pada konsistensi latihan meditasi kita. \nTujuan meditasi yang “benar dan jelas” itu bagaikan “kayu bakar dalam api unggun” \nMari kita berlatih meditasi bersama\, dengan tujuan yang benar dan jelas\,…agar latihan kita bisa konsisten\, mengeliminer kemalasan. \nTerbuka untuk umum dan bebas biaya. Selasa\, 5 Desember 2023\, 19:00-20:00 WIB. Dipandu oleh Hemmarata dan Clay \nVia ZOOM\, meeting ID : 821 1856 5010\nPasscode : kesadaran \nInfo :\n– WA : 0838 0692 2450\n– Website : http://www.tergarindonesia.com/events/\n• Organized by @tergarindonesia
URL:https://tergarindonesia.com/event/kayu-bakar-dan-api-unggun/
CATEGORIES:Latihan Meditasi Bersama,Meditasi Umum
ATTACH;FMTTYPE=image/jpeg:https://tergarindonesia.com/wp-content/uploads/2023/12/WhatsApp-Image-2023-12-04-at-15.45.55-e1701680054351.jpeg
END:VEVENT
BEGIN:VEVENT
DTSTART;TZID=UTC:20231211T190000
DTEND;TZID=UTC:20231211T200000
DTSTAMP:20260423T010633
CREATED:20231211T082058Z
LAST-MODIFIED:20231211T082058Z
UID:2007-1702321200-1702324800@tergarindonesia.com
SUMMARY:LETTING YOUR MIND BE AS IT IS
DESCRIPTION:Overthinking terkait efek pengobatan dan kondisi penyakit\, seringkali melanda pasien kanker sehingga menimbulkan kecemasan dan menghambat penyembuhan. \nBagaimana cara mengatasinya? \nYuk\, gabung di IG LIVE bersama @hemmaratanuwijaya dari @tergarindonesia Senin malam nanti. Kita akan sama-sama belajar praktek meditasi untuk membantu mengatasi overthinking. \nSenin\, 11 Desember 2023\nPkl.19.00 – 20.00 WIB \n⏰ Nyalakan alarm supaya ga ketinggalan. \nSampai jumpa!
URL:https://tergarindonesia.com/event/letting-your-mind-be-as-it-is/
CATEGORIES:Latihan Meditasi Bersama,Meditasi Umum
ATTACH;FMTTYPE=image/jpeg:https://tergarindonesia.com/wp-content/uploads/2023/12/WhatsApp-Image-2023-12-11-at-15.04.22-e1702282824359.jpeg
END:VEVENT
BEGIN:VEVENT
DTSTART;TZID=UTC:20231213T193000
DTEND;TZID=UTC:20231213T210000
DTSTAMP:20260423T010633
CREATED:20231212T061057Z
LAST-MODIFIED:20231212T061155Z
UID:2014-1702495800-1702501200@tergarindonesia.com
SUMMARY:As It Is
DESCRIPTION:Dipenghujung tahun 2023 ini\, marilah sejenak kita beristirahat. Beristirahat bukan berarti kita menjadi malas ataupun berhenti. Dengan beristirahat sejenak kita bisa menemukan kejernihan dan lebih siap menyambut tahun baru yang akan datang. \nMari kita berlatih meditasi dan diskusikan bersama di Tergar Meditation Center. \nWaktu : Rabu\, 13 Desember 2023\nJam 19:30 – 21:00 WIB\nBebas Biaya dan terbuka untuk umum. \nAlamat:\nJl. Daan Mogot\, Perumahan Green Mansion Boulevard Raya No.35\, Jakarta Barat\, DKI Jakarta.\nMaps: https://goo.gl/maps/maVW3Y3upjbVouqm8 \nInfo:\nTlp. 021-29025314 | WA. 083806922450\nhttps://tergarindonesia.com/events/\n@TergarIndonesia
URL:https://tergarindonesia.com/event/as-it-is/
CATEGORIES:Latihan Meditasi Bersama,Meditasi Umum
ATTACH;FMTTYPE=image/jpeg:https://tergarindonesia.com/wp-content/uploads/2023/12/WhatsApp-Image-2023-12-12-at-08.17.06-e1702361425449.jpeg
END:VEVENT
BEGIN:VEVENT
DTSTART;TZID=UTC:20231218T193000
DTEND;TZID=UTC:20231218T203000
DTSTAMP:20260423T010633
CREATED:20231218T031342Z
LAST-MODIFIED:20231218T031342Z
UID:2031-1702927800-1702931400@tergarindonesia.com
SUMMARY:The Important Key in Practice
DESCRIPTION:Diskusi dan Latihan meditasi JOL 1. Hanya untuk alumni JOL 1. \nSenin\, 18 Dec 2023\, 19:30-20:30 WIB\nDipandu oleh Susi (Host) dan Arief (Co-host). \nRegistrasi: 0838 0692 2450 (WA) \nOrganized by: @tergarindonesia
URL:https://tergarindonesia.com/event/the-important-key-in-practice/
CATEGORIES:Latihan Meditasi Bersama,Pendalaman JOL 1
ATTACH;FMTTYPE=image/jpeg:https://tergarindonesia.com/wp-content/uploads/2023/12/WhatsApp-Image-2023-12-17-at-14.19.04-e1702869196716.jpeg
END:VEVENT
BEGIN:VEVENT
DTSTART;TZID=UTC:20231220T190000
DTEND;TZID=UTC:20231220T200000
DTSTAMP:20260423T010633
CREATED:20231218T031454Z
LAST-MODIFIED:20231218T031615Z
UID:2034-1703098800-1703102400@tergarindonesia.com
SUMMARY:Endless Work For All Beings
DESCRIPTION:Diskusi dan Latihan meditasi JOL 2. Hanya untuk alumni JOL 2. \nRabu\, 20 Des 2023\, 19:00-20:00 WIB\nDipandu oleh Elvi (Host) dan Eripin (Co-host). \nRegistrasi: 0838 0692 2450 (WA) \nOrganized by: @tergarindonesia
URL:https://tergarindonesia.com/event/endless-work-for-all-beings/
CATEGORIES:Latihan Meditasi Bersama,Latihan Meditasi JOL 2
ATTACH;FMTTYPE=image/jpeg:https://tergarindonesia.com/wp-content/uploads/2023/12/WhatsApp-Image-2023-12-17-at-14.49.34-e1702869269262.jpeg
END:VEVENT
END:VCALENDAR