BEGIN:VCALENDAR
VERSION:2.0
PRODID:-//Tergar Indonesia - ECPv6.15.20//NONSGML v1.0//EN
CALSCALE:GREGORIAN
METHOD:PUBLISH
X-ORIGINAL-URL:https://tergarindonesia.com
X-WR-CALDESC:Events for Tergar Indonesia
REFRESH-INTERVAL;VALUE=DURATION:PT1H
X-Robots-Tag:noindex
X-PUBLISHED-TTL:PT1H
BEGIN:VTIMEZONE
TZID:UTC
BEGIN:STANDARD
TZOFFSETFROM:+0000
TZOFFSETTO:+0000
TZNAME:UTC
DTSTART:20220101T000000
END:STANDARD
END:VTIMEZONE
BEGIN:VEVENT
DTSTART;TZID=UTC:20231004T193000
DTEND;TZID=UTC:20231004T210000
DTSTAMP:20260423T041703
CREATED:20231003T045716Z
LAST-MODIFIED:20231003T045716Z
UID:1906-1696447800-1696453200@tergarindonesia.com
SUMMARY:Pengalaman Meditasi
DESCRIPTION:Ketika bermeditasi seringkali pengalaman meditasi muncul dan berganti\, apa yang perlu dilakukan dengan pengalaman meditasi yang muncul dan berganti ini.\nMari kita berlatih meditasi dan diskusikan bersama di Tergar Meditation Center. \nWaktu : Rabu\, 4 Oktober 2023\nJam 19:30 – 21:00 WIB\nBebas Biaya dan terbuka untuk umum. \nAlamat:\nJl. Daan Mogot\, Perumahan Green Mansion Boulevard Raya No.35\, Jakarta Barat\, DKI Jakarta.\nMaps: https://goo.gl/maps/maVW3Y3upjbVouqm8 \nInfo:\nTlp. 021-29025314 | WA. 083806922450\nhttps://tergarindonesia.com/events/\n@TergarIndonesia
URL:https://tergarindonesia.com/event/pengalaman-meditasi/
CATEGORIES:Latihan Meditasi Bersama,Meditasi Umum
ATTACH;FMTTYPE=image/jpeg:https://tergarindonesia.com/wp-content/uploads/2023/10/WhatsApp-Image-2023-10-03-at-11.05.42-e1696309004290.jpeg
END:VEVENT
BEGIN:VEVENT
DTSTART;TZID=UTC:20231008T100000
DTEND;TZID=UTC:20231008T160000
DTSTAMP:20260423T041703
CREATED:20231002T100000Z
LAST-MODIFIED:20231002T100000Z
UID:1902-1696759200-1696780800@tergarindonesia.com
SUMMARY:Puja\, Latihan Meditasi & Study Group Dharma
DESCRIPTION:Puja\, Latihan Meditasi & Study Group Dharma\nMinggu\, 8 Oktober 2023 \nPuja Chenrezig 4 Lengan\nDipimpin Lama Norbu\nPukul 10.00 – 12.00 WIB \nNotes:\n– Umat dapat mengikuti puja secara langsung di Tergar Centre.\n– Puja juga dapat diikuti online melalui Zoom\, teks sadhana akan ditampilkan melalui layar.\nMeeting ID: 835 1003 5005\nPassword: tergar\nLink:\nhttps://us02web.zoom.us/j/83510035005?pwd=UVE5dmxQWEE4dHo5VWhwZGNMRUNMUT09\n————\nLatihan Meditasi & Study Grup Dharma\nA Heart Released \nBersama Rudy Susanto\nPukul 14.00 – 16.00 WIB\nNotes: Hanya secara offline; Tersedia makan siang. \nDibuka kesempatan berdana untuk kegiatan di center:\nBCA a/n. Yayasan Tergar Indonesia\nNo. 441 3988 899\nCantumkan angka “9” di akhir nominal transfer (contoh: 50.009). \nInfo:\n0838 0692 2450\n@TergarIndonesia
URL:https://tergarindonesia.com/event/puja-latihan-meditasi-study-group-dharma/
CATEGORIES:Chenrezig,Dharma Study
ATTACH;FMTTYPE=image/jpeg:https://tergarindonesia.com/wp-content/uploads/2023/10/WhatsApp-Image-2023-10-01-at-12.23.30-e1696240770539.jpeg
END:VEVENT
BEGIN:VEVENT
DTSTART;TZID=UTC:20231010T190000
DTEND;TZID=UTC:20231010T200000
DTSTAMP:20260423T041703
CREATED:20231010T024951Z
LAST-MODIFIED:20231010T024951Z
UID:1914-1696964400-1696968000@tergarindonesia.com
SUMMARY:Working With Difficult Emotions
DESCRIPTION:Terbuka untuk umum dan bebas biaya. Selasa\, 10 Oktober 2023\, 19:00-20:00 WIB. Dipandu oleh Anthony dan Alit. \nVia ZOOM\, meeting ID : 821 1856 5010\nPasscode : kesadaran \nInfo :\n– WA : 0838 0692 2450\n– Website : http://www.tergarindonesia.com/events/\n• Organized by @tergarindonesia
URL:https://tergarindonesia.com/event/working-with-difficult-emotions/
CATEGORIES:Latihan Meditasi Bersama,Meditasi Umum
ATTACH;FMTTYPE=image/jpeg:https://tergarindonesia.com/wp-content/uploads/2023/10/WhatsApp-Image-2023-10-10-at-09.19.36-e1696906166883.jpeg
END:VEVENT
BEGIN:VEVENT
DTSTART;TZID=UTC:20231011T190000
DTEND;TZID=UTC:20231011T200000
DTSTAMP:20260423T041703
CREATED:20231011T032127Z
LAST-MODIFIED:20231011T032127Z
UID:1920-1697050800-1697054400@tergarindonesia.com
SUMMARY:Joy and Sorrow in the Dream
DESCRIPTION:Diskusi dan Latihan meditasi JOL 3. Hanya untuk alumni JOL 3. \nRabu\, 11 Oktober 2023\, 19:00-20:00 WIB\nDipandu oleh Mustafa (Host) dan Arief (Co-host). \nRegistrasi: 0838 0692 2450 (WA) \nOrganized by: @tergarindonesia
URL:https://tergarindonesia.com/event/joy-and-sorrow-in-the-dream/
CATEGORIES:Latihan Meditasi Bersama,Latihan Meditasi JOL 3
ATTACH;FMTTYPE=image/jpeg:https://tergarindonesia.com/wp-content/uploads/2023/10/WhatsApp-Image-2023-10-11-at-08.26.06-e1696994457251.jpeg
END:VEVENT
BEGIN:VEVENT
DTSTART;TZID=UTC:20231014T143000
DTEND;TZID=UTC:20231014T160000
DTSTAMP:20260423T041703
CREATED:20231002T095612Z
LAST-MODIFIED:20231002T095612Z
UID:1899-1697293800-1697299200@tergarindonesia.com
SUMMARY:Latihan Yoga Bersama
DESCRIPTION:Latihan Yoga Bersama\nUntuk Kesehatan Punggung \nMari kita ikuti Latihan Yoga pada:\nSabtu\, 14 Oktober 2023\nJam: 14.30 – 16.00 WIB\nBersama Siska Marsudhy @siska00 \nBiaya: Rp 50.000/orang/sesi.\nHarap membayar di tempat dengan uang pas\, silakan dimasukkan ke dalam kotak dana yang disediakan dan mengisi daftar hadir dari instruktur.\nSilakan membawa matras yoga masing-masing karena tidak disediakan. \nLokasi: Tergar Meditation Centre Jakarta. Alamat: Jl. Daan Mogot\, Perumahan Green Mansion\, Boulevard Raya No.35\, Jakarta Barat\nMaps: https://goo.gl/maps/maVW3Y3upjbVouqm8 \nInfo: 0838 0692 2450 (WA)\nOrganized by Komunitas Meditasi @tergarindonesia
URL:https://tergarindonesia.com/event/latihan-yoga-bersama-5/
ATTACH;FMTTYPE=image/jpeg:https://tergarindonesia.com/wp-content/uploads/2023/10/WhatsApp-Image-2023-10-01-at-12.24.05-e1696240545151.jpeg
END:VEVENT
BEGIN:VEVENT
DTSTART;TZID=UTC:20231018T193000
DTEND;TZID=UTC:20231018T210000
DTSTAMP:20260423T041703
CREATED:20231017T030332Z
LAST-MODIFIED:20231017T030332Z
UID:1931-1697657400-1697662800@tergarindonesia.com
SUMMARY:Bebas Dari "Mental Health"
DESCRIPTION:Apakah meditasi dapat membantu kita mengatasi “Mental Health”?\nMari kita berlatih meditasi dan diskusikan bersama di Tergar Meditation Center. \nWaktu : Rabu\, 18 Oktober 2023\nJam 19:30 – 21:00 WIB\nBebas Biaya dan terbuka untuk umum. \nAlamat:\nJl. Daan Mogot\, Perumahan Green Mansion Boulevard Raya No.35\, Jakarta Barat\, DKI Jakarta.\nMaps: https://goo.gl/maps/maVW3Y3upjbVouqm8 \nInfo:\nTlp. 021-29025314 | WA. 083806922450\nhttps://tergarindonesia.com/events/\n@TergarIndonesia
URL:https://tergarindonesia.com/event/bebas-dari-mental-health/
CATEGORIES:Latihan Meditasi Bersama,Meditasi Umum
ATTACH;FMTTYPE=image/jpeg:https://tergarindonesia.com/wp-content/uploads/2023/10/WhatsApp-Image-2023-10-17-at-10.01.40-e1697511780453.jpeg
END:VEVENT
BEGIN:VEVENT
DTSTART;TZID=UTC:20231024T190000
DTEND;TZID=UTC:20231024T200000
DTSTAMP:20260423T041703
CREATED:20231024T021954Z
LAST-MODIFIED:20231024T021954Z
UID:1947-1698174000-1698177600@tergarindonesia.com
SUMMARY:"Mengenali Kesadaran\, Untuk Apa Ya ?"
DESCRIPTION:Teman-teman\, apakah kalian akrab dengan pernyataan atau pertanyaan berikut: \n– “Apakah kamu menyadari bahwa perbuatanmu bisa merugikan dirimu dan orang lain?” \n– “Sekarang saya menyadari bahwa perbuatan saya telah merugikan diri saya dan orang lain.” \nDari kalimat-kalimat di atas\, jelas bahwa melakukan sesuatu dengan kesadaran itu penting agar kita tidak merugikan diri sendiri dan orang lain. \nNamun\, yang ingin kita bahas di sini bukanlah “kesadaran” seperti yang disebutkan di atas. \nPembahasan kita kali ini adalah tentang kesadaran\, sebuah kualitas batin. Jika kita mengenali dan terhubung dengan kesadaran ini\, kita bisa merasakan kebahagiaan dan terbebas dari penderitaan. Bukankah itu adalah keinginan kita? \nGuru meditasi kita\, Mingyur Rinpoche\, telah menunjukkan bahwa “kesadaran” sudah ada bersama kita selama 24 jam\, namun seringkali kita mengabaikannya. Padahal\, itulah sumber kebahagiaan sejati yang selama ini kita cari. \nMari bersama-sama berlatih meditasi untuk mengenali “kesadaran\,” kualitas batin yang selalu bersama kita sepanjang waktu. Melalui latihan ini\, kita mungkin akan mendapatkan pengalaman berharga dengan mengenalinya. \nTerbuka untuk umum dan bebas biaya. Selasa\, 24 Oktober 2023\, 19:00-20:00 WIB. Dipandu oleh Hemmarata dan Norlela. \nVia ZOOM\, meeting ID : 821 1856 5010\nPasscode : kesadaran \nInfo :\n– WA : 0838 0692 2450\n– Website : http://www.tergarindonesia.com/events/\n• Organized by @tergarindonesia
URL:https://tergarindonesia.com/event/mengenali-kesadaran-untuk-apa-ya/
CATEGORIES:Latihan Meditasi Bersama,Meditasi Umum
ATTACH;FMTTYPE=image/jpeg:https://tergarindonesia.com/wp-content/uploads/2023/10/WhatsApp-Image-2023-10-23-at-17.40.21-e1698113969272.jpeg
END:VEVENT
BEGIN:VEVENT
DTSTART;TZID=UTC:20231025T190000
DTEND;TZID=UTC:20231025T200000
DTSTAMP:20260423T041703
CREATED:20231024T022204Z
LAST-MODIFIED:20231024T022204Z
UID:1950-1698260400-1698264000@tergarindonesia.com
SUMMARY:Inside Out
DESCRIPTION:Diskusi dan Latihan meditasi JOL 2. Hanya untuk alumni JOL 2. \nRabu\, 25 Oktober 2023\, 19:00-20:00 WIB\nDipandu oleh Elvi (Host) dan Eripin (Co-host). \nRegistrasi: 0838 0692 2450 (WA) \nOrganized by: @tergarindonesia
URL:https://tergarindonesia.com/event/inside-out/
CATEGORIES:Latihan Meditasi Bersama,Latihan Meditasi JOL 2
ATTACH;FMTTYPE=image/jpeg:https://tergarindonesia.com/wp-content/uploads/2023/10/WhatsApp-Image-2023-10-23-at-18.27.19-e1698114099413.jpeg
END:VEVENT
END:VCALENDAR