BEGIN:VCALENDAR
VERSION:2.0
PRODID:-//Tergar Indonesia - ECPv6.15.20//NONSGML v1.0//EN
CALSCALE:GREGORIAN
METHOD:PUBLISH
X-ORIGINAL-URL:https://tergarindonesia.com
X-WR-CALDESC:Events for Tergar Indonesia
REFRESH-INTERVAL;VALUE=DURATION:PT1H
X-Robots-Tag:noindex
X-PUBLISHED-TTL:PT1H
BEGIN:VTIMEZONE
TZID:UTC
BEGIN:STANDARD
TZOFFSETFROM:+0000
TZOFFSETTO:+0000
TZNAME:UTC
DTSTART:20220101T000000
END:STANDARD
END:VTIMEZONE
BEGIN:VEVENT
DTSTART;TZID=UTC:20230801T190000
DTEND;TZID=UTC:20230801T200000
DTSTAMP:20260423T073334
CREATED:20230801T023359Z
LAST-MODIFIED:20230801T023359Z
UID:1740-1690916400-1690920000@tergarindonesia.com
SUMMARY:Berdamai dengan Rasa Kecewa\, Mungkinkah ???
DESCRIPTION:Gampang diomong tapi apakah mungkin dipraktikkan ?…Persoalan apa itu ? Berdamai dengan rasa kecewa. \nMungkin kalau untuk peristiwa “kecil”\, kita mudah untuk berdamai dengan rasa kecewa\, tapi “kayaknya” sulit sekali untuk peristiwa besar. \nKecewa itu adalah salah satu bentuk penderitaan\, karena rasa kecewa umumnya disebabkan oleh rasa tidak puas yang muncul dalam diri kita. \nTentu “memelihara” rasa kecewa akan semakin menyulitkan hidup kita\, betul tidak ? \nMari kita berlatih meditasi bersama untuk mengembangkan keterampilan “berdamai dengan rasa kecewa”\, agar “berdamai dengan rasa kecewa” bukan lagi hanya sesuatu yang “mungkin”. \n  \nTerbuka untuk umum dan bebas biaya. Selasa\, 1 Agustus 2023\, 19:00-20:00 WIB. Dipandu oleh Hemmarata dan Suprianto. \nVia ZOOM\, meeting ID : 821 1856 5010\nPasscode : kesadaran \nInfo :\nWA : 0838 0692 2450 \n• Organized by @tergarindonesia
URL:https://tergarindonesia.com/event/berdamai-dengan-rasa-kecewa-mungkinkah/
CATEGORIES:Latihan Meditasi Bersama,Meditasi Umum
ATTACH;FMTTYPE=image/jpeg:https://tergarindonesia.com/wp-content/uploads/2023/08/WhatsApp-Image-2023-07-31-at-20.20.34-e1690857213472.jpeg
END:VEVENT
BEGIN:VEVENT
DTSTART;TZID=UTC:20230813T090000
DTEND;TZID=UTC:20230813T100000
DTSTAMP:20260423T073334
CREATED:20230810T024514Z
LAST-MODIFIED:20230810T024514Z
UID:1756-1691917200-1691920800@tergarindonesia.com
SUMMARY:Latihan Meditasi Bersama Khusus Surabaya
DESCRIPTION:Berteman dengan Rasa Takut Gagal \n“Gagal” adalah salah satu kata yang paling tidak ingin didengar atau diucapkan\, betul gak sih ? Karena “gagal” itu suatu keadaan yang sangat “menyesakkan” dan “menakutkan”. Dan karena itu\, orang jadi tidak suka atau cenderung menghindar dari “rasa takut gagal”. \nApakah kita memang perlu menghindarinya atau menjauhinya ? Atau justru sebaiknya kita “berteman” dengan rasa takut tsb ? \nMari kita berlatih meditasi bersama\, mentransformasi “rasa takut gagal” menjadi teman. \nTerbuka untuk umum dan bebas biaya. Minggu\, 13 Agt 2023\, 09:00-10:00 pagi WIB. Dipandu oleh Hemmarata. \n– Tempat : Gedung BEC Surabaya\, Jl. HR. Muhammad 179 ( Kompleks Pertokoan Surya Inti Permata II\, Blok D 8-9)\, Surabaya. \n– Kontak Info ( WA atau kontak langsung ) : 0851-0033-5577 ( Bpk. Kartono ) \nOrganized by Tergar Surabaya
URL:https://tergarindonesia.com/event/latihan-meditasi-bersama-khusus-surabaya/
CATEGORIES:Latihan Meditasi Bersama,Meditasi Umum
ATTACH;FMTTYPE=image/jpeg:https://tergarindonesia.com/wp-content/uploads/2023/08/WhatsApp-Image-2023-08-10-at-09.13.30-e1691635475992.jpeg
END:VEVENT
BEGIN:VEVENT
DTSTART;TZID=UTC:20230813T100000
DTEND;TZID=UTC:20230813T120000
DTSTAMP:20260423T073334
CREATED:20230814T044607Z
LAST-MODIFIED:20230814T044607Z
UID:1766-1691920800-1691928000@tergarindonesia.com
SUMMARY:Puja Amitabha
DESCRIPTION:Puja Amitabha\nPuja Tatap Muka (Offline) & via Zoom (Online)\nDipimpin Lama Nurbu \nMinggu\, 13 Agustus 2023\nJam 10:00 – 12.00 WIB \nUntuk memasuki alam Buddha seseorang umumnya harus telah menghilangkan halangan yang paling halus\, memiliki samaya yang sangat murni\, dan telah mencapai bhumi bodhisattva. Jadi\, bagi makhluk biasa\, sangat sulit untuk memasuki alam Buddha. Namun dikarenakan kekuatan aspirasi Amitabha\, siapa pun yang membuat doa harapan yang tulus untuk pergi ke Déwachen (Sukhavati) serta menciptakan sebab kondisinya\, dapatlah terlahir di sana walau belum memurnikan karma buruk atau sepenuhnya terbebas dari emosi negatif. \nNotes:\n– Umat dapat mengikuti Puja secara langsung di Tergar Center Jakarta\, dengan syarat: sehat serta mematuhi protokol kesehatan\n– Umat yang berada di luar kota\, dapat mengikuti puja melalui Zoom\, tanpa registrasi. Teks sadhana akan ditampilkan lewat layar monitor. \nMeeting ID: 883 8177 2913\nPassword: tergar\nLink:\nhttps://us02web.zoom.us/j/88381772913?pwd=7yNRG1eJc43xrotHFHELGyCzRzi-Nh.1 \nDibuka kesempatan berdana untuk puja mingguan:\nBCA a/n. Yayasan Tergar Indonesia\nNo. 441 3988 899\nCantumkan angka “9” di akhir nominal transfer (contoh: 50.009). \nInfo:\n0838 0692 2450\n@TergarIndonesia
URL:https://tergarindonesia.com/event/puja-amitabha-12/
CATEGORIES:Amitabha,Puja Mingguan
ATTACH;FMTTYPE=image/jpeg:https://tergarindonesia.com/wp-content/uploads/2023/08/WhatsApp-Image-2023-08-12-at-17.28.32-e1691988333256.jpeg
END:VEVENT
BEGIN:VEVENT
DTSTART;TZID=UTC:20230814T193000
DTEND;TZID=UTC:20230814T203000
DTSTAMP:20260423T073334
CREATED:20230814T044257Z
LAST-MODIFIED:20230814T044257Z
UID:1763-1692041400-1692045000@tergarindonesia.com
SUMMARY:The Hamster Wheel
DESCRIPTION:Diskusi dan Latihan meditasi JOL 1. Hanya untuk alumni JOL 1. \nSenin\, 14 Agustus 2023\, 19:30-20:30 WIB\nDipandu oleh Elvi & Gunawan \nRegistrasi: 0838 0692 2450 (WA) \nOrganized by: @tergarindonesia
URL:https://tergarindonesia.com/event/the-hamster-wheel/
CATEGORIES:Latihan Meditasi Bersama,Pendalaman JOL 1
ATTACH;FMTTYPE=image/jpeg:https://tergarindonesia.com/wp-content/uploads/2023/08/WhatsApp-Image-2023-08-14-at-10.17.24-e1691988115569.jpeg
END:VEVENT
BEGIN:VEVENT
DTSTART;TZID=UTC:20230815T190000
DTEND;TZID=UTC:20230815T200000
DTSTAMP:20260423T073334
CREATED:20230815T031138Z
LAST-MODIFIED:20230815T031138Z
UID:1775-1692126000-1692129600@tergarindonesia.com
SUMMARY:Mentransformasi Rasa Sakit Menjadi Tidak Lagi Penderitaan
DESCRIPTION:Siapa sih yang suka dengan rasa sakit ? Umumnya orang tidak suka\, karena rasa sakit membuat rasa tidak nyaman dan itu membuat kita jadi menderita. \nRasa sakit seringkali muncul tanpa kita sengaja\, bukan kita yang menginginkannya. Lain halnya kalau kita yang minta untuk dipijat refleksi. \nDi sini menariknya\, rasa sakit yang tidak kita inginkan\, jadinya penderitaan. Tapi rasa sakit yang kita inginkan\, kita justru merasa baik-baik saja. \nMari kita berlatih meditasi bersama\, mentransformasi rasa sakit yang “tidak kita inginkan” menjadi tidak lagi penderitaan buat kita. \nTerbuka untuk umum dan bebas biaya. Selasa\, 15 Agustus 2023\, 19:00-20:00 WIB. Dipandu oleh Hemmarata dan Alit. \nVia ZOOM\, meeting ID : 821 1856 5010\nPasscode : kesadaran \nInfo :\n– WA : 0838 0692 2450\n• Organized by @tergarindonesia
URL:https://tergarindonesia.com/event/mentransformasi-rasa-sakit-menjadi-tidak-lagi-penderitaan/
CATEGORIES:Latihan Meditasi Bersama,Meditasi Umum
ATTACH;FMTTYPE=image/jpeg:https://tergarindonesia.com/wp-content/uploads/2023/08/WhatsApp-Image-2023-08-14-at-20.56.59-e1692069069943.jpeg
END:VEVENT
BEGIN:VEVENT
DTSTART;TZID=UTC:20230816T190000
DTEND;TZID=UTC:20230816T200000
DTSTAMP:20260423T073334
CREATED:20230816T031600Z
LAST-MODIFIED:20230816T031600Z
UID:1778-1692212400-1692216000@tergarindonesia.com
SUMMARY:The World Biggest Problem
DESCRIPTION:Diskusi dan Latihan meditasi JOL 3. Hanya untuk alumni JOL 3. \nRabu\, 16 Agustus 2023\, 19:00-20:00 WIB\nDipandu oleh Mustafa (Host) dan Arief (Co-host). \nRegistrasi: 0838 0692 2450 (WA) \nOrganized by: @tergarindonesia
URL:https://tergarindonesia.com/event/the-world-biggest-problem/
CATEGORIES:Latihan Meditasi Bersama,Latihan Meditasi JOL 3
ATTACH;FMTTYPE=image/jpeg:https://tergarindonesia.com/wp-content/uploads/2023/08/WhatsApp-Image-2023-08-16-at-09.11.14-e1692155733911.jpeg
END:VEVENT
BEGIN:VEVENT
DTSTART;TZID=UTC:20230819T100000
DTEND;TZID=UTC:20230819T170000
DTSTAMP:20260423T073334
CREATED:20230814T044939Z
LAST-MODIFIED:20230814T044939Z
UID:1769-1692439200-1692464400@tergarindonesia.com
SUMMARY:Puja Amitabha Jang Chog
DESCRIPTION:Puja Amitabha Jang Chog\nChao Du & Sur Offering\nDipimpin oleh Lama Nurbu\, Lama Sotop (Tergar Bodhgaya\, India) & Lama Tashi (Palpung Indonesia) \nSabtu\, 19 Agustus 2023\nJam 10:00 – 17:00 WIB \nPuja Amitabha Jang Chog adalah praktik yang dilakukan untuk memurnikan karma negatif dari yang telah meninggal\, membantu menciptakan sebab kondisi untuk Almarhum terlahir di Sukhavati dan mencapai pembebasan. Puja ini juga bermanfaat bagi kerabat masih hidup yang mewakili Almarhum dalam mengakumulasi jasa kebajikan melalui doa\, meditasi\, pelafalan\, dan persembahan\, yang dapat mempurifikasi kenegatifan\, menyelesaikan hutang karma yang dapat menjadi rintangan dalam kehidupan ini. \nNotes:\n– Pengumpulan nama yang telah meninggal untuk pelimpahan jasa dapat dikirimkan via WA paling lambat tanggal 17 Agustus 2023 ke: 0838 0692 2450\n– Umat yang ingin berdana untuk puja ini\, dapat menyalurkannya ke:\nBCA a/n Yayasan Tergar Indonesia No. 441 3988 899 \nCantumkan angka “9” di akhir nominal transfer ( contoh: 50.009) \n– Puja dapat diikuti melalui Zoom:\nMeeting ID: 835 1374 3924\nPassword: tergar\nLink: https://us02web.zoom.us/j/83513743924?pwd=MGRFeUc2eHRnNkZNMTZWWWc2YjFjUT09
URL:https://tergarindonesia.com/event/puja-amitabha-jang-chog/
CATEGORIES:Big Puja,Events
ATTACH;FMTTYPE=image/jpeg:https://tergarindonesia.com/wp-content/uploads/2023/08/WhatsApp-Image-2023-08-12-at-12.34.41-e1691988537294.jpeg
END:VEVENT
BEGIN:VEVENT
DTSTART;TZID=UTC:20230823T170000
DTEND;TZID=UTC:20230823T183000
DTSTAMP:20260423T073334
CREATED:20230821T082226Z
LAST-MODIFIED:20230821T082226Z
UID:1782-1692810000-1692815400@tergarindonesia.com
SUMMARY:Latihan Meditasi Bersama - Untuk Wilayah Surabaya dan sekitarnya
DESCRIPTION:Latihan Meditasi Bersama – Untuk Wilayah Surabaya dan sekitarnya \n“Bagaimana Menghadapi Kenyataan” \nKarena kita tidak mengetahui “kenyataan” dengan pengertian yang benar\, jadi seringnya “apa yang kita hadapi” sehari- hari kita anggap sebagai kenyataan. \nKekeliruan ini tentu membuat kita jadi semakin sulit menghadapi kenyataan yang sesungguhnya. \nBahasa sederhananya\, kita “mudah” menghadapi kenyataan jikalau kita memiliki pengertian yang benar dan keterampilan menghadapi kenyataan. \nMari kita berlatih meditasi bersama\, mengembangkan keterampilan menghadapi kenyataan. \nTerbuka untuk umum dan bebas biaya. Rabu\, 23 Agt 2023\, 17.00 – 18.30 WIB. Dipandu oleh Lingga. \n– Tempat : “Java Yoga” • Jl. Panglima Sudirman 31 D\, Surabaya. \n– Kontak Info ( WA atau kontak langsung ) : 0851-0033-5577 ( Bpk. Kartono ) \nOrganized by Tergar Surabaya
URL:https://tergarindonesia.com/event/latihan-meditasi-bersama-untuk-wilayah-surabaya-dan-sekitarnya/
CATEGORIES:Latihan Meditasi Bersama,Meditasi Umum
ATTACH;FMTTYPE=image/jpeg:https://tergarindonesia.com/wp-content/uploads/2023/08/WhatsApp-Image-2023-08-21-at-12.21.59-e1692606082311.jpeg
END:VEVENT
BEGIN:VEVENT
DTSTART;TZID=UTC:20230823T193000
DTEND;TZID=UTC:20230823T210000
DTSTAMP:20260423T073334
CREATED:20230822T030232Z
LAST-MODIFIED:20230822T030232Z
UID:1798-1692819000-1692824400@tergarindonesia.com
SUMMARY:Transforming Suffering
DESCRIPTION:Apakah yang bisa kita lakukan saat mengalami penderitaan? Bisakah kita merubah penderitaan sebagai bahan pembelajaran?\nMari kita berlatih meditasi dan diskusikan bersama di Tergar Meditation Center. \nWaktu : Rabu\, 23 Agustus 2023\nJam 19:30 – 21:00 WIB\nBebas Biaya dan terbuka untuk umum. \nNotes:\nAcara tatap muka secara langsung di Tergar Centre Jakarta\, dengan syarat:\nDalam kondisi sehat.\nMematuhi protokol kesehatan. \nAlamat:\nJl. Daan Mogot\, Perumahan Green Mansion Boulevard Raya No.35\, Jakarta Barat\, DKI Jakarta.\nMaps: https://goo.gl/maps/maVW3Y3upjbVouqm8 \nInfo:\nTlp. 021-29025314 | WA. 083806922450\n@TergarIndonesia
URL:https://tergarindonesia.com/event/transforming-suffering/
CATEGORIES:Latihan Meditasi Bersama,Meditasi Umum
ATTACH;FMTTYPE=image/jpeg:https://tergarindonesia.com/wp-content/uploads/2023/08/WhatsApp-Image-2023-08-22-at-09.55.52-e1692673317603.jpeg
END:VEVENT
BEGIN:VEVENT
DTSTART;TZID=UTC:20230826T143000
DTEND;TZID=UTC:20230826T160000
DTSTAMP:20260423T073334
CREATED:20230807T040450Z
LAST-MODIFIED:20230807T040450Z
UID:1743-1693060200-1693065600@tergarindonesia.com
SUMMARY:Latihan Yoga Bersama
DESCRIPTION:Latihan Yoga Bersama\nUntuk Kesehatan Batin dan Tubuh \nTubuh yang terasa nyaman sangat membantu kita merasa tenang dan bugar secara keseluruhan. Latihan yoga membantu menjaga kelenturan otot\, ruang gerak pada persendian\, serta membuat kita merasa rileks dan segar.\nLatihan ini juga membantu jalannya energi bagi fungsi organ yang optimal\, istirahat yang lebih baik\, serta mendukung latihan meditasi karena dapat duduk dengan lebih nyaman. \nMari kita ikuti Latihan Yoga pada:\nSabtu\, 26 Agustus 2023\nJam: 14.30 – 16.00 WIB\nBersama Siska Marsudhy @siska00 \nBiaya: Rp 50.000/orang/sesi.\nHarap membayar di tempat dengan uang pas\, silakan dimasukkan ke dalam kotak dana yang disediakan dan mengisi daftar hadir dari instruktur.\nSilakan membawa matras yoga masing-masing karena tidak disediakan. \nLokasi: Tergar Meditation Centre Jakarta. Alamat: Jl. Daan Mogot\, Perumahan Green Mansion\, Boulevard Raya No.35\, Jakarta Barat\nMaps: https://goo.gl/maps/maVW3Y3upjbVouqm8 \nInfo: 0838 0692 2450 (WA) \nOrganized by Komunitas Meditasi @tergarindonesia
URL:https://tergarindonesia.com/event/latihan-yoga-bersama-3/
ATTACH;FMTTYPE=image/jpeg:https://tergarindonesia.com/wp-content/uploads/2023/08/WhatsApp-Image-2023-08-06-at-17.24.55-e1691381035364.jpeg
END:VEVENT
BEGIN:VEVENT
DTSTART;TZID=UTC:20230827T100000
DTEND;TZID=UTC:20230827T120000
DTSTAMP:20260423T073334
CREATED:20230828T035725Z
LAST-MODIFIED:20230828T035725Z
UID:1805-1693130400-1693137600@tergarindonesia.com
SUMMARY:Puja Amitabha
DESCRIPTION:Puja Amitabha\nPuja Tatap Muka (Offline) & via Zoom (Online)\nDipimpin Lama Nurbu \nMinggu\, 27 Agustus 2023\nJam 10:00 – 12.00 WIB \nUntuk memasuki alam Buddha seseorang umumnya harus telah menghilangkan halangan yang paling halus\, memiliki samaya yang sangat murni\, dan telah mencapai bhumi bodhisattva. Jadi\, bagi makhluk biasa\, sangat sulit untuk memasuki alam Buddha. Namun dikarenakan kekuatan aspirasi Amitabha\, siapa pun yang membuat doa harapan yang tulus untuk pergi ke Déwachen (Sukhavati) serta menciptakan sebab kondisinya\, dapatlah terlahir di sana walau belum memurnikan karma buruk atau sepenuhnya terbebas dari emosi negatif. \nNotes:\n– Umat dapat mengikuti Puja secara langsung di Tergar Center Jakarta.\n– Umat yang berada di luar kota\, dapat mengikuti puja melalui Zoom\, tanpa registrasi. Teks sadhana akan ditampilkan lewat layar monitor. \nMeeting ID: 883 8177 2913\nPassword: tergar\nLink:\nhttps://us02web.zoom.us/j/88381772913?pwd=7yNRG1eJc43xrotHFHELGyCzRzi-Nh.1 \nDibuka kesempatan berdana untuk puja mingguan:\nBCA a/n. Yayasan Tergar Indonesia\nNo. 441 3988 899\nCantumkan angka “9” di akhir nominal transfer (contoh: 50.009). \nInfo:\n0838 0692 2450\n@TergarIndonesia
URL:https://tergarindonesia.com/event/puja-amitabha-13/
CATEGORIES:Amitabha,Puja Mingguan
ATTACH;FMTTYPE=image/jpeg:https://tergarindonesia.com/wp-content/uploads/2023/08/WhatsApp-Image-2023-08-26-at-14.59.45-e1693195008154.jpeg
END:VEVENT
BEGIN:VEVENT
DTSTART;TZID=UTC:20230828T193000
DTEND;TZID=UTC:20230828T203000
DTSTAMP:20260423T073334
CREATED:20230828T035901Z
LAST-MODIFIED:20230828T035901Z
UID:1808-1693251000-1693254600@tergarindonesia.com
SUMMARY:The Best Antidote
DESCRIPTION:Latihan meditasi bersama. Hanya untuk Alumni JOL 1 \nSenin\, 28 Agustus 2023\, 19:30-20:30 WIB\nDipandu oleh Susi (Host) dan Arief (Co-host).\nRegistrasi: 0838 0692 2450 (WA) \nOrganized by Komunitas Meditasi @tergarindonesia
URL:https://tergarindonesia.com/event/the-best-antidote/
CATEGORIES:Latihan Meditasi Bersama,Pendalaman JOL 1
ATTACH;FMTTYPE=image/jpeg:https://tergarindonesia.com/wp-content/uploads/2023/08/WhatsApp-Image-2023-08-28-at-09.54.27-e1693195115304.jpeg
END:VEVENT
BEGIN:VEVENT
DTSTART;TZID=UTC:20230829T190000
DTEND;TZID=UTC:20230829T200000
DTSTAMP:20260423T073334
CREATED:20230828T040149Z
LAST-MODIFIED:20230828T040149Z
UID:1811-1693335600-1693339200@tergarindonesia.com
SUMMARY:Allegory of The Cave
DESCRIPTION:Diskusi dan Latihan meditasi JOL 1.\nTerbuka untuk umum dan bebas biaya.\nSelasa\, 29 Agustus 2023\,\n19:00-20:00 WIB.\nDipandu oleh Elvi dan Eripin. \nVia ZOOM\, meeting ID : 821 1856 5010\nPasscode : kesadaran \nInfo :\n– WA : 0838 0692 2450\n• Organized by @tergarindonesia
URL:https://tergarindonesia.com/event/allegory-of-the-cave/
CATEGORIES:Latihan Meditasi Bersama,Meditasi Umum
ATTACH;FMTTYPE=image/jpeg:https://tergarindonesia.com/wp-content/uploads/2023/08/WhatsApp-Image-2023-08-27-at-12.33.36-e1693195277488.jpeg
END:VEVENT
END:VCALENDAR