BEGIN:VCALENDAR
VERSION:2.0
PRODID:-//Tergar Indonesia - ECPv6.15.20//NONSGML v1.0//EN
CALSCALE:GREGORIAN
METHOD:PUBLISH
X-ORIGINAL-URL:https://tergarindonesia.com
X-WR-CALDESC:Events for Tergar Indonesia
REFRESH-INTERVAL;VALUE=DURATION:PT1H
X-Robots-Tag:noindex
X-PUBLISHED-TTL:PT1H
BEGIN:VTIMEZONE
TZID:UTC
BEGIN:STANDARD
TZOFFSETFROM:+0000
TZOFFSETTO:+0000
TZNAME:UTC
DTSTART:20220101T000000
END:STANDARD
END:VTIMEZONE
BEGIN:VEVENT
DTSTART;TZID=UTC:20230503T193000
DTEND;TZID=UTC:20230503T210000
DTSTAMP:20260423T122557
CREATED:20230509T041722Z
LAST-MODIFIED:20230509T041722Z
UID:1517-1683142200-1683147600@tergarindonesia.com
SUMMARY:Accepting Changing\, Reducing Stress
DESCRIPTION:Didalam Stress selalu terdapat kebencian dan kemelekatan. Perihal yang kecil dapat memicu emosi negatif kita menjadi besar dan menimbulkan masalah dalam kehidupan kita. \nDengan berlatih Meditasi\, kita dapat mulai dengan jelas melihat permasalahan yang kita sedang hadapi dan menanganinya dengan bijak\, berwelas-asih dan penuh kesadaran. \nMari kita berlatih meditasi bersama di Tergar Meditation Center. \nWaktu : Rabu\, 3 May 2023\nJam 19:30 – 21:00 WIB\nBebas Biaya dan terbuka untuk umum. \nNotes:\nAcara tatap muka secara langsung di Tergar Centre Jakarta\, dengan syarat:\nDalam kondisi sehat.\nMematuhi protokol kesehatan. \nAlamat:\nJl. Daan Mogot\, Perumahan Green Mansion Boulevard Raya No.35\, Jakarta Barat\, DKI Jakarta.\nMaps: https://goo.gl/maps/maVW3Y3upjbVouqm8 \nInfo:\nTlp. 021-29025314| WA. 083806922450\n@TergarIndonesia
URL:https://tergarindonesia.com/event/accepting-changing-reducing-stress/
CATEGORIES:Latihan Meditasi Bersama,Meditasi Umum
ATTACH;FMTTYPE=image/jpeg:https://tergarindonesia.com/wp-content/uploads/2023/05/WhatsApp-Image-2023-05-02-at-07.40.38-e1683605830520.jpeg
END:VEVENT
BEGIN:VEVENT
DTSTART;TZID=UTC:20230509T190000
DTEND;TZID=UTC:20230509T200000
DTSTAMP:20260423T122557
CREATED:20230509T042414Z
LAST-MODIFIED:20230509T042414Z
UID:1529-1683658800-1683662400@tergarindonesia.com
SUMMARY:Mengatasi Naik Turunnya Kondisi Hidup Dengan Kesadaran
DESCRIPTION:Umumnya kita ingin kondisi hidup kita “naik” terus\, kalau “turun” dikit saja kita sudah gelisah\, apalagi kalau “turun”nya banyak…kita lebih sulit menerimanya. \nKita sulit menerima perubahan\, khususnya perubahan yang lebih buruk dari sebelumnya. \nKita bisa mengatasi sikap “sulit” kita tsb dengan mengenali kesadaran kita. \nMari kita berlatih meditasi bersama mengenali kesadaran melalui perubahan-perubahan yang terjadi dalam diri kita. \nTerbuka untuk umum dan bebas biaya. Selasa\, 9 Mei 2023\, 19:00-20:00 WIB. Dipandu oleh Hemmarata dan Norlela. \nVia ZOOM\, meeting ID : 821 1856 5010\nPasscode : kesadaran \nInfo :\n– WA : 0838 0692 2450\n• Organized by @tergarindonesia
URL:https://tergarindonesia.com/event/mengatasi-naik-turunnya-kondisi-hidup-dengan-kesadaran/
CATEGORIES:Latihan Meditasi Bersama,Meditasi Umum
ATTACH;FMTTYPE=image/jpeg:https://tergarindonesia.com/wp-content/uploads/2023/05/WhatsApp-Image-2023-05-08-at-23.43.59-e1683606229985.jpeg
END:VEVENT
BEGIN:VEVENT
DTSTART;TZID=UTC:20230510T190000
DTEND;TZID=UTC:20230510T200000
DTSTAMP:20260423T122557
CREATED:20230510T033620Z
LAST-MODIFIED:20230510T033620Z
UID:1532-1683745200-1683748800@tergarindonesia.com
SUMMARY:Simply Joy
DESCRIPTION:Untuk bersukacita sangat sederhana \, hanya dengan mulai mengenali hal2 kecil yang kita lakukan dan meng “apresiasi” kan nya.\nDengan mulai berlatih mengenali salah satu kualitas tak terbatas ini. Hati kita tidaklah menjadi sempit lagi. Hati menjadi terbuka lebar. \nLatihan meditasi bersama. Hanya untuk Alumni JOL 2 \nRabu\, 10 May 2023\, 19:00-20:00 WIB\nDipandu oleh Brian dan Arief (Co-host).\nRegistrasi: 0838 0692 2450 (WA) \nOrganized by Komunitas Meditasi @tergarindonesia
URL:https://tergarindonesia.com/event/simply-joy/
CATEGORIES:Latihan Meditasi Bersama,Latihan Meditasi JOL 2
ATTACH;FMTTYPE=image/jpeg:https://tergarindonesia.com/wp-content/uploads/2023/05/WhatsApp-Image-2023-05-10-at-08.56.13-e1683689754640.jpeg
END:VEVENT
BEGIN:VEVENT
DTSTART;TZID=UTC:20230517T193000
DTEND;TZID=UTC:20230517T210000
DTSTAMP:20260423T122557
CREATED:20230516T034606Z
LAST-MODIFIED:20230516T034606Z
UID:1551-1684351800-1684357200@tergarindonesia.com
SUMMARY:No Fight\, No Flight
DESCRIPTION:Terkadang begitu banyak pikiran yang datang dan pergi ketika kita berlatih meditasi.\nBagaimana kita bisa berlatih meditasi dengan kondisi tersebut?\nApakah salah jika memiliki banyak pikiran ketika bermeditasi? \nMari kita berdiskusi dan berlatih meditasi bersama di Tergar Meditation Center. \nWaktu : Rabu\, 17 Mei 2023\nJam 19:30 – 21:00 WIB\nBebas Biaya dan terbuka untuk umum. \nNotes:\nAcara tatap muka secara langsung di Tergar Centre Jakarta\, dengan syarat:\nDalam kondisi sehat.\nMematuhi protokol kesehatan. \nAlamat:\nJl. Daan Mogot\, Perumahan Green Mansion Boulevard Raya No.35\, Jakarta Barat\, DKI Jakarta.\nMaps: https://goo.gl/maps/maVW3Y3upjbVouqm8 \nInfo:\nTlp. 021-29025314| WA. 083806922450\n@TergarIndonesia
URL:https://tergarindonesia.com/event/no-fight-no-flight/
CATEGORIES:Latihan Meditasi Bersama,Meditasi Umum
ATTACH;FMTTYPE=image/jpeg:https://tergarindonesia.com/wp-content/uploads/2023/05/WhatsApp-Image-2023-05-15-at-21.14.56-e1684208754552.jpeg
END:VEVENT
BEGIN:VEVENT
DTSTART;TZID=UTC:20230527T090000
DTEND;TZID=UTC:20230528T170000
DTSTAMP:20260423T122557
CREATED:20230511T073300Z
LAST-MODIFIED:20230511T073300Z
UID:1536-1685178000-1685293200@tergarindonesia.com
SUMMARY:Worskhop Joy of Living Level III: Awakening Wisdom (Offline)
DESCRIPTION:Sabtu-Minggu\, 27-28 Mei 2023\nJam 09:00-17:00 WIB \nDibimbing Mingyur Rinpoche melalui program DVD\nDipandu oleh Lama Jigme\, instruktur Tergar Asia \nMelalui fondasi praktik meditasi yang dibangun berlandaskan ajaran & instruksi JOL level pertama dan kedua\, Mingyur Rinpoche akan memberikan panduan Meditasi insight atau Meditasi Pemahaman Mendalam yang akan mencabut akar kebingungan penyebab penderitaan. Kebijaksanaan dari meditasi ini memungkinkan kita untuk mengenali realita sebagaimana adanya\, melampaui pandangan dan persepsi keliru yang kita proyeksikan ke diri dan dunia. \nNotes:\n• Terbuka hanya untuk alumni workshop JOL level 1 & 2\, yang telah menyelesaikan praktik meditasi Min.100 jam (50 jam metode JOL-1 dan 50 jam metode JOL-2)\n• Pendaftaran akan ditutup setelah mencapai kuota peserta.\n• Komitmen mengikuti 2 hari penuh\n• Melakukan registrasi dan donasi sebesar Rp 200.000\,- \nLokasi :\nTergar Meditation Centre Jakarta. Alamat: Jl. Daan Mogot\, Perumahan Green Mansion\, Boulevard Raya No.35\, Jakarta Barat\nMaps: https://goo.gl/maps/maVW3Y3upjbVouqm8 \nRegistrasi:\n083806922450 (WhatsApp)\n@TergarIndonesia
URL:https://tergarindonesia.com/event/worskhop-joy-of-living-level-iii-awakening-wisdom-offline/
CATEGORIES:Workshop Joy of Living,Workshop Joy of Living 3
ATTACH;FMTTYPE=image/jpeg:https://tergarindonesia.com/wp-content/uploads/2023/05/WhatsApp-Image-2023-05-10-at-15.01.15-e1683790344492.jpeg
END:VEVENT
END:VCALENDAR