BEGIN:VCALENDAR
VERSION:2.0
PRODID:-//Tergar Indonesia - ECPv6.15.20//NONSGML v1.0//EN
CALSCALE:GREGORIAN
METHOD:PUBLISH
X-WR-CALNAME:Tergar Indonesia
X-ORIGINAL-URL:https://tergarindonesia.com
X-WR-CALDESC:Events for Tergar Indonesia
REFRESH-INTERVAL;VALUE=DURATION:PT1H
X-Robots-Tag:noindex
X-PUBLISHED-TTL:PT1H
BEGIN:VTIMEZONE
TZID:UTC
BEGIN:STANDARD
TZOFFSETFROM:+0000
TZOFFSETTO:+0000
TZNAME:UTC
DTSTART:20220101T000000
END:STANDARD
END:VTIMEZONE
BEGIN:VEVENT
DTSTART;TZID=UTC:20230201T190000
DTEND;TZID=UTC:20230201T200000
DTSTAMP:20260423T171339
CREATED:20230201T021642Z
LAST-MODIFIED:20230201T021642Z
UID:1201-1675278000-1675281600@tergarindonesia.com
SUMMARY:Stillness\, Movement & Awareness
DESCRIPTION:Latihan meditasi bersama JOL 3 Online. Hanya untuk alumni JOL 3.\nRabu\, 1 Februari 2023\, 19:00-20:00 WIB\nDipandu oleh Anthony (Host) dan Brian (Co-host). \nInfo: 0838 0692 2450 (WA) \nOrganized by: @tergarindonesia
URL:https://tergarindonesia.com/event/stillness-movement-awareness/
CATEGORIES:Latihan Meditasi Bersama,Latihan Meditasi JOL 3
ATTACH;FMTTYPE=image/jpeg:https://tergarindonesia.com/wp-content/uploads/2023/02/WhatsApp-Image-2023-01-31-at-22.35.46-e1675217775984.jpeg
END:VEVENT
BEGIN:VEVENT
DTSTART;TZID=UTC:20230205T100000
DTEND;TZID=UTC:20230205T120000
DTSTAMP:20260423T171339
CREATED:20230206T031332Z
LAST-MODIFIED:20230206T031332Z
UID:1217-1675591200-1675598400@tergarindonesia.com
SUMMARY:Puja 21 Tara
DESCRIPTION:Minggu\, 5 Februari 2023\nJam 10:00 – 12:15 WIB \nDipimpin oleh Lama Nurbu \nTara (Tib. Jetsun Drolma) berarti ‘Yang membebaskan’\, dikenal sebagai Ibu dari semua Buddha. Merupakan manifestasi wanita dari energi pencerahan para Buddha\, Tara dikenal dengan pertolongannya yang tangkas dan kuat dari rintangan luar dan dalam. Melalui aktifitas pencerahanNya yang luas dalam menolong para makhluk\, Tara mewujud dalam 21 emanasi. Dengan mempraktikkan 21 Tara\, batin kita terkoneksi dengan batin kebijaksanaan\, kualitas tercerahkan dan aktifitas pencerahan dari Tara. \nNotes:\n– Umat dapat mengikuti Puja secara langsung di Tergar Center Jakarta\, dengan syarat: sehat dan telah mendapatkan vaksin 2x (minimal)\, atau\n– Umat yang berada di luar kota\, dapat mengikuti puja melalui Zoom\, tanpa registrasi. Teks sadhana akan ditampilkan lewat layar monitor.\nMeeting ID: 870 7922 4472\nPassword: tergar\nLink:\nhttps://us02web.zoom.us/j/87079224472?pwd=UGVCQkkweDFXczJqMnNmQ3ZGTG93Zz09 \nDibuka kesempatan berdana untuk puja mingguan:\nBCA a/n. Yayasan Tergar Indonesia\nNo. 441 3988 899\nCantumkan angka “9” di akhir nominal transfer (contoh: 50.009). \nInfo:\n0838 0692 2450 \n@TergarIndonesia
URL:https://tergarindonesia.com/event/puja-21-tara-2/
CATEGORIES:21 Tara,Puja Mingguan
ATTACH;FMTTYPE=image/jpeg:https://tergarindonesia.com/wp-content/uploads/2023/02/WhatsApp-Image-2023-02-04-at-09.01.14-e1675653158484.jpeg
END:VEVENT
BEGIN:VEVENT
DTSTART;TZID=UTC:20230208T193000
DTEND;TZID=UTC:20230208T210000
DTSTAMP:20260423T171339
CREATED:20230207T044304Z
LAST-MODIFIED:20230207T052535Z
UID:1235-1675884600-1675890000@tergarindonesia.com
SUMMARY:Meditation in Modern Times
DESCRIPTION:Seringkali kita berpikir bahwa meditasi adalah ilmu kuno yang sudah tidak relevan untuk dipratekkan pada masa kini\, tapi nyatanya meditasi masih sangat relevan dan bahkan mungkin dibutuhkan oleh semua orang di jaman modern ini.\nBagaimanakah cara berlatih meditasi di jaman modern ini? Apakah meditasi dapat membantu hidup kita di jaman modern ini? Mari kita berlatih dan berdiskusi bersama di Tergar Meditation Center. \nWaktu : Rabu 8 Feb 2023\nJam 19:30 – 21:00 WIB\nBebas Biaya dan terbuka untuk umum. \nNotes:\nAcara tatap muka secara langsung di Tergar Centre Jakarta\, dengan syarat:\nDalam kondisi sehat.\nMematuhi protokol kesehatan. \nAlamat:\nJl. Daan Mogot\, Perumahan Green Mansion Boulevard Raya No.35\, Jakarta Barat\, DKI Jakarta.\nMaps: https://goo.gl/maps/maVW3Y3upjbVouqm8 \nInfo:\nTlp. 021-29025314| WA. 083806922450\n@TergarIndonesia
URL:https://tergarindonesia.com/event/meditation-in-modern-times/
CATEGORIES:Latihan Meditasi Bersama,Meditasi Umum
ATTACH;FMTTYPE=image/jpeg:https://tergarindonesia.com/wp-content/uploads/2023/02/WhatsApp-Image-2023-02-07-at-12.22.28-e1675747499154.jpeg
END:VEVENT
BEGIN:VEVENT
DTSTART;TZID=UTC:20230211T130000
DTEND;TZID=UTC:20230211T160000
DTSTAMP:20260423T171339
CREATED:20230206T031740Z
LAST-MODIFIED:20230206T031740Z
UID:1220-1676120400-1676131200@tergarindonesia.com
SUMMARY:Handling Obstacles of Meditation B2C JOL 1
DESCRIPTION:Back to Centre (B2C) merupakan salah satu program pembelajaran meditasi mendalam dari Tergar Jakarta yang disesuaikan dengan tingkatan meditasi yang telah diikuti oleh peserta. Rangkaian acara ini berupa meditasi bersama\, diskusi dan tanya jawab mengenai latihan meditasi\, serta menonton video dari Mingyur Rinpoche yang belum pernah diputar saat pelaksanaan Workshop Joy of Living secara Offline. \nBagi teman-teman yang berdomisili di Jakarta dan sekitarnya\, mari bergabung dalam event B2C JOL 1 yang akan diadakan pada hari dan tanggal:\nSabtu\, 11 Februari 2023\nJam 13.00-16.00 WIB\nTergar Meditation Centre Jakarta\nBebas biaya dan tidak membutuhkan pendaftaran \nAlamat:\nJl. Daan Mogot\, Perumahan Green Mansion Boulevard Raya No.35\, Jakarta Barat\, DKI Jakarta.\nMaps: https://goo.gl/maps/maVW3Y3upjbVouqm8 \nNotes:\nEvent tatap muka secara langsung di Tergar Centre Jakarta\, dengan syarat:\n– Telah mengikuti Workshop Joy of Living minimum Level 1 baik secara Offline atau Online\n– Dalam kondisi sehat.\n– Mematuhi protokol kesehatan. \nInfo:\nTlp. 021-29025314| WA. 083806922450\n@TergarIndonesia
URL:https://tergarindonesia.com/event/handling-obstacles-of-meditation-b2c-jol-1/
CATEGORIES:Dharma Study
ATTACH;FMTTYPE=image/jpeg:https://tergarindonesia.com/wp-content/uploads/2023/02/WhatsApp-Image-2023-02-05-at-11.40.13-e1675653408670.jpeg
END:VEVENT
BEGIN:VEVENT
DTSTART;TZID=UTC:20230211T190000
DTEND;TZID=UTC:20230211T210000
DTSTAMP:20260423T171339
CREATED:20230210T083022Z
LAST-MODIFIED:20230210T083022Z
UID:1246-1676142000-1676149200@tergarindonesia.com
SUMMARY:Puja Amitabha untuk Korban Gempa Turki & Suriah
DESCRIPTION:Puja Amitabha untuk Korban Gempa Turki & Suriah \nSabtu\, 11 Februari 2023\nJam 19:15 – 21:00 WIB \nDipimpin oleh Lama Nurbu \nTergar Indonesia mengajak umat untuk bersama-sama melakukan Puja Amitabha yang di dedikasikan untuk semua korban gempa di Turki dan Siriah. \nNotes:\n– Umat dapat mengikuti Puja secara langsung di Tergar Center Jakarta\, dengan syarat: sehat dan telah mendapatkan vaksin 2x (minimal)\, atau\n– Umat yang berada di luar kota\, dapat mengikuti puja melalui Zoom\, tanpa registrasi. Teks sadhana akan ditampilkan lewat layar monitor.\nMeeting ID: 837 3820 3300\nPass: tergar\nLink:\nhttps://us02web.zoom.us/j/83738203300?pwd=S09lUFZsK1R3TENUTVcxQTVVVHJTdz09 \nInfo:\n0838 0692 2450 \n@TergarIndonesia
URL:https://tergarindonesia.com/event/puja-amitabha-untuk-korban-gempa-turki-suriah/
CATEGORIES:Amitabha
ATTACH;FMTTYPE=image/jpeg:https://tergarindonesia.com/wp-content/uploads/2023/02/WhatsApp-Image-2023-02-10-at-14.02.37-e1676017755402.jpeg
END:VEVENT
BEGIN:VEVENT
DTSTART;TZID=UTC:20230212T100000
DTEND;TZID=UTC:20230212T120000
DTSTAMP:20260423T171339
CREATED:20230211T045152Z
LAST-MODIFIED:20230211T045152Z
UID:1249-1676196000-1676203200@tergarindonesia.com
SUMMARY:Puja 21 Tara
DESCRIPTION:Puja 21 Tara \nMinggu\, 12 Februari 2023\nJam 10:00 – 12:15 WIB \nDipimpin oleh Lama Nurbu \nTara (Tib. Jetsun Drolma) berarti ‘Yang membebaskan’\, dikenal sebagai Ibu dari semua Buddha. Merupakan manifestasi wanita dari energi pencerahan para Buddha\, Tara dikenal dengan pertolongannya yang tangkas dan kuat dari rintangan luar dan dalam. Melalui aktifitas pencerahanNya yang luas dalam menolong para makhluk\, Tara mewujud dalam 21 emanasi. Dengan mempraktikkan 21 Tara\, batin kita terkoneksi dengan batin kebijaksanaan\, kualitas tercerahkan dan aktifitas pencerahan dari Tara. \nNotes:\n– Umat dapat mengikuti Puja secara langsung di Tergar Center Jakarta\, dengan syarat: sehat dan telah mendapatkan vaksin 2x (minimal)\, atau\n– Umat yang berada di luar kota\, dapat mengikuti puja melalui Zoom\, tanpa registrasi. Teks sadhana akan ditampilkan lewat layar monitor.\nMeeting ID: 870 7922 4472\nPassword: tergar\nLink:\nhttps://us02web.zoom.us/j/87079224472?pwd=UGVCQkkweDFXczJqMnNmQ3ZGTG93Zz09 \nDibuka kesempatan berdana untuk puja mingguan:\nBCA a/n. Yayasan Tergar Indonesia\nNo. 441 3988 899\nCantumkan angka “9” di akhir nominal transfer (contoh: 50.009). \nInfo:\n0838 0692 2450 \n@TergarIndonesia
URL:https://tergarindonesia.com/event/puja-21-tara-3/
CATEGORIES:21 Tara,Puja Mingguan
ATTACH;FMTTYPE=image/jpeg:https://tergarindonesia.com/wp-content/uploads/2023/02/WhatsApp-Image-2023-02-11-at-10.57.19-e1676091082391.jpeg
END:VEVENT
BEGIN:VEVENT
DTSTART;TZID=UTC:20230213T193000
DTEND;TZID=UTC:20230213T203000
DTSTAMP:20260423T171339
CREATED:20230213T023016Z
LAST-MODIFIED:20230213T023016Z
UID:1252-1676316600-1676320200@tergarindonesia.com
SUMMARY:Surf the waves of your thoughts
DESCRIPTION:Latihan meditasi bersama JOL 1 Online. Hanya untuk alumni JOL 1.\nSenin\, 13 Feb 2023\, 19:30-20:30 WIB\nDipandu oleh Brian (Host) dan Alit (Co-host). \nInfo: 0838 0692 2450 (WA) \nOrganized by: @tergarindonesia
URL:https://tergarindonesia.com/event/surf-the-waves-of-your-thoughts/
CATEGORIES:Latihan Meditasi Bersama,Pendalaman JOL 1
ATTACH;FMTTYPE=image/jpeg:https://tergarindonesia.com/wp-content/uploads/2023/02/WhatsApp-Image-2023-02-12-at-13.50.25-e1676255394841.jpeg
END:VEVENT
BEGIN:VEVENT
DTSTART;TZID=UTC:20230214T190000
DTEND;TZID=UTC:20230214T200000
DTSTAMP:20260423T171339
CREATED:20230214T025802Z
LAST-MODIFIED:20230214T025802Z
UID:1266-1676401200-1676404800@tergarindonesia.com
SUMMARY:Resting The Body & Mind
DESCRIPTION:Latihan meditasi bersama JOL 1 Umum Online. Terbuka untuk umum.\nSelasa\, 14 Februari 2023\, 19:00-20:00 WIB\nDipandu oleh Rudi (Host) dan Gunawan (Co-host). \nZoom ID: 821 1856 5010\nPassword: kesadaran \nInfo: 0838 0692 2450 (WA) \nOrganized by: @tergarindonesia
URL:https://tergarindonesia.com/event/resting-the-body-mind/
CATEGORIES:Latihan Meditasi Bersama,Meditasi Umum
ATTACH;FMTTYPE=image/jpeg:https://tergarindonesia.com/wp-content/uploads/2023/02/WhatsApp-Image-2023-02-14-at-09.53.20-e1676343456608.jpeg
END:VEVENT
BEGIN:VEVENT
DTSTART;TZID=UTC:20230215T190000
DTEND;TZID=UTC:20230215T200000
DTSTAMP:20260423T171339
CREATED:20230215T021918Z
LAST-MODIFIED:20230215T021918Z
UID:1269-1676487600-1676491200@tergarindonesia.com
SUMMARY:Cultivating Loving-kindness
DESCRIPTION:Latihan meditasi bersama JOL 2 Online. Hanya untuk alumni JOL 2.\nRabu\, 15 Feb 2023\, 19:00-20:00 WIB\nDipandu oleh Fery (Host) dan Norlela (Co-host). \nRegistrasi: 0838 0692 2450 (WA) \nOrganized by: @tergarindonesia
URL:https://tergarindonesia.com/event/cultivating-loving-kindness/
CATEGORIES:Latihan Meditasi Bersama,Latihan Meditasi JOL 2
ATTACH;FMTTYPE=image/jpeg:https://tergarindonesia.com/wp-content/uploads/2023/02/WhatsApp-Image-2023-02-15-at-07.42.20-e1676427533327.jpeg
END:VEVENT
BEGIN:VEVENT
DTSTART;TZID=UTC:20230219T100000
DTEND;TZID=UTC:20230219T120000
DTSTAMP:20260423T171339
CREATED:20230220T033256Z
LAST-MODIFIED:20230220T033256Z
UID:1277-1676800800-1676808000@tergarindonesia.com
SUMMARY:Puja 21 Tara
DESCRIPTION:Puja 21 Tara \nMinggu\, 19 Februari 2023\nJam 10:00 – 12:15 WIB \nDipimpin oleh Lama Nurbu \nTara (Tib. Jetsun Drolma) berarti ‘Yang membebaskan’\, dikenal sebagai Ibu dari semua Buddha. Merupakan manifestasi wanita dari energi pencerahan para Buddha\, Tara dikenal dengan pertolongannya yang tangkas dan kuat dari rintangan luar dan dalam. Melalui aktifitas pencerahanNya yang luas dalam menolong para makhluk\, Tara mewujud dalam 21 emanasi. Dengan mempraktikkan 21 Tara\, batin kita terkoneksi dengan batin kebijaksanaan\, kualitas tercerahkan dan aktifitas pencerahan dari Tara. \nNotes:\n– Umat dapat mengikuti Puja secara langsung di Tergar Center Jakarta\, dengan syarat: sehat dan telah mendapatkan vaksin 2x (minimal)\, atau\n– Umat yang berada di luar kota\, dapat mengikuti puja melalui Zoom\, tanpa registrasi. Teks sadhana akan ditampilkan lewat layar monitor.\nMeeting ID: 870 7922 4472\nPassword: tergar\nLink:\nhttps://us02web.zoom.us/j/87079224472?pwd=UGVCQkkweDFXczJqMnNmQ3ZGTG93Zz09 \nDibuka kesempatan berdana untuk puja mingguan:\nBCA a/n. Yayasan Tergar Indonesia\nNo. 441 3988 899\nCantumkan angka “9” di akhir nominal transfer (contoh: 50.009). \nInfo:\n0838 0692 2450 \n@TergarIndonesia
URL:https://tergarindonesia.com/event/puja-21-tara-4/
CATEGORIES:21 Tara,Puja Mingguan
ATTACH;FMTTYPE=image/jpeg:https://tergarindonesia.com/wp-content/uploads/2023/02/WhatsApp-Image-2023-02-18-at-09.24.24-e1676863945573.jpeg
END:VEVENT
BEGIN:VEVENT
DTSTART;TZID=UTC:20230222T193000
DTEND;TZID=UTC:20230222T210000
DTSTAMP:20260423T171339
CREATED:20230220T033602Z
LAST-MODIFIED:20230220T083601Z
UID:1280-1677094200-1677099600@tergarindonesia.com
SUMMARY:The True Wealth
DESCRIPTION:Definisi sukses\, makmur\, bahagia yang dibentuk oleh masyarakat modern saat ini sudah lebih kompleks dibandingkan dengan masyarakat zaman dahulu.\nJika definisi ini dari waktu ke waktu terus berubah\, bagaimana caranya agar kita dapat benar-benar mencapainya? \nMari kita berlatih dan berdiskusi bersama di Tergar Meditation Center. \nWaktu : Rabu\, 22 Feb 2023\nJam 19:30 – 21:00 WIB\nBebas Biaya dan terbuka untuk umum. \nNotes:\nAcara tatap muka secara langsung di Tergar Centre Jakarta\, dengan syarat:\nDalam kondisi sehat.\nMematuhi protokol kesehatan. \nAlamat:\nJl. Daan Mogot\, Perumahan Green Mansion Boulevard Raya No.35\, Jakarta Barat\, DKI Jakarta.\nMaps: https://goo.gl/maps/maVW3Y3upjbVouqm8 \nInfo:\nTlp. 021-29025314| WA. 083806922450\n@TergarIndonesia
URL:https://tergarindonesia.com/event/1280/
CATEGORIES:Latihan Meditasi Bersama,Meditasi Umum
ATTACH;FMTTYPE=image/jpeg:https://tergarindonesia.com/wp-content/uploads/2023/02/WhatsApp-Image-2023-02-18-at-18.29.30-e1676864132546.jpeg
END:VEVENT
BEGIN:VEVENT
DTSTART;TZID=UTC:20230227T193000
DTEND;TZID=UTC:20230227T203000
DTSTAMP:20260423T171339
CREATED:20230227T030509Z
LAST-MODIFIED:20230227T030509Z
UID:1302-1677526200-1677529800@tergarindonesia.com
SUMMARY:Again and Again
DESCRIPTION:Latihan meditasi bersama dan diskusi. Hanya untuk alumni JOL 1. \nSenin\, 27 Februari 2023\, 19:30-20:30 WIB\nDipandu oleh Susi (Host) dan Arief (Co-host). \nRegistrasi: 0838 0692 2450 (WA) \nOrganized by: @tergarindonesia
URL:https://tergarindonesia.com/event/again-and-again/
CATEGORIES:Latihan Meditasi Bersama,Pendalaman JOL 1
ATTACH;FMTTYPE=image/jpeg:https://tergarindonesia.com/wp-content/uploads/2023/02/WhatsApp-Image-2023-02-25-at-17.17.35-e1677467052985.jpeg
END:VEVENT
BEGIN:VEVENT
DTSTART;TZID=UTC:20230228T190000
DTEND;TZID=UTC:20230228T200000
DTSTAMP:20260423T171339
CREATED:20230227T102738Z
LAST-MODIFIED:20230227T102738Z
UID:1320-1677610800-1677614400@tergarindonesia.com
SUMMARY:Terbebas Dari Cengkraman Harga Diri Rendah
DESCRIPTION:Penghambat diri kita untuk berkembang dalam berbagai aspek kehidupan adalah sikap kita yang rendah diri. \nRendah diri sama halnya kita memandang diri kita serba kurang\, serba jelek dan serba-serba negatif yang lain. \nTentu hal ini merugikan diri kita\, orang lain dan tentu orang-orang dekat kita\, seperti anggota keluarga\, rekan kerja/rekanan usaha\, teman. \nBenarkah diri kita sebegitu rendahnya ? Ternyata tidak\, diri kita sesungguhnya sangatlah berharga. \nNamun karena kita belum / tidak mengenalinya maka kita terjebak pada pandangan yang keliru tsb. \nMari kita berlatih meditasi bersama mengembangkan kesadaran dan rasa syukur kita atas hal berharga yang kita miliki. \nTerbuka untuk umum dan bebas biaya. Selasa\, 28 Februari 2023\, 19:00-20:00 WIB. Dipandu oleh Hemmarata dan Gunawan Muliawan. \nVia ZOOM\, meeting ID : 821 1856 5010\nPasscode : kesadaran \nInfo :\n– WA : 0838 0692 2450\n– Website : http://www.tergarindonesia.com/events/\n• Organized by @tergarindonesia
URL:https://tergarindonesia.com/event/terbebas-dari-cengkraman-harga-diri-rendah/
CATEGORIES:Latihan Meditasi Bersama,Meditasi Umum
ATTACH;FMTTYPE=image/jpeg:https://tergarindonesia.com/wp-content/uploads/2023/02/WhatsApp-Image-2023-02-27-at-17.21.10-e1677493624275.jpeg
END:VEVENT
END:VCALENDAR