BEGIN:VCALENDAR
VERSION:2.0
PRODID:-//Tergar Indonesia - ECPv6.15.20//NONSGML v1.0//EN
CALSCALE:GREGORIAN
METHOD:PUBLISH
X-ORIGINAL-URL:https://tergarindonesia.com
X-WR-CALDESC:Events for Tergar Indonesia
REFRESH-INTERVAL;VALUE=DURATION:PT1H
X-Robots-Tag:noindex
X-PUBLISHED-TTL:PT1H
BEGIN:VTIMEZONE
TZID:UTC
BEGIN:STANDARD
TZOFFSETFROM:+0000
TZOFFSETTO:+0000
TZNAME:UTC
DTSTART:20210101T000000
END:STANDARD
END:VTIMEZONE
BEGIN:VEVENT
DTSTART;TZID=UTC:20221101T190000
DTEND;TZID=UTC:20221101T200000
DTSTAMP:20260423T221549
CREATED:20221031T112216Z
LAST-MODIFIED:20221031T112216Z
UID:817-1667329200-1667332800@tergarindonesia.com
SUMMARY:No Problem : Mengenali Problem Sebagaimana Adanya
DESCRIPTION:Problem tidaklah menyebabkan kita menderita. Yang menyebabkan kita menderita adalah pandangan kita yang keliru terhadap problem yang muncul. \nKalau kita memandang problem yang muncul sebagaimana adanya maka tidak ada penderitaan di situ\, jadinya … No Problem. \nMari kita berlatih meditasi bersama mengenali problem sebagaimana adanya. \nTerbuka untuk umum dan bebas biaya. Selasa\, 01 Nov 2022\, 19:00-20:00 WIB. Dipandu oleh Hemmarata dan @diella.dachlan \nVia ZOOM\, meeting ID : 821 1856 5010\nPasscode : kesadaran \nInfo : 0838 0692 2450\nOrganized by @tergarindonesia
URL:https://tergarindonesia.com/event/no-problem-mengenali-problem-sebagaimana-adanya/
CATEGORIES:Latihan Meditasi Bersama,Meditasi Umum
ATTACH;FMTTYPE=image/jpeg:https://tergarindonesia.com/wp-content/uploads/2022/10/WhatsApp-Image-2022-10-31-at-18.05.37-e1667215303331.jpeg
END:VEVENT
BEGIN:VEVENT
DTSTART;TZID=UTC:20221102T190000
DTEND;TZID=UTC:20221102T200000
DTSTAMP:20260423T221549
CREATED:20221031T030302Z
LAST-MODIFIED:20221031T030302Z
UID:801-1667415600-1667419200@tergarindonesia.com
SUMMARY:Seeing Suffering\, Seeing Compassion
DESCRIPTION:Latihan meditasi bersama. Hanya untuk Alumni JOL 2 \nRabu\, 02 November 2022\, 19:00-20:00 WIB\nDipandu oleh Brian (Host) dan Alit (Co-host).\nRegistrasi: 0838 0692 2450 (WA) \nOrganized by Komunitas Meditasi @tergarindonesia
URL:https://tergarindonesia.com/event/seeing-suffering-seeing-compassion/
CATEGORIES:Latihan Meditasi Bersama,Latihan Meditasi JOL 2
ATTACH;FMTTYPE=image/jpeg:https://tergarindonesia.com/wp-content/uploads/2022/10/WhatsApp-Image-2022-10-30-at-16.41.40-e1667185342357.jpeg
END:VEVENT
BEGIN:VEVENT
DTSTART;TZID=UTC:20221107T193000
DTEND;TZID=UTC:20221107T203000
DTSTAMP:20260423T221549
CREATED:20221107T044628Z
LAST-MODIFIED:20221107T044628Z
UID:836-1667849400-1667853000@tergarindonesia.com
SUMMARY:No Picking\, No Choosing
DESCRIPTION:Latihan meditasi bersama dan diskusi. Hanya untuk alumni JOL 1 \nSenin\, 7 November 2022\, 19:30-20:30 WIB\nDipandu oleh Susi (Host) dan Alit (Co-host). \nRegistrasi: 0838 0692 2450 (WA) \nOrganized by: @tergarindonesia
URL:https://tergarindonesia.com/event/no-picking-no-choosing/
CATEGORIES:Latihan Meditasi Bersama,Pendalaman JOL 1
ATTACH;FMTTYPE=image/jpeg:https://tergarindonesia.com/wp-content/uploads/2022/11/WhatsApp-Image-2022-11-07-at-09.01.02-e1667796357768.jpeg
END:VEVENT
BEGIN:VEVENT
DTSTART;TZID=UTC:20221108T190000
DTEND;TZID=UTC:20221108T200000
DTSTAMP:20260423T221549
CREATED:20221107T045738Z
LAST-MODIFIED:20221107T045738Z
UID:845-1667934000-1667937600@tergarindonesia.com
SUMMARY:Facing Suffering : Seni menghadapi penderitaan
DESCRIPTION:Reaksi alami kita ketika ada masalah biasanya kabur atau ikut tergulung dalam masalah tersebut. \nNamun\, kita tidak selalu bisa lari menghindar dari kesulitan/penderitaan. \nAdakah cara yang lebih terampil dalam menghadapi penderitaan dan kesulitan kita ? Bagaimana pendekatan meditasi membantu dalam menghadapi kesulitan dan penderitaan kita ? \nMari belajar dan berlatih seni menghadapi penderitaan dengan pendekatan meditasi. \nTerbuka untuk umum dan bebas biaya. Selasa\, 08 Nov 2022\, 19:00-20:00 WIB. Dipandu oleh Rudy Susanto dan @diella.dachlan \nVia ZOOM\, meeting ID : 821 1856 5010\nPasscode : kesadaran \nInfo : 0838 0692 2450\nOrganized by @tergarindonesia
URL:https://tergarindonesia.com/event/facing-suffering-seni-menghadapi-penderitaan/
CATEGORIES:Latihan Meditasi Bersama,Meditasi Umum
ATTACH;FMTTYPE=image/jpeg:https://tergarindonesia.com/wp-content/uploads/2022/11/WhatsApp-Image-2022-11-05-at-12.26.32-e1667797006740.jpeg
END:VEVENT
BEGIN:VEVENT
DTSTART;TZID=UTC:20221109T190000
DTEND;TZID=UTC:20221109T200000
DTSTAMP:20260423T221549
CREATED:20221109T024632Z
LAST-MODIFIED:20221109T024632Z
UID:861-1668020400-1668024000@tergarindonesia.com
SUMMARY:INVESTIGATE
DESCRIPTION:Latihan meditasi bersama dan diskusi. Hanya untuk alumni JOL 3. \nRabu\, 9 November 2022\, 19:00-20:00 WIB\nDipandu oleh Anthony (Host) dan Alit (Co-host). \nRegistrasi: 0838 0692 2450 (WA) \nOrganized by: @tergarindonesia
URL:https://tergarindonesia.com/event/investigate/
CATEGORIES:Latihan Meditasi Bersama,Latihan Meditasi JOL 3
ATTACH;FMTTYPE=image/jpeg:https://tergarindonesia.com/wp-content/uploads/2022/11/WhatsApp-Image-2022-11-09-at-07.49.56-e1667961961765.jpeg
END:VEVENT
BEGIN:VEVENT
DTSTART;TZID=UTC:20221113T100000
DTEND;TZID=UTC:20221113T120000
DTSTAMP:20260423T221549
CREATED:20221114T075407Z
LAST-MODIFIED:20221114T075407Z
UID:904-1668333600-1668340800@tergarindonesia.com
SUMMARY:Puja Chenrezig 4 Lengan
DESCRIPTION:Puja Chenrezig 4 Lengan\nDipimpin Lama Norbu \nMinggu\, 13 November 2022\n10.00 – 12.00 WIB \nChenrezig (Avalokiteśvara) adalah perwujudan dari cinta kasih dan welas asih dari semua Buddha. Secara harfiah berarti “Yang Melihat Dengan Mata Penuh Kasih”. Tubuh putih bercahaya Chenrezig mewakili kecemerlangan kebijaksanaan hakiki yang murni tanpa noda yang merupakan kualitas mendasar bawaan setiap makhluk\, serta berlengan empat melambangkan empat kualitas tanpa batas. Puja Chenrezig dan pelafalan mantra 6 silabel OM MANI PADME HUM mempurifikasi kenegatifan dan mengakumulasi kebajikan tak terhingga serta kebijaksanaan relatif maupun absolut. \nNotes:\n– Umat dapat mengikuti puja secara langsung di Tergar Centre.\n– Puja juga dapat diikuti online melalui Zoom\, teks sadhana akan ditampilkan melalui layar.\nMeeting ID: 835 1003 5005\nPassword: tergar\nLink:\nhttps://us02web.zoom.us/j/83510035005?pwd=UVE5dmxQWEE4dHo5VWhwZGNMRUNMUT09 \nDibuka kesempatan berdana untuk puja mingguan:\nBCA a/n. Yayasan Tergar Indonesia\nNo. 441 3988 899\nCantumkan angka “9” di akhir nominal transfer (contoh: 50.009). \nInfo:\n0838 0692 2450\n@TergarIndonesia
URL:https://tergarindonesia.com/event/puja-chenrezig-4-lengan-3/
CATEGORIES:Chenrezig,Puja Mingguan
ATTACH;FMTTYPE=image/jpeg:https://tergarindonesia.com/wp-content/uploads/2022/11/WhatsApp-Image-2022-11-12-at-09.20.16-e1668412406228.jpeg
END:VEVENT
BEGIN:VEVENT
DTSTART;TZID=UTC:20221115T190000
DTEND;TZID=UTC:20221115T200000
DTSTAMP:20260423T221549
CREATED:20221114T035414Z
LAST-MODIFIED:20221114T035414Z
UID:893-1668538800-1668542400@tergarindonesia.com
SUMMARY:What Do you Want?
DESCRIPTION:Memahami penderitaan\,\nMemahami apa yang sebenarnya kita inginkan. \nMari belajar dan berlatih seni menghadapi penderitaan dengan pendekatan meditasi. \nTerbuka untuk umum dan bebas biaya. Selasa\, 15 Nov 2022\, 19:00-20:00 WIB. Dipandu oleh Elvi dan @diella.dachlan \nVia ZOOM\, meeting ID : 821 1856 5010\nPasscode : kesadaran \nInfo : 0838 0692 2450\nOrganized by @tergarindonesia
URL:https://tergarindonesia.com/event/what-do-you-want/
CATEGORIES:Latihan Meditasi Bersama,Meditasi Umum
ATTACH;FMTTYPE=image/jpeg:https://tergarindonesia.com/wp-content/uploads/2022/11/WhatsApp-Image-2022-11-13-at-15.10.21-e1668398001732.jpeg
END:VEVENT
BEGIN:VEVENT
DTSTART;TZID=UTC:20221116T190000
DTEND;TZID=UTC:20221116T200000
DTSTAMP:20260423T221549
CREATED:20221115T084100Z
LAST-MODIFIED:20221115T084100Z
UID:915-1668625200-1668628800@tergarindonesia.com
SUMMARY:Embrace & Transform Emotion
DESCRIPTION:Bagaimana merangkul dan mentransformasi emosi menjadi cinta kasih dan welas asih \nLatihan meditasi dan diskusi bersama. Hanya untuk Alumni JOL 2 \nRabu\, 16 November 2022\, 19:00-20:00 WIB\nDipandu oleh Anto (Host) dan Gunawan (Co-host).\nRegistrasi: 0838 0692 2450 (WA) \nOrganized by Komunitas Meditasi @tergarindonesia
URL:https://tergarindonesia.com/event/embrace-transform-emotion/
CATEGORIES:Latihan Meditasi Bersama,Latihan Meditasi JOL 2
ATTACH;FMTTYPE=image/jpeg:https://tergarindonesia.com/wp-content/uploads/2022/11/WhatsApp-Image-2022-11-15-at-15.32.05-e1668501629749.jpeg
END:VEVENT
BEGIN:VEVENT
DTSTART;TZID=UTC:20221120T100000
DTEND;TZID=UTC:20221120T120000
DTSTAMP:20260423T221549
CREATED:20221114T041553Z
LAST-MODIFIED:20221114T041553Z
UID:901-1668938400-1668945600@tergarindonesia.com
SUMMARY:Perayaan Bersama: Panjang Umur Mingyur Rinpoche
DESCRIPTION:Memperingati ulang tahun guru kita Mingyur Rinpoche\, Tergar Indonesia mengundang semua murid dan simpatisan untuk bersama-sama merayakan dengan melakukan doa panjang umur\, bermeditasi\, dan makan siang bersama. Berkesempatan untuk mendoakan Guru Dharma panjang umur merupakan kesempatan baik untuk akumulasi kebajikan dan purifikasi kenegatifan. \nBtw.. Akan Ada Kuis Berhadiah Juga Lho!! \nDalam acara ini Lama Norbu yang akan memandu membacakan Calling Lama from Afar\, doa panjang umur \nWaktu:\nMinggu\, 20 Nov 2022\nJam 10.00 – 12.00 WIB \nNotes:\n– Acara dapat dihadiri secara langsung di Tergar Centre Jakarta.\n– Peserta luar kota dapat mengikuti secara online melalui Zoom\, teks doa akan ditampilkan melalui layar.\nMeeting ID: 879 7026 4290\nPassword: tergar\nTautan Link:\nhttps://us02web.zoom.us/j/87970264290?pwd=eVVwM2Rrbm93eElJZWtVUDFuaGF0QT09 \nInfo:\nTlp.021-29025314\nWA/SMS.083806922450 \n@tergarindonesia
URL:https://tergarindonesia.com/event/perayaan-bersama-panjang-umur-mingyur-rinpoche/
CATEGORIES:Big Puja,Events
ATTACH;FMTTYPE=image/png:https://tergarindonesia.com/wp-content/uploads/2022/11/Screenshot-114.png
END:VEVENT
BEGIN:VEVENT
DTSTART;TZID=UTC:20221121T193000
DTEND;TZID=UTC:20221121T203000
DTSTAMP:20260423T221549
CREATED:20221121T030647Z
LAST-MODIFIED:20221121T030647Z
UID:925-1669059000-1669062600@tergarindonesia.com
SUMMARY:Knowing The Monkey Inside Me
DESCRIPTION:Latihan meditasi bersama dan diskusi. Hanya untuk alumni JOL 1 \nSenin\, 21 November 2022\, 19:30-20:30 WIB\nDipandu oleh Elvi (Host) dan Clay (Co-host). \nRegistrasi: 0838 0692 2450 (WA) \nOrganized by: @tergarindonesia
URL:https://tergarindonesia.com/event/knowing-the-monkey-inside-me/
CATEGORIES:Latihan Meditasi Bersama,Pendalaman JOL 1
ATTACH;FMTTYPE=image/jpeg:https://tergarindonesia.com/wp-content/uploads/2022/11/WhatsApp-Image-2022-11-21-at-09.53.23-e1668999966747.jpeg
END:VEVENT
BEGIN:VEVENT
DTSTART;TZID=UTC:20221122T190000
DTEND;TZID=UTC:20221122T200000
DTSTAMP:20260423T221549
CREATED:20221122T025841Z
LAST-MODIFIED:20221122T025841Z
UID:946-1669143600-1669147200@tergarindonesia.com
SUMMARY:Mengembangkan Kesabaran Menghadapi Penderitaan
DESCRIPTION:Seringkah Anda mendengar orang menasihatkan seperti ini\, “Yang sabar ya\, penderitaan ini pasti segera berlalu”\, saat kita menghadapi problem bertubi-tubi. \nPertanyaannya adalah bagaimana cara kita bersabar ? Apakah dengan menahan diri ? \nMari kita berlatih meditasi bersama mengembangkan kesabaran untuk menghadapi penderitaan yang dipicu oleh berbagai macam problem yang hadir hampir bersamaan. \nTerbuka untuk umum dan bebas biaya. Selasa\, 22 Nov 2022\, 19:00-20:00 WIB. Dipandu oleh Hemmarata dan Alit Arimbawa \nVia ZOOM\, meeting ID : 821 1856 5010\nPasscode : kesadaran \nInfo : 0838 0692 2450\nOrganized by @tergarindonesia
URL:https://tergarindonesia.com/event/mengembangkan-kesabaran-menghadapi-penderitaan/
CATEGORIES:Latihan Meditasi Bersama,Meditasi Umum
ATTACH;FMTTYPE=image/jpeg:https://tergarindonesia.com/wp-content/uploads/2022/11/WhatsApp-Image-2022-11-22-at-09.27.42-e1669085887996.jpeg
END:VEVENT
BEGIN:VEVENT
DTSTART;TZID=UTC:20221123T190000
DTEND;TZID=UTC:20221123T200000
DTSTAMP:20260423T221549
CREATED:20221123T024222Z
LAST-MODIFIED:20221123T024222Z
UID:949-1669230000-1669233600@tergarindonesia.com
SUMMARY:The Source of Suffering and Go Beyond
DESCRIPTION:Latihan meditasi bersama dan diskusi. Hanya untuk alumni JOL 3 \nRabu\, 23 November 2022\, 19:00-20:00 WIB\nDipandu oleh Mustapa (Host) dan Arief (Co-host). \nRegistrasi: 0838 0692 2450 (WA) \nOrganized by: @tergarindonesia
URL:https://tergarindonesia.com/event/the-source-of-suffering-and-go-beyond/
CATEGORIES:Latihan Meditasi Bersama,Latihan Meditasi JOL 3
ATTACH;FMTTYPE=image/jpeg:https://tergarindonesia.com/wp-content/uploads/2022/11/WhatsApp-Image-2022-11-23-at-09.10.27-e1669171307903.jpeg
END:VEVENT
BEGIN:VEVENT
DTSTART;TZID=UTC:20221127T100000
DTEND;TZID=UTC:20221127T120000
DTSTAMP:20260423T221549
CREATED:20221127T023655Z
LAST-MODIFIED:20221127T023655Z
UID:952-1669543200-1669550400@tergarindonesia.com
SUMMARY:Puja Chenrezig 4 Lengan & Sur Offering
DESCRIPTION:PRAY FOR CIANJUR\nPuja Chenrezig 4 Lengan & Sur Offering\nDipimpin Lama Norbu \nMinggu\, 27 November 2022\n10.00 – 12.00 WIB \nPuja kali ini akan kita dedikasikan juga kepada para korban gempa di Cianjur. Semoga kebajikan dari Puja dan Sur Offering ini dapat meringankan penderitaan mereka. \nChenrezig (Avalokiteśvara) adalah perwujudan dari cinta kasih dan welas asih dari semua Buddha. Secara harfiah berarti “Yang Melihat Dengan Mata Penuh Kasih”. Tubuh putih bercahaya Chenrezig mewakili kecemerlangan kebijaksanaan hakiki yang murni tanpa noda yang merupakan kualitas mendasar bawaan setiap makhluk\, serta berlengan empat melambangkan empat kualitas tanpa batas. Puja Chenrezig dan pelafalan mantra 6 silabel OM MANI PADME HUM mempurifikasi kenegatifan dan mengakumulasi kebajikan tak terhingga serta kebijaksanaan relatif maupun absolut. \nNotes:\n– Umat dapat mengikuti puja secara langsung di Tergar Centre.\n– Puja juga dapat diikuti online melalui Zoom\, teks sadhana akan ditampilkan melalui layar.\nMeeting ID: 835 1003 5005\nPassword: tergar\nLink:\nhttps://us02web.zoom.us/j/83510035005?pwd=UVE5dmxQWEE4dHo5VWhwZGNMRUNMUT09 \nDibuka kesempatan berdana untuk puja mingguan:\nBCA a/n. Yayasan Tergar Indonesia\nNo. 441 3988 899\nCantumkan angka “9” di akhir nominal transfer (contoh: 50.009). \nInfo:\n0838 0692 2450\n@TergarIndonesia
URL:https://tergarindonesia.com/event/puja-chenrezig-4-lengan-sur-offering/
CATEGORIES:Chenrezig,Puja Mingguan
ATTACH;FMTTYPE=image/jpeg:https://tergarindonesia.com/wp-content/uploads/2022/11/WhatsApp-Image-2022-11-26-at-09.13.44-e1669516570132.jpeg
END:VEVENT
BEGIN:VEVENT
DTSTART;TZID=UTC:20221129T190000
DTEND;TZID=UTC:20221129T200000
DTSTAMP:20260423T221549
CREATED:20221129T035627Z
LAST-MODIFIED:20221129T035627Z
UID:981-1669748400-1669752000@tergarindonesia.com
SUMMARY:STOP dari Terus Berlari
DESCRIPTION:Capek nggak sih kalau setiap ada masalah\, kita selalu lari? Nah\, gimana kalau mulai sekarang jika masalah datang\, kita berlatih STOP! Tidak lagi lari\, tidak melawan\, lalu kita hadapi. \nMari berlatih meditasi dan berdiskusi bersama\, agar kita STOP lari dari masalah. Kita berlatih untuk hadapi masalah dengan mengembangkan kesadaran. \nTerbuka untuk umum dan bebas biaya. Selasa\, 29 Nov 2022\, 19:00-20:00 WIB. Dipandu oleh Hemmarata dan @diella.dachlan \nVia ZOOM\, meeting ID : 821 1856 5010\nPasscode : kesadaran \nInfo : 0838 0692 2450\nOrganized by @tergarindonesia
URL:https://tergarindonesia.com/event/stop-dari-terus-berlari/
CATEGORIES:Latihan Meditasi Bersama,Meditasi Umum
ATTACH;FMTTYPE=image/jpeg:https://tergarindonesia.com/wp-content/uploads/2022/11/WhatsApp-Image-2022-11-29-at-10.52.13-e1669694151653.jpeg
END:VEVENT
BEGIN:VEVENT
DTSTART;TZID=UTC:20221130T190000
DTEND;TZID=UTC:20221130T200000
DTSTAMP:20260423T221549
CREATED:20221129T035755Z
LAST-MODIFIED:20221129T035755Z
UID:984-1669834800-1669838400@tergarindonesia.com
SUMMARY:Recognize Our Basic Goodness
DESCRIPTION:Latihan meditasi dan diskusi bersama. Hanya untuk Alumni JOL 2 \nRabu\, 30 November 2022\, 19:00-20:00 WIB\nDipandu oleh Susi (Host) dan Gunawan (Co-host).\nRegistrasi: 0838 0692 2450 (WA) \nOrganized by Komunitas Meditasi @tergarindonesia
URL:https://tergarindonesia.com/event/recognize-our-basic-goodness/
CATEGORIES:Latihan Meditasi Bersama,Latihan Meditasi JOL 2
ATTACH;FMTTYPE=image/jpeg:https://tergarindonesia.com/wp-content/uploads/2022/11/WhatsApp-Image-2022-11-29-at-10.37.22-e1669694231410.jpeg
END:VEVENT
END:VCALENDAR