BEGIN:VCALENDAR
VERSION:2.0
PRODID:-//Tergar Indonesia - ECPv6.15.20//NONSGML v1.0//EN
CALSCALE:GREGORIAN
METHOD:PUBLISH
X-ORIGINAL-URL:https://tergarindonesia.com
X-WR-CALDESC:Events for Tergar Indonesia
REFRESH-INTERVAL;VALUE=DURATION:PT1H
X-Robots-Tag:noindex
X-PUBLISHED-TTL:PT1H
BEGIN:VTIMEZONE
TZID:UTC
BEGIN:STANDARD
TZOFFSETFROM:+0000
TZOFFSETTO:+0000
TZNAME:UTC
DTSTART:20210101T000000
END:STANDARD
END:VTIMEZONE
BEGIN:VEVENT
DTSTART;TZID=UTC:20221002T100000
DTEND;TZID=UTC:20221002T120000
DTSTAMP:20260423T235701
CREATED:20221001T052231Z
LAST-MODIFIED:20221001T052231Z
UID:662-1664704800-1664712000@tergarindonesia.com
SUMMARY:Puja Chenrezig 4 Lengan
DESCRIPTION:Puja Chenrezig 4 Lengan\nDipimpin Lama Norbu \nMinggu\, 02 Oktober 2022\n10.00 – 12.00 WIB \nChenrezig (Avalokiteśvara) adalah perwujudan dari cinta kasih dan welas asih dari semua Buddha. Secara harfiah berarti “Yang Melihat Dengan Mata Penuh Kasih”. Tubuh putih bercahaya Chenrezig mewakili kecemerlangan kebijaksanaan hakiki yang murni tanpa noda yang merupakan kualitas mendasar bawaan setiap makhluk\, serta berlengan empat melambangkan empat kualitas tanpa batas. Puja Chenrezig dan pelafalan mantra 6 silabel OM MANI PADME HUM mempurifikasi kenegatifan dan mengakumulasi kebajikan tak terhingga serta kebijaksanaan relatif maupun absolut. \nNotes:\n– Umat dapat mengikuti puja secara langsung di Tergar Centre.\n– Puja juga dapat diikuti online melalui Zoom\, teks sadhana akan ditampilkan melalui layar.\nMeeting ID: 835 1003 5005\nPassword: tergar\nLink:\nhttps://us02web.zoom.us/j/83510035005?pwd=UVE5dmxQWEE4dHo5VWhwZGNMRUNMUT09 \nDibuka kesempatan berdana untuk puja mingguan:\nBCA a/n. Yayasan Tergar Indonesia\nNo. 441 3988 899\nCantumkan angka “9” di akhir nominal transfer (contoh: 50.009). \nInfo:\n0838 0692 2450\n@TergarIndonesia
URL:https://tergarindonesia.com/event/puja-chenrezig-4-lengan/
CATEGORIES:Chenrezig,Puja Mingguan
ATTACH;FMTTYPE=image/jpeg:https://tergarindonesia.com/wp-content/uploads/2022/10/WhatsApp-Image-2022-10-01-at-09.20.27.jpeg
END:VEVENT
BEGIN:VEVENT
DTSTART;TZID=UTC:20221004T190000
DTEND;TZID=UTC:20221004T200000
DTSTAMP:20260423T235701
CREATED:20221004T095156Z
LAST-MODIFIED:20221004T095156Z
UID:670-1664910000-1664913600@tergarindonesia.com
SUMMARY:Saya\, Kamu\, dan Avatar Kita Berdua…
DESCRIPTION:Seni Berelasi Sehat dalam dimensi Universe dan Metaverse \nLatihan Meditasi Bersama dan Sharing\, terbuka untuk umum dan bebas biaya. Selasa\, 4 Oktober 2022\, 19:00-20:00 WIB. Dipandu oleh @yudhigejali dan @diella.dachlan. Via ZOOM\, meeeting ID: 821 1856 5010\, passcode: kesadaran.\n.\nAcara ini diadakan oleh komunitas meditasi @tergarindonesia
URL:https://tergarindonesia.com/event/saya-kamu-dan-avatar-kita-berdua/
CATEGORIES:Latihan Meditasi Bersama,Meditasi Umum
ATTACH;FMTTYPE=image/jpeg:https://tergarindonesia.com/wp-content/uploads/2022/10/WhatsApp-Image-2022-10-04-at-16.46.59-e1664877104446.jpeg
END:VEVENT
BEGIN:VEVENT
DTSTART;TZID=UTC:20221005T190000
DTEND;TZID=UTC:20221005T200000
DTSTAMP:20260423T235701
CREATED:20221005T063617Z
LAST-MODIFIED:20221005T063617Z
UID:673-1664996400-1665000000@tergarindonesia.com
SUMMARY:Compassionate Relationship
DESCRIPTION:Latihan meditasi bersama. Hanya untuk Alumni JOL 2 \nRabu\, 5 Oktober 2022\, 19:00-20:00 WIB\nDipandu oleh Gunawan (Host) dan Andre (Co-host).\nRegistrasi: 0838 0692 2450 (WA) \nOrganized by Komunitas Meditasi @tergarindonesia
URL:https://tergarindonesia.com/event/compassionate-relationship/
CATEGORIES:Latihan Meditasi Bersama,Latihan Meditasi JOL 2
ATTACH;FMTTYPE=image/jpeg:https://tergarindonesia.com/wp-content/uploads/2022/10/WhatsApp-Image-2022-10-05-at-10.21.55-e1664951768900.jpeg
END:VEVENT
BEGIN:VEVENT
DTSTART;TZID=UTC:20221009T100000
DTEND;TZID=UTC:20221009T120000
DTSTAMP:20260423T235701
CREATED:20221008T042009Z
LAST-MODIFIED:20221008T042009Z
UID:676-1665309600-1665316800@tergarindonesia.com
SUMMARY:Puja Chenrezig 4 Lengan
DESCRIPTION:Puja Chenrezig 4 Lengan\nDipimpin Lama Norbu \nMinggu\, 09 Oktober 2022\n10.00 – 12.00 WIB \nChenrezig (Avalokiteśvara) adalah perwujudan dari cinta kasih dan welas asih dari semua Buddha. Secara harfiah berarti “Yang Melihat Dengan Mata Penuh Kasih”. Tubuh putih bercahaya Chenrezig mewakili kecemerlangan kebijaksanaan hakiki yang murni tanpa noda yang merupakan kualitas mendasar bawaan setiap makhluk\, serta berlengan empat melambangkan empat kualitas tanpa batas. Puja Chenrezig dan pelafalan mantra 6 silabel OM MANI PADME HUM mempurifikasi kenegatifan dan mengakumulasi kebajikan tak terhingga serta kebijaksanaan relatif maupun absolut. \nNotes:\n– Umat dapat mengikuti puja secara langsung di Tergar Centre.\n– Puja juga dapat diikuti online melalui Zoom\, teks sadhana akan ditampilkan melalui layar.\nMeeting ID: 835 1003 5005\nPassword: tergar\nLink:\nhttps://us02web.zoom.us/j/83510035005?pwd=UVE5dmxQWEE4dHo5VWhwZGNMRUNMUT09 \nDibuka kesempatan berdana untuk puja mingguan:\nBCA a/n. Yayasan Tergar Indonesia\nNo. 441 3988 899\nCantumkan angka “9” di akhir nominal transfer (contoh: 50.009). \nInfo:\n0838 0692 2450\n@TergarIndonesia
URL:https://tergarindonesia.com/event/puja-chenrezig-4-lengan-2/
CATEGORIES:Chenrezig,Puja Mingguan
ATTACH;FMTTYPE=image/jpeg:https://tergarindonesia.com/wp-content/uploads/2022/10/WhatsApp-Image-2022-10-08-at-09.40.08-e1665202796239.jpeg
END:VEVENT
BEGIN:VEVENT
DTSTART;TZID=UTC:20221010T193000
DTEND;TZID=UTC:20221010T203000
DTSTAMP:20260423T235701
CREATED:20221010T023433Z
LAST-MODIFIED:20221010T023433Z
UID:679-1665430200-1665433800@tergarindonesia.com
SUMMARY:Accepting Companion
DESCRIPTION:Latihan meditasi bersama. Hanya untuk Alumni JOL 1 \nSenin\, 10 Oktober 2022\, 19:30-20:30 WIB\nDipandu oleh Mustafa (Host) dan Arief (Co-host).\nRegistrasi: 0838 0692 2450 (WA) \nOrganized by Komunitas Meditasi @tergarindonesia
URL:https://tergarindonesia.com/event/accepting-companion/
CATEGORIES:Latihan Meditasi Bersama,Pendalaman JOL 1
ATTACH;FMTTYPE=image/jpeg:https://tergarindonesia.com/wp-content/uploads/2022/10/WhatsApp-Image-2022-10-09-at-18.35.44-e1665369257242.jpeg
END:VEVENT
BEGIN:VEVENT
DTSTART;TZID=UTC:20221011T190000
DTEND;TZID=UTC:20221011T200000
DTSTAMP:20260423T235701
CREATED:20221011T050106Z
LAST-MODIFIED:20221011T050106Z
UID:690-1665514800-1665518400@tergarindonesia.com
SUMMARY:Kesadaran\, Komunikasi dan Relasi Sehat
DESCRIPTION:Membangun sebuah relasi tidak bisa dilepaskan dari proses berkomunikasi. Relasi yang sehat pastinya dibangun dari komunikasi yang sehat. \nKomunikasi yang sehat kuncinya ada pada kehadiran kesadaran dalam berkomunikasi. \nMari kita berlatih meditasi bersama untuk terampil menghadirkan kesadaran dalam berkomunikasi. \nTerbuka untuk umum dan bebas biaya. Selasa\, 11 Oktober 2022\, 19:00-20:00 WIB. Dipandu oleh Hemmarata dan @diella.dachlan \nVia ZOOM\, meeting ID : 821 1856 5010\nPasscode : kesadaran \nInfo : 0838 0692 2450\nOrganized by @tergarindonesia
URL:https://tergarindonesia.com/event/kesadaran-komunikasi-dan-relasi-sehat/
CATEGORIES:Latihan Meditasi Bersama,Meditasi Umum
ATTACH;FMTTYPE=image/jpeg:https://tergarindonesia.com/wp-content/uploads/2022/10/WhatsApp-Image-2022-10-11-at-09.27.14-e1665464457434.jpeg
END:VEVENT
BEGIN:VEVENT
DTSTART;TZID=UTC:20221012T190000
DTEND;TZID=UTC:20221012T200000
DTSTAMP:20260423T235701
CREATED:20221012T033009Z
LAST-MODIFIED:20221012T033009Z
UID:693-1665601200-1665604800@tergarindonesia.com
SUMMARY:Love and Relationship
DESCRIPTION:Latihan meditasi bersama dan diskusi. Hanya untuk alumni JOL 3. \nRabu\, 12 Oktober 2022\, 19:00-20:00 WIB\nDipandu oleh Rudy (Host) dan Arief (Co-Host).\nRegistrasi: 0838 0692 2450 (WA) \nOrganized by Komunitas Meditasi @tergarindonesia
URL:https://tergarindonesia.com/event/love-and-relationship/
CATEGORIES:Latihan Meditasi JOL 3
ATTACH;FMTTYPE=image/jpeg:https://tergarindonesia.com/wp-content/uploads/2022/10/WhatsApp-Image-2022-10-12-at-09.16.27-e1665545397176.jpeg
END:VEVENT
BEGIN:VEVENT
DTSTART;TZID=UTC:20221017T193000
DTEND;TZID=UTC:20221017T203000
DTSTAMP:20260423T235701
CREATED:20221017T025505Z
LAST-MODIFIED:20221017T025505Z
UID:703-1666035000-1666038600@tergarindonesia.com
SUMMARY:It Doesn't Last Forever
DESCRIPTION:Latihan meditasi bersama. Hanya untuk Alumni JOL 1 \nSenin\, 17 Oktober 2022\, 19:30-20:30 WIB\nDipandu oleh Susi (Host) dan Arief (Co-host).\nRegistrasi: 0838 0692 2450 (WA) \nOrganized by Komunitas Meditasi @tergarindonesia
URL:https://tergarindonesia.com/event/it-doesnt-last-forever/
CATEGORIES:Latihan Meditasi Bersama,Pendalaman JOL 1
ATTACH;FMTTYPE=image/jpeg:https://tergarindonesia.com/wp-content/uploads/2022/10/WhatsApp-Image-2022-10-17-at-09.22.23-e1665975298489.jpeg
END:VEVENT
BEGIN:VEVENT
DTSTART;TZID=UTC:20221018T190000
DTEND;TZID=UTC:20221018T200000
DTSTAMP:20260423T235701
CREATED:20221018T032013Z
LAST-MODIFIED:20221018T032013Z
UID:726-1666119600-1666123200@tergarindonesia.com
SUMMARY:Menyadari Self-Talk dan Relasi Diri yang Sehat
DESCRIPTION:Sering kita mendengar seolah-olah ada seseorang\, bahkan lebih\, yang sedang bicara dalam kepala kita. \nApa sesungguhnya itu ? Dan apa dampaknya pada kualitas relasi dalam diri kita. \nMari kita berlatih meditasi bersama untuk terampil menghadirkan kesadaran dalam berkomunikasi. \nTerbuka untuk umum dan bebas biaya. Selasa\, 18 Oktober 2022\, 19:00-20:00 WIB. Dipandu oleh Hemmarata dan @diella.dachlan \nVia ZOOM\, meeting ID : 821 1856 5010\nPasscode : kesadaran \nInfo : 0838 0692 2450\nOrganized by @tergarindonesia
URL:https://tergarindonesia.com/event/menyadari-self-talk-dan-relasi-diri-yang-sehat/
CATEGORIES:Latihan Meditasi Bersama,Meditasi Umum
ATTACH;FMTTYPE=image/jpeg:https://tergarindonesia.com/wp-content/uploads/2022/10/WhatsApp-Image-2022-10-18-at-09.15.28-e1666063179510.jpeg
END:VEVENT
BEGIN:VEVENT
DTSTART;TZID=UTC:20221019T190000
DTEND;TZID=UTC:20221019T200000
DTSTAMP:20260423T235701
CREATED:20221018T084240Z
LAST-MODIFIED:20221018T084240Z
UID:729-1666206000-1666209600@tergarindonesia.com
SUMMARY:Understanding Relationship
DESCRIPTION:Latihan meditasi bersama. Hanya untuk Alumni JOL 2 \nRabu\, 19 Oktober 2022\, 19:00-20:00 WIB\nDipandu oleh Anto (Host) dan Andre (Co-host).\nRegistrasi: 0838 0692 2450 (WA) \nOrganized by Komunitas Meditasi @tergarindonesia
URL:https://tergarindonesia.com/event/understanding-relationship/
CATEGORIES:Latihan Meditasi Bersama,Latihan Meditasi JOL 2
ATTACH;FMTTYPE=image/jpeg:https://tergarindonesia.com/wp-content/uploads/2022/10/WhatsApp-Image-2022-10-18-at-15.36.50-e1666082525933.jpeg
END:VEVENT
BEGIN:VEVENT
DTSTART;TZID=UTC:20221024T193000
DTEND;TZID=UTC:20221024T203000
DTSTAMP:20260423T235701
CREATED:20221024T025004Z
LAST-MODIFIED:20221024T025004Z
UID:739-1666639800-1666643400@tergarindonesia.com
SUMMARY:Always Listening\, Always Understanding
DESCRIPTION:Latihan meditasi bersama. Hanya untuk Alumni JOL 1 \nSenin\, 24 Oktober 2022\, 19:30-20:30 WIB\nDipandu oleh Elvi (Host) dan Alit (Co-host).\nRegistrasi: 0838 0692 2450 (WA) \nOrganized by Komunitas Meditasi @tergarindonesia
URL:https://tergarindonesia.com/event/always-listening-always-understanding/
CATEGORIES:Latihan Meditasi Bersama,Pendalaman JOL 1
ATTACH;FMTTYPE=image/jpeg:https://tergarindonesia.com/wp-content/uploads/2022/10/WhatsApp-Image-2022-10-24-at-09.20.29-e1666579759558.jpeg
END:VEVENT
BEGIN:VEVENT
DTSTART;TZID=UTC:20221025T190000
DTEND;TZID=UTC:20221025T200000
DTSTAMP:20260423T235701
CREATED:20221025T040923Z
LAST-MODIFIED:20221025T040923Z
UID:784-1666724400-1666728000@tergarindonesia.com
SUMMARY:Relasi Kita Adalah Cerminan Kita
DESCRIPTION:Mari kita berlatih meditasi mengembangkan kesadaran dipandu oleh @yudhigejali dan @diella.dachlan. \nTerbuka untuk umum dan bebas biaya. \nSelasa\, 25 Oktober 2022\, 19:00-20:00 WIB. \nVia ZOOM\, meeting ID : 821 1856 5010\nPasscode : kesadaran \nInfo : 0838 0692 2450\nOrganized by @tergarindonesia
URL:https://tergarindonesia.com/event/relasi-kita-adalah-cerminan-kita/
CATEGORIES:Latihan Meditasi Bersama,Meditasi Umum
ATTACH;FMTTYPE=image/jpeg:https://tergarindonesia.com/wp-content/uploads/2022/10/WhatsApp-Image-2022-10-25-at-10.04.30-e1666670927521.jpeg
END:VEVENT
BEGIN:VEVENT
DTSTART;TZID=UTC:20221026T190000
DTEND;TZID=UTC:20221026T200000
DTSTAMP:20260423T235701
CREATED:20221025T104509Z
LAST-MODIFIED:20221025T104509Z
UID:795-1666810800-1666814400@tergarindonesia.com
SUMMARY:Recognizing Wisdom in Relationship
DESCRIPTION:Latihan meditasi bersama. Hanya untuk Alumni JOL 3 \nRabu\, 26 Oktober 2022\, 19:00-20:00 WIB\nDipandu oleh Brian (Host) dan Arief (Co-host).\nRegistrasi: 0838 0692 2450 (WA) \nOrganized by Komunitas Meditasi @tergarindonesia
URL:https://tergarindonesia.com/event/recognizing-wisdom-in-relationship/
CATEGORIES:Latihan Meditasi Bersama,Latihan Meditasi JOL 3
ATTACH;FMTTYPE=image/jpeg:https://tergarindonesia.com/wp-content/uploads/2022/10/WhatsApp-Image-2022-10-25-at-12.43.38-e1666694675233.jpeg
END:VEVENT
BEGIN:VEVENT
DTSTART;TZID=UTC:20221031T193000
DTEND;TZID=UTC:20221031T203000
DTSTAMP:20260423T235701
CREATED:20221031T025950Z
LAST-MODIFIED:20221031T025950Z
UID:798-1667244600-1667248200@tergarindonesia.com
SUMMARY:Dari Mata Turun Ke Hati
DESCRIPTION:Latihan meditasi bersama. Hanya untuk Alumni JOL 1 \nSenin\, 31 Oktober 2022\, 19:30-20:30 WIB\nDipandu oleh Elvi (Host) dan Anto (Co-host).\nRegistrasi: 0838 0692 2450 (WA) \nOrganized by Komunitas Meditasi @tergarindonesia
URL:https://tergarindonesia.com/event/dari-mata-turun-ke-hati/
CATEGORIES:Latihan Meditasi Bersama,Pendalaman JOL 1
ATTACH;FMTTYPE=image/jpeg:https://tergarindonesia.com/wp-content/uploads/2022/10/WhatsApp-Image-2022-10-30-at-16.23.19-e1667185161891.jpeg
END:VEVENT
END:VCALENDAR