BEGIN:VCALENDAR
VERSION:2.0
PRODID:-//Tergar Indonesia - ECPv6.15.20//NONSGML v1.0//EN
CALSCALE:GREGORIAN
METHOD:PUBLISH
X-WR-CALNAME:Tergar Indonesia
X-ORIGINAL-URL:https://tergarindonesia.com
X-WR-CALDESC:Events for Tergar Indonesia
REFRESH-INTERVAL;VALUE=DURATION:PT1H
X-Robots-Tag:noindex
X-PUBLISHED-TTL:PT1H
BEGIN:VTIMEZONE
TZID:UTC
BEGIN:STANDARD
TZOFFSETFROM:+0000
TZOFFSETTO:+0000
TZNAME:UTC
DTSTART:20210101T000000
END:STANDARD
END:VTIMEZONE
BEGIN:VTIMEZONE
TZID:Asia/Krasnoyarsk
BEGIN:STANDARD
TZOFFSETFROM:+0700
TZOFFSETTO:+0700
TZNAME:+07
DTSTART:20210101T000000
END:STANDARD
END:VTIMEZONE
BEGIN:VEVENT
DTSTART;TZID=UTC:20220627T193000
DTEND;TZID=UTC:20220627T203000
DTSTAMP:20260424T125733
CREATED:20220627T092350Z
LAST-MODIFIED:20220629T035833Z
UID:244-1656358200-1656361800@tergarindonesia.com
SUMMARY:Pendalaman JOL 1 - Like a River Flow
DESCRIPTION:  \nLike a River Flow \nDalam sesi ini mari kita berlatih dengan objek Pikiran sebagai pendukung meditasi kita. \nSenin\, 27 Juni 2022\, 19:30-20:30 WIB\nPendalaman Latihan Meditasi JOL1\, hanya untuk alumni JOL1.\nDipandu oleh Mustapa dan Brian (Co-Host). \nVia ZOOM\, meeting ID: 884 3873 7580\nPasscode: justaware \nInfo: 0838-0692-2450 (WA) \nOrganized by @tergarindonesia
URL:https://tergarindonesia.com/event/pendalaman-jol-1-like-a-river-flow/
CATEGORIES:Meditasi Umum
ATTACH;FMTTYPE=image/jpeg:https://tergarindonesia.com/wp-content/uploads/2022/06/WhatsApp-Image-2022-06-27-at-13.23.37.jpeg
END:VEVENT
BEGIN:VEVENT
DTSTART;TZID=Asia/Krasnoyarsk:20220607T190000
DTEND;TZID=Asia/Krasnoyarsk:20220607T200000
DTSTAMP:20260424T125733
CREATED:20220522T072623Z
LAST-MODIFIED:20220704T054453Z
UID:161-1654628400-1654632000@tergarindonesia.com
SUMMARY:Engga Lari Lagi
DESCRIPTION:Latihan Meditasi bersama untuk menghadapi kenyataan menghadapi diri secara jujur\, lembut dan tanpa negosiasi.\nTerbuka untuk umum. Bebas Biaya. \nDipandu oleh @yudhigejali dan @diella.dachlan \nSelasa\, 7 Juni | 19.00-20.00 WIB
URL:https://tergarindonesia.com/event/abc/
CATEGORIES:Meditasi Umum
END:VEVENT
BEGIN:VEVENT
DTSTART;VALUE=DATE:20220601
DTEND;VALUE=DATE:20220602
DTSTAMP:20260424T125733
CREATED:20220521T204600Z
LAST-MODIFIED:20220610T031657Z
UID:141-1654041600-1654127999@tergarindonesia.com
SUMMARY:Pendalaman Latihan Meditasi
DESCRIPTION:Pendalaman Latihan Meditasi\,\nhanya untuk alumni JOL1. Dipandu oleh Susi \nSenin\, 25 April 2022 | 19.30 – 20.15 WIB \nZOOM Meeting ID : 843 2583 3870 | Passcode : justaware
URL:https://tergarindonesia.com/event/pendalaman-latihan-meditasi-2/
CATEGORIES:Meditasi Umum
END:VEVENT
END:VCALENDAR