BEGIN:VCALENDAR
VERSION:2.0
PRODID:-//Tergar Indonesia - ECPv6.15.20//NONSGML v1.0//EN
CALSCALE:GREGORIAN
METHOD:PUBLISH
X-WR-CALNAME:Tergar Indonesia
X-ORIGINAL-URL:https://tergarindonesia.com
X-WR-CALDESC:Events for Tergar Indonesia
REFRESH-INTERVAL;VALUE=DURATION:PT1H
X-Robots-Tag:noindex
X-PUBLISHED-TTL:PT1H
BEGIN:VTIMEZONE
TZID:UTC
BEGIN:STANDARD
TZOFFSETFROM:+0000
TZOFFSETTO:+0000
TZNAME:UTC
DTSTART:20240101T000000
END:STANDARD
END:VTIMEZONE
BEGIN:VEVENT
DTSTART;TZID=UTC:20251217T193000
DTEND;TZID=UTC:20251217T210000
DTSTAMP:20260421T222914
CREATED:20251217T022508Z
LAST-MODIFIED:20251217T022508Z
UID:2766-1765999800-1766005200@tergarindonesia.com
SUMMARY:Latihan Meditasi Bersama Akhir Tahun 2025
DESCRIPTION:Mari bersama melakukan latihan meditasi menjelang penutupan akhir tahun 2025 untuk menenangkan batin kita yang telah sibuk setahun ini agar siap menyambut tahun baru dengan batin yang lebih segar dan jernih. \nTerbuka untuk umum dan bebas biaya\nRabu\, 17 Desember 2025\n19:30-21:00 WIB \nLokasi: Tergar Meditation Centre Jakarta. Alamat: Jl. Daan Mogot\, Perumahan Green Mansion\, Boulevard Raya No.35\, Jakarta Barat\nMaps: https://goo.gl/maps/maVW3Y3upjbVouqm8 \nInfo:\n* WA: 0878 0692 2480\n* ⁠Website: http://www.tergarindonesia.com/events/\n* ⁠Organized by @tergarindonesia
URL:https://tergarindonesia.com/event/latihan-meditasi-bersama-akhir-tahun-2025/
CATEGORIES:Latihan Meditasi Bersama,Meditasi Umum
ATTACH;FMTTYPE=image/jpeg:https://tergarindonesia.com/wp-content/uploads/2025/12/WhatsApp-Image-2025-12-17-at-09.11.27-e1765938278728.jpeg
END:VEVENT
BEGIN:VEVENT
DTSTART;TZID=UTC:20251222T193000
DTEND;TZID=UTC:20251222T203000
DTSTAMP:20260421T222914
CREATED:20251222T032958Z
LAST-MODIFIED:20251222T032958Z
UID:2769-1766431800-1766435400@tergarindonesia.com
SUMMARY:Seeing The Nature of Emotions
DESCRIPTION:Diskusi dan Latihan meditasi JOL 3. Hanya untuk Alumni JOL 3. \nSenin\, 22 Desember 2025\, 19:30-20:30 WIB\nDipandu oleh Anthony (Host) dan Arief (Co-host). \nPendaftaran : 0878 0692 2480 (WA) \nOrganized by: @tergarindonesia
URL:https://tergarindonesia.com/event/seeing-the-nature-of-emotions/
CATEGORIES:Latihan Meditasi Bersama,Latihan Meditasi JOL 3
ATTACH;FMTTYPE=image/jpeg:https://tergarindonesia.com/wp-content/uploads/2025/12/WhatsApp-Image-2025-12-21-at-22.49.36-e1766374171945.jpeg
END:VEVENT
BEGIN:VEVENT
DTSTART;TZID=UTC:20251223T190000
DTEND;TZID=UTC:20251223T200000
DTSTAMP:20260421T222914
CREATED:20251222T034959Z
LAST-MODIFIED:20251222T034959Z
UID:2772-1766516400-1766520000@tergarindonesia.com
SUMMARY:“Kecerdasan Hening: Meluruhkan Racun Batin”
DESCRIPTION:Mari sejenak berhenti dari hiruk pikuk pikiran\,\ndan masuk ke ruang hening yang jernih di dalam diri.\nDi sana\, kita belajar hadir tanpa menghakimi\,\nmembiarkan racun batin seperti marah\, takut\, dan gelisah\nperlahan meluruh oleh cahaya kesadaran. \nMari berlatih bersama\, kembali jernih\, tenang\, dan utuh.\nTerbuka untuk umum dan bebas biaya. Selasa\, 23 Desember 2025\, 19:00-20:00 WIB. Dipandu oleh Hemmarata (host) dan Alit (co-host) \nVia ZOOM\, meeting ID : 821 1856 5010\nPasscode : kesadaran \nInfo :\n– WA : 0878 0692 2480\n– Website : http://www.tergarindonesia.com/events/\n* Organized by @tergarindonesia
URL:https://tergarindonesia.com/event/kecerdasan-hening-meluruhkan-racun-batin/
CATEGORIES:Latihan Meditasi Bersama,Meditasi Umum
ATTACH;FMTTYPE=image/jpeg:https://tergarindonesia.com/wp-content/uploads/2025/12/WhatsApp-Image-2025-12-19-at-22.05.15-e1766375368216.jpeg
END:VEVENT
BEGIN:VEVENT
DTSTART;TZID=UTC:20260107T193000
DTEND;TZID=UTC:20260107T210000
DTSTAMP:20260421T222914
CREATED:20260106T083905Z
LAST-MODIFIED:20260106T083905Z
UID:2776-1767814200-1767819600@tergarindonesia.com
SUMMARY:New Habit\, New Life
DESCRIPTION:Mari mengawali tahun yang baru ini dengan memulai kebiasaan baru dengan belajar bermeditasi dan bagaimana meditasi dapat mengubah kehidupan Anda. \nTerbuka untuk umum dan bebas biaya\nRabu\, 7 Januari 2026\n19:30-21:00 WIB \nLokasi: Tergar Meditation Centre Jakarta. Alamat: Jl. Daan Mogot\, Perumahan Green Mansion\, Boulevard Raya No.35\, Jakarta Barat\nMaps: https://goo.gl/maps/maVW3Y3upjbVouqm8 \nInfo:\n* WA: 0878 0692 2480\n* ⁠Website: http://www.tergarindonesia.com/events/\n* ⁠Organized by @tergarindonesia
URL:https://tergarindonesia.com/event/new-habit-new-life/
CATEGORIES:Latihan Meditasi Bersama,Meditasi Umum
ATTACH;FMTTYPE=image/jpeg:https://tergarindonesia.com/wp-content/uploads/2026/01/WhatsApp-Image-2026-01-06-at-15.35.36-e1767688715553.jpeg
END:VEVENT
BEGIN:VEVENT
DTSTART;TZID=UTC:20260114T193000
DTEND;TZID=UTC:20260114T210000
DTSTAMP:20260421T222914
CREATED:20260114T021918Z
LAST-MODIFIED:20260114T021918Z
UID:2800-1768419000-1768424400@tergarindonesia.com
SUMMARY:Anytime Anywhere Meditation : Problem is Solution
DESCRIPTION:Tidak ada Rintangan atau masalah dalam meditasi karena semua masalah adalah solusi dalam meditasi\, apa yang kita sebut sebagai “Self antidote” (penawar adalah dirinya sendiri).\nMaka kita bisa bermeditasi di mana saja\, kapan saja\, meditasi tanpa gangguan\, maka meditasi akan berkembang dengan cepat. \nTerbuka untuk umum dan bebas biaya\nDipandu oleh Mustafa\nRabu\, 14 Januari 2026\n19:30-21:00 WIB \nLokasi: Tergar Meditation Centre Jakarta. Alamat: Jl. Daan Mogot\, Perumahan Green Mansion\, Boulevard Raya No.35\, Jakarta Barat\nMaps: https://goo.gl/maps/maVW3Y3upjbVouqm8 \nInfo:\n* WA: 0878 0692 2480\n* ⁠Website: http://www.tergarindonesia.com/events/\n– Organized by @tergarindonesia
URL:https://tergarindonesia.com/event/anytime-anywhere-meditation-problem-is-solution/
CATEGORIES:Latihan Meditasi Bersama,Meditasi Umum
ATTACH;FMTTYPE=image/jpeg:https://tergarindonesia.com/wp-content/uploads/2026/01/WhatsApp-Image-2026-01-13-at-14.44.56-e1768357120734.jpeg
END:VEVENT
BEGIN:VEVENT
DTSTART;TZID=UTC:20260119T193000
DTEND;TZID=UTC:20260119T203000
DTSTAMP:20260421T222914
CREATED:20260119T080139Z
LAST-MODIFIED:20260119T080139Z
UID:2804-1768851000-1768854600@tergarindonesia.com
SUMMARY:Seeing The Nature of Emotions: Part II
DESCRIPTION:Diskusi dan Latihan meditasi JOL 3. Hanya untuk Alumni JOL 3. \nSenin\, 19 Januari 2025\, 19:30-20:30 WIB\nDipandu oleh Anthony (Host) dan Arief (Co-host). \nPendaftaran : 0878 0692 2480 (WA) \nOrganized by: @tergarindonesia
URL:https://tergarindonesia.com/event/seeing-the-nature-of-emotions-part-ii/
CATEGORIES:Latihan Meditasi Bersama,Latihan Meditasi JOL 3
ATTACH;FMTTYPE=image/jpeg:https://tergarindonesia.com/wp-content/uploads/2026/01/WhatsApp-Image-2026-01-19-at-09.25.15-e1768809665396.jpeg
END:VEVENT
BEGIN:VEVENT
DTSTART;TZID=UTC:20260120T070000
DTEND;TZID=UTC:20260120T200000
DTSTAMP:20260421T222914
CREATED:20260120T043829Z
LAST-MODIFIED:20260120T043829Z
UID:2807-1768892400-1768939200@tergarindonesia.com
SUMMARY:”Hadir Utuh\, Tanpa Harus Memperbaiki Apa Pun”
DESCRIPTION:Dalam latihan ini\, kita tidak berusaha menjadi lebih baik.\nKita juga tidak mencoba memperbaiki apa pun dalam diri.\nKita hanya belajar hadir sepenuhnya—mengizinkan apa yang ada\, untuk ada. \nDi ruang kehadiran yang utuh\, kita mulai menyadari bahwa kesejahteraan batin tidak perlu dikejar\, karena ia sudah hadir bersama kesadaran itu sendiri. \nMari berlatih meditasi bersama dengan hanya hadir utuh saja. \nTerbuka untuk umum dan bebas biaya. Selasa\, 20 Januari 2026\, 19:00-20:00 WIB. Dipandu oleh Hemmarata (host). \nVia ZOOM\, meeting ID : 821 1856 5010\nPasscode : kesadaran \nInfo :\n– WA : 0878 0692 2480\n– Website : http://www.tergarindonesia.com/events/\n* Organized by @tergarindonesia
URL:https://tergarindonesia.com/event/hadir-utuh-tanpa-harus-memperbaiki-apa-pun/
CATEGORIES:Latihan Meditasi Bersama,Meditasi Umum
ATTACH;FMTTYPE=image/jpeg:https://tergarindonesia.com/wp-content/uploads/2026/01/WhatsApp-Image-2026-01-20-at-09.33.52-e1768883882163.jpeg
END:VEVENT
BEGIN:VEVENT
DTSTART;TZID=UTC:20260121T193000
DTEND;TZID=UTC:20260121T210000
DTSTAMP:20260421T222914
CREATED:20260121T075216Z
LAST-MODIFIED:20260121T075216Z
UID:2810-1769023800-1769029200@tergarindonesia.com
SUMMARY:Bersama Dengan Keheningan
DESCRIPTION:Seringkali keheningan diasosiasikan dengan kemalasan dan tidak produktif\, padahal belajar “bersama” dengan keheningan dalam kondisi meditatif dapat perlahan mengubah kehidupan Anda. \nTerbuka untuk umum dan bebas biaya\nRabu\, 21 Januari 2026\n19:30-21:00 WIB \nLokasi: Tergar Meditation Centre Jakarta. Alamat: Jl. Daan Mogot\, Perumahan Green Mansion\, Boulevard Raya No.35\, Jakarta Barat\nMaps: https://goo.gl/maps/maVW3Y3upjbVouqm8 \nInfo:\n* WA: 0878 0692 2480\n* ⁠Website: http://www.tergarindonesia.com/events/\n* ⁠Organized by @tergarindonesia
URL:https://tergarindonesia.com/event/bersama-dengan-keheningan/
CATEGORIES:Latihan Meditasi Bersama,Meditasi Umum
ATTACH;FMTTYPE=image/jpeg:https://tergarindonesia.com/wp-content/uploads/2026/01/WhatsApp-Image-2026-01-21-at-08.12.43-e1768981909321.jpeg
END:VEVENT
BEGIN:VEVENT
DTSTART;TZID=UTC:20260128T193000
DTEND;TZID=UTC:20260128T210000
DTSTAMP:20260421T222914
CREATED:20260127T094711Z
LAST-MODIFIED:20260127T094711Z
UID:2821-1769628600-1769634000@tergarindonesia.com
SUMMARY:Latihan Meditasi Bersama 28 Januari 2026
DESCRIPTION:Mari bersama melakukan latihan meditasi yang bertujuan untuk menenangkan batin serta menemukan kualitas bajik yang sudah ada di dalam diri kita. \nTerbuka untuk umum dan bebas biaya\nRabu\, 28 Januari 2026\n19:30-21:00 WIB \nLokasi: Tergar Meditation Centre Jakarta. Alamat: Jl. Daan Mogot\, Perumahan Green Mansion\, Boulevard Raya No.35\, Jakarta Barat\nMaps: https://goo.gl/maps/maVW3Y3upjbVouqm8 \nInfo:\n* WA: 0878 0692 2480\n* ⁠Website: http://www.tergarindonesia.com/events/\n* ⁠Organized by @tergarindonesia
URL:https://tergarindonesia.com/event/latihan-meditasi-bersama-28-januari-2026/
CATEGORIES:Latihan Meditasi Bersama,Meditasi Umum
ATTACH;FMTTYPE=image/jpeg:https://tergarindonesia.com/wp-content/uploads/2026/01/WhatsApp-Image-2026-01-27-at-14.17.01-e1769507194443.jpeg
END:VEVENT
BEGIN:VEVENT
DTSTART;TZID=UTC:20260202T193000
DTEND;TZID=UTC:20260202T203000
DTSTAMP:20260421T222914
CREATED:20260202T034945Z
LAST-MODIFIED:20260202T034945Z
UID:2826-1770060600-1770064200@tergarindonesia.com
SUMMARY:Hati yang Tidak Sempit
DESCRIPTION:Diskusi dan Latihan meditasi JOL 2. Hanya untuk Alumni JOL 2. \nKita tidak sedang menjadi lebih baik. Kita sedang memberi ruang.\nMari berlatih hati yang tidak sempit. \nSenin\, 02 Februari 2026\, 19:30-20:30 WIB\nDipandu oleh Hemmarata (Host) dan Eripin (Co-host) \nPendaftaran : 087806922480 (WA) \nOrganized by: @tergarindonesia
URL:https://tergarindonesia.com/event/hati-yang-tidak-sempit/
CATEGORIES:Latihan Meditasi Bersama,Latihan Meditasi JOL 2
ATTACH;FMTTYPE=image/jpeg:https://tergarindonesia.com/wp-content/uploads/2026/02/WhatsApp-Image-2026-02-02-at-06.29.26-e1770004155617.jpeg
END:VEVENT
BEGIN:VEVENT
DTSTART;TZID=UTC:20260203T190000
DTEND;TZID=UTC:20260203T200000
DTSTAMP:20260421T222914
CREATED:20260203T072141Z
LAST-MODIFIED:20260203T072141Z
UID:2833-1770145200-1770148800@tergarindonesia.com
SUMMARY:"Kembali Hadir\, Membiarkan Hati Meluas"
DESCRIPTION:Dalam keseharian\, hati sering menyempit bukan karena hidup terlalu berat\, tetapi karena kita terlalu jarang benar-benar hadir. \nSaat kita kembali hadir\,\nhati tidak perlu dipaksa untuk terbuka. Ia meluas dengan sendirinya. \nMari luangkan beberapa menit bersama\, kembali hadir…dan membiarkan hati meluas. \nTerbuka untuk umum dan bebas biaya. Selasa\, 03 Februari 2026\, 19:00-20:00 WIB. Dipandu oleh Hemmarata (host). \nVia ZOOM\, meeting ID : 821 1856 5010\nPasscode : kesadaran \nInfo :\n– WA : 0878 0692 2480\n– Website : http://www.tergarindonesia.com/events/\n* Organized by @tergarindonesia
URL:https://tergarindonesia.com/event/kembali-hadir-membiarkan-hati-meluas/
CATEGORIES:Latihan Meditasi Bersama,Meditasi Umum
ATTACH;FMTTYPE=image/jpeg:https://tergarindonesia.com/wp-content/uploads/2026/02/WhatsApp-Image-2026-02-03-at-09.16.32.jpeg
END:VEVENT
BEGIN:VEVENT
DTSTART;TZID=UTC:20260204T193000
DTEND;TZID=UTC:20260204T210000
DTSTAMP:20260421T222914
CREATED:20260203T083101Z
LAST-MODIFIED:20260203T083101Z
UID:2836-1770233400-1770238800@tergarindonesia.com
SUMMARY:Perjalanan Mengenal Meditasi
DESCRIPTION:Mungkin banyak dari kita yang ingin belajar melakukan praktik meditasi tetapi bingung harus mulai dari mana dan apa yang perlu dilakukan\, pada sesi kali ini akan cocok bagi Anda yang ingin belajar melakukan praktik meditasi mulai dari Nol atau yang masih bingung dengan meditasi. \nApa Anda sudah siap untuk melakukan perjalanan mengenal meditasi?? \nTerbuka untuk umum dan bebas biaya\nRabu\, 4 Februari 2026\n19:30-21:00 WIB \nLokasi: Tergar Meditation Centre Jakarta. Alamat: Jl. Daan Mogot\, Perumahan Green Mansion\, Boulevard Raya No.35\, Jakarta Barat\nMaps: https://goo.gl/maps/maVW3Y3upjbVouqm8 \nInfo:\n* WA: 0878 0692 2480\n* ⁠Website: http://www.tergarindonesia.com/events/\n* ⁠Organized by @tergarindonesia
URL:https://tergarindonesia.com/event/perjalanan-mengenal-meditasi/
CATEGORIES:Latihan Meditasi Bersama,Meditasi Umum
ATTACH;FMTTYPE=image/jpeg:https://tergarindonesia.com/wp-content/uploads/2026/02/WhatsApp-Image-2026-02-03-at-14.50.00-e1770107424819.jpeg
END:VEVENT
BEGIN:VEVENT
DTSTART;TZID=UTC:20260211T193000
DTEND;TZID=UTC:20260211T210000
DTSTAMP:20260421T222914
CREATED:20260211T044843Z
LAST-MODIFIED:20260211T044843Z
UID:2840-1770838200-1770843600@tergarindonesia.com
SUMMARY:Peace & Love in Every Moment
DESCRIPTION:Dengan hadirnya Kesadaran maka ada kedamaian\, dengan menjaga Kesadaran di setiap saat maka Kedamaian\, ketenangan dan kebebasan hadir setiap saat dalam kehidupan kita. Dan Sadari juga apapun yang kita lakukan di setiap aktivitas kita adalah untuk Cinta Kasih. \nTerbuka untuk umum dan bebas biaya\nDipandu oleh Mustafa Djie\nRabu\, 11 Februari 2026\n19:30-21:00 WIB \nLokasi: Tergar Meditation Centre Jakarta.\nAlamat: Jl. Daan Mogot\, Perumahan Green Mansion\, Boulevard Raya No.35\, Jakarta Barat\nMaps: https://goo.gl/maps/maVW3Y3upjbVouqm8 \nInfo:\n* WA: 0878 0692 2480\n* ⁠Website: http://www.tergarindonesia.com/events/\n– Organized by @tergarindonesia
URL:https://tergarindonesia.com/event/peace-love-in-every-moment/
CATEGORIES:Latihan Meditasi Bersama,Meditasi Umum
ATTACH;FMTTYPE=image/jpeg:https://tergarindonesia.com/wp-content/uploads/2026/02/WhatsApp-Image-2026-02-11-at-09.03.34-e1770785295338.jpeg
END:VEVENT
BEGIN:VEVENT
DTSTART;TZID=UTC:20260222T100000
DTEND;TZID=UTC:20260222T120000
DTSTAMP:20260421T222914
CREATED:20260202T035614Z
LAST-MODIFIED:20260202T035614Z
UID:2829-1771754400-1771761600@tergarindonesia.com
SUMMARY:Puja & Perayaan Tahun Baru Imlek
DESCRIPTION:Dipimpin Lama Nurbu & Lama Samten \nMinggu\, 22 Februari 2026\nJam 10.00 – 12.00 WIB \nDalam menyambut Tahun Baru Imlek yang penuh berkah\, Tergar Meditation Center Jakarta dengan penuh sukacita mengundang seluruh keluarga besar Tergar untuk hadir dan bersama-sama mengikuti Puja Bakti Imlek di center tercinta kita. \nTersedia pemasangan Pelita Kebajikan Imlek dan Persembahan Bunga dalam jumlah terbatas\, bagi yang berminat\, info detail dapat diakses di https://bit.ly/TergarDoa \nDibuka kesempatan berdana untuk Puja Imlek:\nBCA a/n. Yayasan Tergar Indonesia\nNo. 441 3988 899\nCantumkan angka “66” di akhir nominal transfer (contoh: 50.066). \nSemoga melalui Puja Imlek ini\, kita semua memperoleh berkah kebahagiaan\, kedamaian\, kesehatan\, serta kemajuan dalam Dhamma di tahun yang baru. \nInformasi: 0878 0692 2480 (WA) \n@tergarindonesia
URL:https://tergarindonesia.com/event/puja-perayaan-tahun-baru-imlek/
CATEGORIES:Big Puja,Events
ATTACH;FMTTYPE=image/jpeg:https://tergarindonesia.com/wp-content/uploads/2026/02/WhatsApp-Image-2026-01-31-at-11.04.32-e1770004516381.jpeg
END:VEVENT
BEGIN:VEVENT
DTSTART;TZID=UTC:20260311T193000
DTEND;TZID=UTC:20260311T210000
DTSTAMP:20260421T222914
CREATED:20260311T031823Z
LAST-MODIFIED:20260311T031823Z
UID:2844-1773257400-1773262800@tergarindonesia.com
SUMMARY:Melindungi Batin dari Kenegatifan
DESCRIPTION:Seringkali Batin kita menjadi penuh dengan pikiran dan emosi negatif. Disertai dengan perasaan dan sensasi tidak nyaman dan tidak menyenangkan di tubuh kita. Masalah dalam kehidupan yang ada menjadi lebih besar dan menakutkan karena hal ini. Bagaimana caranya kita berlatih meringankan symptoms dan melindungi batin kita sehingga menjadi tenang\, fleksibel dan kuat bahkan jernih melihat masalah dan mencari solusi yang tepat untuk masalah kehidupan kita?\nuntuk mengetahuinya mari kita diskusi dan berlatih bersama malam ini. \nTerbuka untuk umum dan bebas biaya\nDipandu oleh Mustafa\nRabu\, 11 Maret 2026\n19:30-21:00 WIB \nLokasi: Tergar Meditation Centre Jakarta. Alamat: Jl. Daan Mogot\, Perumahan Green Mansion\, Boulevard Raya No.35\, Jakarta Barat\nMaps: https://goo.gl/maps/maVW3Y3upjbVouqm8 \nInfo:\n* WA: 0878 0692 2480\n* ⁠Website: http://www.tergarindonesia.com/events/\n– Organized by @tergarindonesia
URL:https://tergarindonesia.com/event/melindungi-batin-dari-kenegatifan/
CATEGORIES:Latihan Meditasi Bersama,Meditasi Umum
ATTACH;FMTTYPE=image/jpeg:https://tergarindonesia.com/wp-content/uploads/2026/03/WhatsApp-Image-2026-03-11-at-09.09.06-e1773199074801.jpeg
END:VEVENT
BEGIN:VEVENT
DTSTART;TZID=UTC:20260317T190000
DTEND;TZID=UTC:20260317T200000
DTSTAMP:20260421T222914
CREATED:20260317T021757Z
LAST-MODIFIED:20260317T021757Z
UID:2847-1773774000-1773777600@tergarindonesia.com
SUMMARY:Stop Lawan. Mulai Sadar.
DESCRIPTION:Saat rasa tidak nyaman muncul—di tubuh atau di emosi—kita biasanya langsung melawan.\nMenolak\, menekan\, atau ingin cepat menghilangkannya. \nLatihan ini mengajak kita berhenti sejenak. \nTidak perlu melawan.\nCukup sadari apa yang sedang terjadi.\nKarena saat kita berhenti melawan\, di situlah kita beralih berlatih mengenali kesadaran. \nMari kita berlatih STOP melawan ketidaknyaman\, beralih dengan menyadarinya saja. \nTerbuka untuk umum dan bebas biaya. Selasa\, 17 Maret 2026\, 19:00-20:00 WIB. Dipandu oleh Hemmarata (host) dan Eripin (co-host). \nVia ZOOM\, meeting ID : 821 1856 5010\nPasscode : kesadaran \nInfo :\n– WA : 0878 0692 2480\n– Website : http://www.tergarindonesia.com/events/\n* Organized by @tergarindonesia
URL:https://tergarindonesia.com/event/stop-lawan-mulai-sadar/
CATEGORIES:Latihan Meditasi Bersama,Meditasi Umum
ATTACH;FMTTYPE=image/jpeg:https://tergarindonesia.com/wp-content/uploads/2026/03/WhatsApp-Image-2026-03-17-at-09.08.42-e1773713849275.jpeg
END:VEVENT
END:VCALENDAR