BEGIN:VCALENDAR
VERSION:2.0
PRODID:-//Tergar Indonesia - ECPv6.15.20//NONSGML v1.0//EN
CALSCALE:GREGORIAN
METHOD:PUBLISH
X-WR-CALNAME:Tergar Indonesia
X-ORIGINAL-URL:https://tergarindonesia.com
X-WR-CALDESC:Events for Tergar Indonesia
REFRESH-INTERVAL;VALUE=DURATION:PT1H
X-Robots-Tag:noindex
X-PUBLISHED-TTL:PT1H
BEGIN:VTIMEZONE
TZID:UTC
BEGIN:STANDARD
TZOFFSETFROM:+0000
TZOFFSETTO:+0000
TZNAME:UTC
DTSTART:20210101T000000
END:STANDARD
END:VTIMEZONE
BEGIN:VEVENT
DTSTART;TZID=UTC:20231008T100000
DTEND;TZID=UTC:20231008T160000
DTSTAMP:20260421T101816
CREATED:20231002T100000Z
LAST-MODIFIED:20231002T100000Z
UID:1902-1696759200-1696780800@tergarindonesia.com
SUMMARY:Puja\, Latihan Meditasi & Study Group Dharma
DESCRIPTION:Puja\, Latihan Meditasi & Study Group Dharma\nMinggu\, 8 Oktober 2023 \nPuja Chenrezig 4 Lengan\nDipimpin Lama Norbu\nPukul 10.00 – 12.00 WIB \nNotes:\n– Umat dapat mengikuti puja secara langsung di Tergar Centre.\n– Puja juga dapat diikuti online melalui Zoom\, teks sadhana akan ditampilkan melalui layar.\nMeeting ID: 835 1003 5005\nPassword: tergar\nLink:\nhttps://us02web.zoom.us/j/83510035005?pwd=UVE5dmxQWEE4dHo5VWhwZGNMRUNMUT09\n————\nLatihan Meditasi & Study Grup Dharma\nA Heart Released \nBersama Rudy Susanto\nPukul 14.00 – 16.00 WIB\nNotes: Hanya secara offline; Tersedia makan siang. \nDibuka kesempatan berdana untuk kegiatan di center:\nBCA a/n. Yayasan Tergar Indonesia\nNo. 441 3988 899\nCantumkan angka “9” di akhir nominal transfer (contoh: 50.009). \nInfo:\n0838 0692 2450\n@TergarIndonesia
URL:https://tergarindonesia.com/event/puja-latihan-meditasi-study-group-dharma/
CATEGORIES:Chenrezig,Dharma Study
ATTACH;FMTTYPE=image/jpeg:https://tergarindonesia.com/wp-content/uploads/2023/10/WhatsApp-Image-2023-10-01-at-12.23.30-e1696240770539.jpeg
END:VEVENT
BEGIN:VEVENT
DTSTART;TZID=UTC:20221225T100000
DTEND;TZID=UTC:20221225T120000
DTSTAMP:20260421T101816
CREATED:20221226T033502Z
LAST-MODIFIED:20221226T033502Z
UID:1077-1671962400-1671969600@tergarindonesia.com
SUMMARY:Puja Chenrezig 4 Lengan
DESCRIPTION:Puja Chenrezig 4 Lengan\nDipimpin Lama Norbu \nMinggu\, 25 Desember 2022\n10.00 – 12.00 WIB \nChenrezig (Avalokiteśvara) adalah perwujudan dari cinta kasih dan welas asih dari semua Buddha. Secara harfiah berarti “Yang Melihat Dengan Mata Penuh Kasih”. Tubuh putih bercahaya Chenrezig mewakili kecemerlangan kebijaksanaan hakiki yang murni tanpa noda yang merupakan kualitas mendasar bawaan setiap makhluk\, serta berlengan empat melambangkan empat kualitas tanpa batas. Puja Chenrezig dan pelafalan mantra 6 silabel OM MANI PADME HUM mempurifikasi kenegatifan dan mengakumulasi kebajikan tak terhingga serta kebijaksanaan relatif maupun absolut. \nNotes:\n– Umat dapat mengikuti puja secara langsung di Tergar Centre.\n– Puja juga dapat diikuti online melalui Zoom\, teks sadhana akan ditampilkan melalui layar.\nMeeting ID: 835 1003 5005\nPassword: tergar\nLink:\nhttps://us02web.zoom.us/j/83510035005?pwd=UVE5dmxQWEE4dHo5VWhwZGNMRUNMUT09 \nDibuka kesempatan berdana untuk puja mingguan:\nBCA a/n. Yayasan Tergar Indonesia\nNo. 441 3988 899\nCantumkan angka “9” di akhir nominal transfer (contoh: 50.009). \nInfo:\n0838 0692 2450\n@TergarIndonesia
URL:https://tergarindonesia.com/event/puja-chenrezig-4-lengan-5/
CATEGORIES:Chenrezig,Puja Mingguan
ATTACH;FMTTYPE=image/jpeg:https://tergarindonesia.com/wp-content/uploads/2022/12/WhatsApp-Image-2022-12-24-at-09.28.48-e1672025672741.jpeg
END:VEVENT
BEGIN:VEVENT
DTSTART;TZID=UTC:20221218T100000
DTEND;TZID=UTC:20221218T120000
DTSTAMP:20260421T101816
CREATED:20221220T101313Z
LAST-MODIFIED:20221220T101313Z
UID:1041-1671357600-1671364800@tergarindonesia.com
SUMMARY:Puja Chenrezig 4 Lengan
DESCRIPTION:Puja Chenrezig 4 Lengan\nDipimpin Lama Norbu \nMinggu\, 18 Desember 2022\n10.00 – 12.00 WIB \nChenrezig (Avalokiteśvara) adalah perwujudan dari cinta kasih dan welas asih dari semua Buddha. Secara harfiah berarti “Yang Melihat Dengan Mata Penuh Kasih”. Tubuh putih bercahaya Chenrezig mewakili kecemerlangan kebijaksanaan hakiki yang murni tanpa noda yang merupakan kualitas mendasar bawaan setiap makhluk\, serta berlengan empat melambangkan empat kualitas tanpa batas. Puja Chenrezig dan pelafalan mantra 6 silabel OM MANI PADME HUM mempurifikasi kenegatifan dan mengakumulasi kebajikan tak terhingga serta kebijaksanaan relatif maupun absolut. \nNotes:\n– Umat dapat mengikuti puja secara langsung di Tergar Centre.\n– Puja juga dapat diikuti online melalui Zoom\, teks sadhana akan ditampilkan melalui layar.\nMeeting ID: 835 1003 5005\nPassword: tergar\nLink:\nhttps://us02web.zoom.us/j/83510035005?pwd=UVE5dmxQWEE4dHo5VWhwZGNMRUNMUT09 \nDibuka kesempatan berdana untuk puja mingguan:\nBCA a/n. Yayasan Tergar Indonesia\nNo. 441 3988 899\nCantumkan angka “9” di akhir nominal transfer (contoh: 50.009). \nInfo:\n0838 0692 2450\n@TergarIndonesia
URL:https://tergarindonesia.com/event/puja-chenrezig-4-lengan-4/
CATEGORIES:Chenrezig,Puja Mingguan
ATTACH;FMTTYPE=image/jpeg:https://tergarindonesia.com/wp-content/uploads/2022/12/WhatsApp-Image-2022-12-17-at-16.54.24-e1671531162404.jpeg
END:VEVENT
BEGIN:VEVENT
DTSTART;TZID=UTC:20221127T100000
DTEND;TZID=UTC:20221127T120000
DTSTAMP:20260421T101816
CREATED:20221127T023655Z
LAST-MODIFIED:20221127T023655Z
UID:952-1669543200-1669550400@tergarindonesia.com
SUMMARY:Puja Chenrezig 4 Lengan & Sur Offering
DESCRIPTION:PRAY FOR CIANJUR\nPuja Chenrezig 4 Lengan & Sur Offering\nDipimpin Lama Norbu \nMinggu\, 27 November 2022\n10.00 – 12.00 WIB \nPuja kali ini akan kita dedikasikan juga kepada para korban gempa di Cianjur. Semoga kebajikan dari Puja dan Sur Offering ini dapat meringankan penderitaan mereka. \nChenrezig (Avalokiteśvara) adalah perwujudan dari cinta kasih dan welas asih dari semua Buddha. Secara harfiah berarti “Yang Melihat Dengan Mata Penuh Kasih”. Tubuh putih bercahaya Chenrezig mewakili kecemerlangan kebijaksanaan hakiki yang murni tanpa noda yang merupakan kualitas mendasar bawaan setiap makhluk\, serta berlengan empat melambangkan empat kualitas tanpa batas. Puja Chenrezig dan pelafalan mantra 6 silabel OM MANI PADME HUM mempurifikasi kenegatifan dan mengakumulasi kebajikan tak terhingga serta kebijaksanaan relatif maupun absolut. \nNotes:\n– Umat dapat mengikuti puja secara langsung di Tergar Centre.\n– Puja juga dapat diikuti online melalui Zoom\, teks sadhana akan ditampilkan melalui layar.\nMeeting ID: 835 1003 5005\nPassword: tergar\nLink:\nhttps://us02web.zoom.us/j/83510035005?pwd=UVE5dmxQWEE4dHo5VWhwZGNMRUNMUT09 \nDibuka kesempatan berdana untuk puja mingguan:\nBCA a/n. Yayasan Tergar Indonesia\nNo. 441 3988 899\nCantumkan angka “9” di akhir nominal transfer (contoh: 50.009). \nInfo:\n0838 0692 2450\n@TergarIndonesia
URL:https://tergarindonesia.com/event/puja-chenrezig-4-lengan-sur-offering/
CATEGORIES:Chenrezig,Puja Mingguan
ATTACH;FMTTYPE=image/jpeg:https://tergarindonesia.com/wp-content/uploads/2022/11/WhatsApp-Image-2022-11-26-at-09.13.44-e1669516570132.jpeg
END:VEVENT
BEGIN:VEVENT
DTSTART;TZID=UTC:20221113T100000
DTEND;TZID=UTC:20221113T120000
DTSTAMP:20260421T101816
CREATED:20221114T075407Z
LAST-MODIFIED:20221114T075407Z
UID:904-1668333600-1668340800@tergarindonesia.com
SUMMARY:Puja Chenrezig 4 Lengan
DESCRIPTION:Puja Chenrezig 4 Lengan\nDipimpin Lama Norbu \nMinggu\, 13 November 2022\n10.00 – 12.00 WIB \nChenrezig (Avalokiteśvara) adalah perwujudan dari cinta kasih dan welas asih dari semua Buddha. Secara harfiah berarti “Yang Melihat Dengan Mata Penuh Kasih”. Tubuh putih bercahaya Chenrezig mewakili kecemerlangan kebijaksanaan hakiki yang murni tanpa noda yang merupakan kualitas mendasar bawaan setiap makhluk\, serta berlengan empat melambangkan empat kualitas tanpa batas. Puja Chenrezig dan pelafalan mantra 6 silabel OM MANI PADME HUM mempurifikasi kenegatifan dan mengakumulasi kebajikan tak terhingga serta kebijaksanaan relatif maupun absolut. \nNotes:\n– Umat dapat mengikuti puja secara langsung di Tergar Centre.\n– Puja juga dapat diikuti online melalui Zoom\, teks sadhana akan ditampilkan melalui layar.\nMeeting ID: 835 1003 5005\nPassword: tergar\nLink:\nhttps://us02web.zoom.us/j/83510035005?pwd=UVE5dmxQWEE4dHo5VWhwZGNMRUNMUT09 \nDibuka kesempatan berdana untuk puja mingguan:\nBCA a/n. Yayasan Tergar Indonesia\nNo. 441 3988 899\nCantumkan angka “9” di akhir nominal transfer (contoh: 50.009). \nInfo:\n0838 0692 2450\n@TergarIndonesia
URL:https://tergarindonesia.com/event/puja-chenrezig-4-lengan-3/
CATEGORIES:Chenrezig,Puja Mingguan
ATTACH;FMTTYPE=image/jpeg:https://tergarindonesia.com/wp-content/uploads/2022/11/WhatsApp-Image-2022-11-12-at-09.20.16-e1668412406228.jpeg
END:VEVENT
BEGIN:VEVENT
DTSTART;TZID=UTC:20221009T100000
DTEND;TZID=UTC:20221009T120000
DTSTAMP:20260421T101816
CREATED:20221008T042009Z
LAST-MODIFIED:20221008T042009Z
UID:676-1665309600-1665316800@tergarindonesia.com
SUMMARY:Puja Chenrezig 4 Lengan
DESCRIPTION:Puja Chenrezig 4 Lengan\nDipimpin Lama Norbu \nMinggu\, 09 Oktober 2022\n10.00 – 12.00 WIB \nChenrezig (Avalokiteśvara) adalah perwujudan dari cinta kasih dan welas asih dari semua Buddha. Secara harfiah berarti “Yang Melihat Dengan Mata Penuh Kasih”. Tubuh putih bercahaya Chenrezig mewakili kecemerlangan kebijaksanaan hakiki yang murni tanpa noda yang merupakan kualitas mendasar bawaan setiap makhluk\, serta berlengan empat melambangkan empat kualitas tanpa batas. Puja Chenrezig dan pelafalan mantra 6 silabel OM MANI PADME HUM mempurifikasi kenegatifan dan mengakumulasi kebajikan tak terhingga serta kebijaksanaan relatif maupun absolut. \nNotes:\n– Umat dapat mengikuti puja secara langsung di Tergar Centre.\n– Puja juga dapat diikuti online melalui Zoom\, teks sadhana akan ditampilkan melalui layar.\nMeeting ID: 835 1003 5005\nPassword: tergar\nLink:\nhttps://us02web.zoom.us/j/83510035005?pwd=UVE5dmxQWEE4dHo5VWhwZGNMRUNMUT09 \nDibuka kesempatan berdana untuk puja mingguan:\nBCA a/n. Yayasan Tergar Indonesia\nNo. 441 3988 899\nCantumkan angka “9” di akhir nominal transfer (contoh: 50.009). \nInfo:\n0838 0692 2450\n@TergarIndonesia
URL:https://tergarindonesia.com/event/puja-chenrezig-4-lengan-2/
CATEGORIES:Chenrezig,Puja Mingguan
ATTACH;FMTTYPE=image/jpeg:https://tergarindonesia.com/wp-content/uploads/2022/10/WhatsApp-Image-2022-10-08-at-09.40.08-e1665202796239.jpeg
END:VEVENT
BEGIN:VEVENT
DTSTART;TZID=UTC:20221002T100000
DTEND;TZID=UTC:20221002T120000
DTSTAMP:20260421T101816
CREATED:20221001T052231Z
LAST-MODIFIED:20221001T052231Z
UID:662-1664704800-1664712000@tergarindonesia.com
SUMMARY:Puja Chenrezig 4 Lengan
DESCRIPTION:Puja Chenrezig 4 Lengan\nDipimpin Lama Norbu \nMinggu\, 02 Oktober 2022\n10.00 – 12.00 WIB \nChenrezig (Avalokiteśvara) adalah perwujudan dari cinta kasih dan welas asih dari semua Buddha. Secara harfiah berarti “Yang Melihat Dengan Mata Penuh Kasih”. Tubuh putih bercahaya Chenrezig mewakili kecemerlangan kebijaksanaan hakiki yang murni tanpa noda yang merupakan kualitas mendasar bawaan setiap makhluk\, serta berlengan empat melambangkan empat kualitas tanpa batas. Puja Chenrezig dan pelafalan mantra 6 silabel OM MANI PADME HUM mempurifikasi kenegatifan dan mengakumulasi kebajikan tak terhingga serta kebijaksanaan relatif maupun absolut. \nNotes:\n– Umat dapat mengikuti puja secara langsung di Tergar Centre.\n– Puja juga dapat diikuti online melalui Zoom\, teks sadhana akan ditampilkan melalui layar.\nMeeting ID: 835 1003 5005\nPassword: tergar\nLink:\nhttps://us02web.zoom.us/j/83510035005?pwd=UVE5dmxQWEE4dHo5VWhwZGNMRUNMUT09 \nDibuka kesempatan berdana untuk puja mingguan:\nBCA a/n. Yayasan Tergar Indonesia\nNo. 441 3988 899\nCantumkan angka “9” di akhir nominal transfer (contoh: 50.009). \nInfo:\n0838 0692 2450\n@TergarIndonesia
URL:https://tergarindonesia.com/event/puja-chenrezig-4-lengan/
CATEGORIES:Chenrezig,Puja Mingguan
ATTACH;FMTTYPE=image/jpeg:https://tergarindonesia.com/wp-content/uploads/2022/10/WhatsApp-Image-2022-10-01-at-09.20.27.jpeg
END:VEVENT
END:VCALENDAR