BEGIN:VCALENDAR
VERSION:2.0
PRODID:-//Tergar Indonesia - ECPv6.15.20//NONSGML v1.0//EN
CALSCALE:GREGORIAN
METHOD:PUBLISH
X-WR-CALNAME:Tergar Indonesia
X-ORIGINAL-URL:https://tergarindonesia.com
X-WR-CALDESC:Events for Tergar Indonesia
REFRESH-INTERVAL;VALUE=DURATION:PT1H
X-Robots-Tag:noindex
X-PUBLISHED-TTL:PT1H
BEGIN:VTIMEZONE
TZID:UTC
BEGIN:STANDARD
TZOFFSETFROM:+0000
TZOFFSETTO:+0000
TZNAME:UTC
DTSTART:20210101T000000
END:STANDARD
END:VTIMEZONE
BEGIN:VEVENT
DTSTART;TZID=UTC:20220918T100000
DTEND;TZID=UTC:20220918T120000
DTSTAMP:20260421T085643
CREATED:20220925T072857Z
LAST-MODIFIED:20220925T072857Z
UID:609-1663495200-1663502400@tergarindonesia.com
SUMMARY:Puja Amitabha
DESCRIPTION:Puja Tatap Muka (Offline) & via Zoom (Online)\nDipimpin Lama Nurbu \nMinggu\, 18 September 2022\nJam 10:00 – 12.00 WIB \nUntuk memasuki alam Buddha seseorang umumnya harus telah menghilangkan halangan yang paling halus\, memiliki samaya yang sangat murni\, dan telah mencapai bhumi bodhisattva. Jadi\, bagi makhluk biasa\, sangat sulit untuk memasuki alam Buddha. Namun dikarenakan kekuatan aspirasi Amitabha\, siapa pun yang membuat doa harapan yang tulus untuk pergi ke Déwachen (Sukhavati) serta menciptakan sebab kondisinya\, dapatlah terlahir di sana walau belum memurnikan karma buruk atau sepenuhnya terbebas dari emosi negatif. \nNotes:\n– Umat dapat mengikuti puja secara langsung di Tergar\, dengan syarat: telah mendapatkan vaksin sebanyak 2x (minimal) dan saat di Tergar\, melakukan scan barcode peduli lindungi.\n– Umat juga dapat mengikuti puja melalui Zoom\, tanpa registrasi.\nMeeting ID: 883 8177 2913\nPassword: tergar\nLink:\nhttps://us02web.zoom.us/j/88381772913?pwd=7yNRG1eJc43xrotHFHELGyCzRzi-Nh.1\n– Teks sadhana akan ditampilkan lewat layar monitor. \nDibuka kesempatan berdana untuk puja mingguan:\nBCA a/n. Yayasan Tergar Indonesia\nNo. 441 3988 899\nCantumkan angka “9” di akhir nominal transfer (contoh: 50.009). \nInfo:\n0838 0692 2450\n@TergarIndonesia
URL:https://tergarindonesia.com/event/puja-amitabha-6/
CATEGORIES:Amitabha,Puja Mingguan
ATTACH;FMTTYPE=image/jpeg:https://tergarindonesia.com/wp-content/uploads/2022/09/WhatsApp-Image-2022-09-17-at-09.40.47-e1664090919295.jpeg
END:VEVENT
BEGIN:VEVENT
DTSTART;TZID=UTC:20220911T100000
DTEND;TZID=UTC:20220911T120000
DTSTAMP:20260421T085643
CREATED:20220912T031452Z
LAST-MODIFIED:20220912T031452Z
UID:590-1662890400-1662897600@tergarindonesia.com
SUMMARY:Puja Amitabha
DESCRIPTION:Puja Tatap Muka (Offline) & via Zoom (Online)\nDipimpin Lama Nurbu \nMinggu\, 11 September 2022\nJam 10:00 – 12.00 WIB \nUntuk memasuki alam Buddha seseorang umumnya harus telah menghilangkan halangan yang paling halus\, memiliki samaya yang sangat murni\, dan telah mencapai bhumi bodhisattva. Jadi\, bagi makhluk biasa\, sangat sulit untuk memasuki alam Buddha. Namun dikarenakan kekuatan aspirasi Amitabha\, siapa pun yang membuat doa harapan yang tulus untuk pergi ke Déwachen (Sukhavati) serta menciptakan sebab kondisinya\, dapatlah terlahir di sana walau belum memurnikan karma buruk atau sepenuhnya terbebas dari emosi negatif. \nNotes:\n– Umat dapat mengikuti puja secara langsung di Tergar\, dengan syarat: telah mendapatkan vaksin sebanyak 2x (minimal) dan saat di Tergar\, melakukan scan barcode peduli lindungi.\n– Umat juga dapat mengikuti puja melalui Zoom\, tanpa registrasi.\nMeeting ID: 883 8177 2913\nPassword: tergar\nLink:\nhttps://us02web.zoom.us/j/88381772913?pwd=7yNRG1eJc43xrotHFHELGyCzRzi-Nh.1\n– Teks sadhana akan ditampilkan lewat layar monitor. \nDibuka kesempatan berdana untuk puja mingguan:\nBCA a/n. Yayasan Tergar Indonesia\nNo. 441 3988 899\nCantumkan angka “9” di akhir nominal transfer (contoh: 50.009). \nInfo:\n0838 0692 2450\n@TergarIndonesia
URL:https://tergarindonesia.com/event/puja-amitabha-4/
CATEGORIES:Amitabha,Puja Mingguan
ATTACH;FMTTYPE=image/jpeg:https://tergarindonesia.com/wp-content/uploads/2022/09/WhatsApp-Image-2022-09-10-at-09.35.29-e1662952481210.jpeg
END:VEVENT
BEGIN:VEVENT
DTSTART;TZID=UTC:20220828T100000
DTEND;TZID=UTC:20220828T120000
DTSTAMP:20260421T085643
CREATED:20220829T033630Z
LAST-MODIFIED:20220829T033630Z
UID:539-1661680800-1661688000@tergarindonesia.com
SUMMARY:Puja Amitabha
DESCRIPTION:Puja Amitabha\nPuja Tatap Muka (Offline) & via Zoom (Online)\nDipimpin Lama Nurbu \nMinggu\, 28 Agustus 2022\nJam 10:00 – 12.00 WIB \nUntuk memasuki alam Buddha seseorang umumnya harus telah menghilangkan halangan yang paling halus\, memiliki samaya yang sangat murni\, dan telah mencapai bhumi bodhisattva. Jadi\, bagi makhluk biasa\, sangat sulit untuk memasuki alam Buddha. Namun dikarenakan kekuatan aspirasi Amitabha\, siapa pun yang membuat doa harapan yang tulus untuk pergi ke Déwachen (Sukhavati) serta menciptakan sebab kondisinya\, dapatlah terlahir di sana walau belum memurnikan karma buruk atau sepenuhnya terbebas dari emosi negatif. \nNotes:\n– Umat dapat mengikuti puja secara langsung di Tergar\, dengan syarat: telah mendapatkan vaksin sebanyak 2x (minimal) dan saat di Tergar\, melakukan scan barcode peduli lindungi.\n– Umat juga dapat mengikuti puja melalui Zoom\, tanpa registrasi.\nMeeting ID: 883 8177 2913\nPassword: tergar\nLink:\nhttps://us02web.zoom.us/j/88381772913?pwd=7yNRG1eJc43xrotHFHELGyCzRzi-Nh.1\n– Teks sadhana akan ditampilkan lewat layar monitor. \nDibuka kesempatan berdana untuk puja mingguan:\nBCA a/n. Yayasan Tergar Indonesia\nNo. 441 3988 899\nCantumkan angka “9” di akhir nominal transfer (contoh: 50.009). \nInfo:\n0838 0692 2450\n@TergarIndonesia
URL:https://tergarindonesia.com/event/puja-amitabha-3/
CATEGORIES:Amitabha,Puja Mingguan
ATTACH;FMTTYPE=image/jpeg:https://tergarindonesia.com/wp-content/uploads/2022/08/WhatsApp-Image-2022-08-27-at-10.30.00-e1661744169913.jpeg
END:VEVENT
BEGIN:VEVENT
DTSTART;TZID=UTC:20220821T100000
DTEND;TZID=UTC:20220821T120000
DTSTAMP:20260421T085643
CREATED:20220820T053540Z
LAST-MODIFIED:20220820T053540Z
UID:499-1661076000-1661083200@tergarindonesia.com
SUMMARY:Puja Amitabha
DESCRIPTION:Puja Amitabha\nPuja Tatap Muka (Offline) & via Zoom (Online)\nDipimpin Lama Nurbu \nMinggu\, 21 Agustus 2022\nJam 10:00 – 12.00 WIB \nUntuk memasuki alam Buddha seseorang umumnya harus telah menghilangkan halangan yang paling halus\, memiliki samaya yang sangat murni\, dan telah mencapai bhumi bodhisattva. Jadi\, bagi makhluk biasa\, sangat sulit untuk memasuki alam Buddha. Namun dikarenakan kekuatan aspirasi Amitabha\, siapa pun yang membuat doa harapan yang tulus untuk pergi ke Déwachen (Sukhavati) serta menciptakan sebab kondisinya\, dapatlah terlahir di sana walau belum memurnikan karma buruk atau sepenuhnya terbebas dari emosi negatif. \nNotes:\n– Umat dapat mengikuti puja secara langsung di Tergar\, dengan syarat: telah mendapatkan vaksin sebanyak 2x (minimal) dan saat di Tergar\, melakukan scan barcode peduli lindungi.\n– Umat juga dapat mengikuti puja melalui Zoom\, tanpa registrasi.\nMeeting ID: 883 8177 2913\nPassword: tergar\nLink:\nhttps://us02web.zoom.us/j/88381772913?pwd=7yNRG1eJc43xrotHFHELGyCzRzi-Nh.1\n– Teks sadhana akan ditampilkan lewat layar monitor. \nDibuka kesempatan berdana untuk puja mingguan:\nBCA a/n. Yayasan Tergar Indonesia\nNo. 441 3988 899\nCantumkan angka “9” di akhir nominal transfer (contoh: 50.009). \nInfo:\n0838 0692 2450\n@TergarIndonesia
URL:https://tergarindonesia.com/event/puja-amitabha-2/
CATEGORIES:Amitabha,Latihan Meditasi Bersama,Puja Mingguan
ATTACH;FMTTYPE=image/jpeg:https://tergarindonesia.com/wp-content/uploads/2022/08/WhatsApp-Image-2022-08-20-at-09.02.03-e1660973727150.jpeg
END:VEVENT
BEGIN:VEVENT
DTSTART;TZID=UTC:20220814T100000
DTEND;TZID=UTC:20220814T120000
DTSTAMP:20260421T085643
CREATED:20220815T024415Z
LAST-MODIFIED:20220815T024415Z
UID:479-1660471200-1660478400@tergarindonesia.com
SUMMARY:Puja Amitabha
DESCRIPTION:Puja Amitabha\nPuja Tatap Muka (Offline) & via Zoom (Online)\nDipimpin Lama Nurbu \nMinggu\, 14 Agustus 2022\nJam 10:00 – 12.00 WIB \nUntuk memasuki alam Buddha seseorang umumnya harus telah menghilangkan halangan yang paling halus\, memiliki samaya yang sangat murni\, dan telah mencapai bhumi bodhisattva. Jadi\, bagi makhluk biasa\, sangat sulit untuk memasuki alam Buddha. Namun dikarenakan kekuatan aspirasi Amitabha\, siapa pun yang membuat doa harapan yang tulus untuk pergi ke Déwachen (Sukhavati) serta menciptakan sebab kondisinya\, dapatlah terlahir di sana walau belum memurnikan karma buruk atau sepenuhnya terbebas dari emosi negatif. \nNotes:\n– Umat dapat mengikuti puja secara langsung di Tergar\, dengan syarat: telah mendapatkan vaksin sebanyak 2x (minimal) dan saat di Tergar\, melakukan scan barcode peduli lindungi.\n– Umat juga dapat mengikuti puja melalui Zoom\, tanpa registrasi.\nMeeting ID: 883 8177 2913\nPassword: tergar\nLink:\nhttps://us02web.zoom.us/j/88381772913?pwd=7yNRG1eJc43xrotHFHELGyCzRzi-Nh.1\n– Teks sadhana akan ditampilkan lewat layar monitor. \nDibuka kesempatan berdana untuk puja mingguan:\nBCA a/n. Yayasan Tergar Indonesia\nNo. 441 3988 899\nCantumkan angka “9” di akhir nominal transfer (contoh: 50.009). \nInfo:\n0838 0692 2450\n@TergarIndonesia
URL:https://tergarindonesia.com/event/puja-amitabha/
CATEGORIES:Amitabha,Puja Mingguan
ATTACH;FMTTYPE=image/jpeg:https://tergarindonesia.com/wp-content/uploads/2022/08/WhatsApp-Image-2022-08-13-at-09.24.45-e1660531438635.jpeg
END:VEVENT
END:VCALENDAR