BEGIN:VCALENDAR
VERSION:2.0
PRODID:-//Tergar Indonesia - ECPv6.15.20//NONSGML v1.0//EN
CALSCALE:GREGORIAN
METHOD:PUBLISH
X-WR-CALNAME:Tergar Indonesia
X-ORIGINAL-URL:https://tergarindonesia.com
X-WR-CALDESC:Events for Tergar Indonesia
REFRESH-INTERVAL;VALUE=DURATION:PT1H
X-Robots-Tag:noindex
X-PUBLISHED-TTL:PT1H
BEGIN:VTIMEZONE
TZID:UTC
BEGIN:STANDARD
TZOFFSETFROM:+0000
TZOFFSETTO:+0000
TZNAME:UTC
DTSTART:20220101T000000
END:STANDARD
END:VTIMEZONE
BEGIN:VEVENT
DTSTART;TZID=UTC:20230702T100000
DTEND;TZID=UTC:20230702T120000
DTSTAMP:20260423T091549
CREATED:20230703T094016Z
LAST-MODIFIED:20230703T094016Z
UID:1650-1688292000-1688299200@tergarindonesia.com
SUMMARY:Puja Amitabha
DESCRIPTION:Puja Amitabha\nPuja Tatap Muka (Offline) & via Zoom (Online)\nDipimpin Lama Nurbu \nMinggu\, 2 Juli 2023\nJam 10:00 – 12.00 WIB \nUntuk memasuki alam Buddha seseorang umumnya harus telah menghilangkan halangan yang paling halus\, memiliki samaya yang sangat murni\, dan telah mencapai bhumi bodhisattva. Jadi\, bagi makhluk biasa\, sangat sulit untuk memasuki alam Buddha. Namun dikarenakan kekuatan aspirasi Amitabha\, siapa pun yang membuat doa harapan yang tulus untuk pergi ke Déwachen (Sukhavati) serta menciptakan sebab kondisinya\, dapatlah terlahir di sana walau belum memurnikan karma buruk atau sepenuhnya terbebas dari emosi negatif. \nNotes:\n– Umat dapat mengikuti puja secara langsung di Tergar\, dengan syarat: telah mendapatkan vaksin sebanyak 2x (minimal) dan saat di Tergar\, melakukan scan barcode peduli lindungi.\n– Umat juga dapat mengikuti puja melalui Zoom\, tanpa registrasi.\nMeeting ID: 846 5558 0899\nPassword: tergar\nLink:\nhttps://us02web.zoom.us/j/84655580899?pwd=WlNncTczZkU3RjZhL3hVUWhCNUp3dz09\n– Teks sadhana akan ditampilkan lewat layar monitor. \nDibuka kesempatan berdana untuk puja mingguan:\nBCA a/n. Yayasan Tergar Indonesia\nNo. 441 3988 899\nCantumkan angka “9” di akhir nominal transfer (contoh: 50.009). \nInfo:\n0838 0692 2450\n@TergarIndonesia
URL:https://tergarindonesia.com/event/puja-amitabha-7/
CATEGORIES:Amitabha,Puja Mingguan
ATTACH;FMTTYPE=image/jpeg:https://tergarindonesia.com/wp-content/uploads/2023/07/WhatsApp-Image-2023-07-01-at-09.13.41-e1688377176433.jpeg
END:VEVENT
BEGIN:VEVENT
DTSTART;TZID=UTC:20230709T100000
DTEND;TZID=UTC:20230709T120000
DTSTAMP:20260423T091549
CREATED:20230710T070915Z
LAST-MODIFIED:20230710T070915Z
UID:1660-1688896800-1688904000@tergarindonesia.com
SUMMARY:Puja Amitabha
DESCRIPTION:Puja Amitabha\nPuja Tatap Muka (Offline) & via Zoom (Online)\nDipimpin Lama Nurbu \nMinggu\, 9 Juli 2023\nJam 10:00 – 12.00 WIB \nUntuk memasuki alam Buddha seseorang umumnya harus telah menghilangkan halangan yang paling halus\, memiliki samaya yang sangat murni\, dan telah mencapai bhumi bodhisattva. Jadi\, bagi makhluk biasa\, sangat sulit untuk memasuki alam Buddha. Namun dikarenakan kekuatan aspirasi Amitabha\, siapa pun yang membuat doa harapan yang tulus untuk pergi ke Déwachen (Sukhavati) serta menciptakan sebab kondisinya\, dapatlah terlahir di sana walau belum memurnikan karma buruk atau sepenuhnya terbebas dari emosi negatif. \nNotes:\n– Umat dapat mengikuti puja secara langsung di Tergar\, dengan syarat: telah mendapatkan vaksin sebanyak 2x (minimal) dan saat di Tergar\, melakukan scan barcode peduli lindungi.\n– Umat juga dapat mengikuti puja melalui Zoom\, tanpa registrasi.\nMeeting ID: 883 8177 2913\nPassword: tergar\nLink:\nhttps://us02web.zoom.us/j/88381772913?pwd=7yNRG1eJc43xrotHFHELGyCzRzi-Nh.1\n– Teks sadhana akan ditampilkan lewat layar monitor. \nDibuka kesempatan berdana untuk puja mingguan:\nBCA a/n. Yayasan Tergar Indonesia\nNo. 441 3988 899\nCantumkan angka “9” di akhir nominal transfer (contoh: 50.009). \nInfo:\n0838 0692 2450\n@TergarIndonesia
URL:https://tergarindonesia.com/event/puja-amitabha-8/
CATEGORIES:Amitabha,Puja Mingguan
ATTACH;FMTTYPE=image/jpeg:https://tergarindonesia.com/wp-content/uploads/2023/07/WhatsApp-Image-2023-07-08-at-11.14.23-e1688972905172.jpeg
END:VEVENT
BEGIN:VEVENT
DTSTART;TZID=UTC:20230716T100000
DTEND;TZID=UTC:20230716T120000
DTSTAMP:20260423T091549
CREATED:20230715T054711Z
LAST-MODIFIED:20230715T054711Z
UID:1689-1689501600-1689508800@tergarindonesia.com
SUMMARY:Puja Amitabha
DESCRIPTION:Puja Amitabha\nPuja Tatap Muka (Offline) & via Zoom (Online)\nDipimpin Lama Nurbu \nMinggu\, 16 Juli 2023\nJam 10:00 – 12.00 WIB \nUntuk memasuki alam Buddha seseorang umumnya harus telah menghilangkan halangan yang paling halus\, memiliki samaya yang sangat murni\, dan telah mencapai bhumi bodhisattva. Jadi\, bagi makhluk biasa\, sangat sulit untuk memasuki alam Buddha. Namun dikarenakan kekuatan aspirasi Amitabha\, siapa pun yang membuat doa harapan yang tulus untuk pergi ke Déwachen (Sukhavati) serta menciptakan sebab kondisinya\, dapatlah terlahir di sana walau belum memurnikan karma buruk atau sepenuhnya terbebas dari emosi negatif. \nNotes:\n– Umat dapat mengikuti Puja secara langsung di Tergar Center Jakarta\, dengan syarat: sehat serta mematuhi protokol kesehatan\n– Umat yang berada di luar kota\, dapat mengikuti puja melalui Zoom\, tanpa registrasi. Teks sadhana akan ditampilkan lewat layar monitor. \nMeeting ID: 883 8177 2913\nPassword: tergar\nLink:\nhttps://us02web.zoom.us/j/88381772913?pwd=7yNRG1eJc43xrotHFHELGyCzRzi-Nh.1 \nDibuka kesempatan berdana untuk puja mingguan:\nBCA a/n. Yayasan Tergar Indonesia\nNo. 441 3988 899\nCantumkan angka “9” di akhir nominal transfer (contoh: 50.009). \nInfo:\n0838 0692 2450\n@TergarIndonesia
URL:https://tergarindonesia.com/event/puja-amitabha-9/
CATEGORIES:Amitabha,Puja Mingguan
ATTACH;FMTTYPE=image/jpeg:https://tergarindonesia.com/wp-content/uploads/2023/07/WhatsApp-Image-2023-07-15-at-10.50.48-e1689399998729.jpeg
END:VEVENT
BEGIN:VEVENT
DTSTART;TZID=UTC:20230723T100000
DTEND;TZID=UTC:20230723T120000
DTSTAMP:20260423T091549
CREATED:20230724T035617Z
LAST-MODIFIED:20230724T035617Z
UID:1720-1690106400-1690113600@tergarindonesia.com
SUMMARY:Puja Amitabha
DESCRIPTION:Puja Amitabha\nPuja Tatap Muka (Offline) & via Zoom (Online)\nDipimpin Lama Nurbu \nMinggu\, 23 Juli 2023\nJam 10:00 – 12.00 WIB \nUntuk memasuki alam Buddha seseorang umumnya harus telah menghilangkan halangan yang paling halus\, memiliki samaya yang sangat murni\, dan telah mencapai bhumi bodhisattva. Jadi\, bagi makhluk biasa\, sangat sulit untuk memasuki alam Buddha. Namun dikarenakan kekuatan aspirasi Amitabha\, siapa pun yang membuat doa harapan yang tulus untuk pergi ke Déwachen (Sukhavati) serta menciptakan sebab kondisinya\, dapatlah terlahir di sana walau belum memurnikan karma buruk atau sepenuhnya terbebas dari emosi negatif. \nNotes:\n– Umat dapat mengikuti Puja secara langsung di Tergar Center Jakarta\, dengan syarat: sehat serta mematuhi protokol kesehatan\n– Umat yang berada di luar kota\, dapat mengikuti puja melalui Zoom\, tanpa registrasi. Teks sadhana akan ditampilkan lewat layar monitor. \nMeeting ID: 883 8177 2913\nPassword: tergar\nLink:\nhttps://us02web.zoom.us/j/88381772913?pwd=7yNRG1eJc43xrotHFHELGyCzRzi-Nh.1 \nDibuka kesempatan berdana untuk puja mingguan:\nBCA a/n. Yayasan Tergar Indonesia\nNo. 441 3988 899\nCantumkan angka “9” di akhir nominal transfer (contoh: 50.009). \nInfo:\n0838 0692 2450\n@TergarIndonesia
URL:https://tergarindonesia.com/event/puja-amitabha-10/
CATEGORIES:Amitabha,Puja Mingguan
ATTACH;FMTTYPE=image/jpeg:https://tergarindonesia.com/wp-content/uploads/2023/07/WhatsApp-Image-2023-07-22-at-12.49.41-e1690170941707.jpeg
END:VEVENT
BEGIN:VEVENT
DTSTART;TZID=UTC:20230730T100000
DTEND;TZID=UTC:20230730T120000
DTSTAMP:20260423T091549
CREATED:20230731T032433Z
LAST-MODIFIED:20230731T032433Z
UID:1736-1690711200-1690718400@tergarindonesia.com
SUMMARY:Puja Amitabha
DESCRIPTION:Puja Amitabha\nPuja Tatap Muka (Offline) & via Zoom (Online)\nDipimpin Lama Nurbu \nMinggu\, 30 Juli 2023\nJam 10:00 – 12.00 WIB \nUntuk memasuki alam Buddha seseorang umumnya harus telah menghilangkan halangan yang paling halus\, memiliki samaya yang sangat murni\, dan telah mencapai bhumi bodhisattva. Jadi\, bagi makhluk biasa\, sangat sulit untuk memasuki alam Buddha. Namun dikarenakan kekuatan aspirasi Amitabha\, siapa pun yang membuat doa harapan yang tulus untuk pergi ke Déwachen (Sukhavati) serta menciptakan sebab kondisinya\, dapatlah terlahir di sana walau belum memurnikan karma buruk atau sepenuhnya terbebas dari emosi negatif. \nNotes:\n– Umat dapat mengikuti Puja secara langsung di Tergar Center Jakarta\, dengan syarat: sehat serta mematuhi protokol kesehatan\n– Umat yang berada di luar kota\, dapat mengikuti puja melalui Zoom\, tanpa registrasi. Teks sadhana akan ditampilkan lewat layar monitor. \nMeeting ID: 883 8177 2913\nPassword: tergar\nLink:\nhttps://us02web.zoom.us/j/88381772913?pwd=7yNRG1eJc43xrotHFHELGyCzRzi-Nh.1 \nDibuka kesempatan berdana untuk puja mingguan:\nBCA a/n. Yayasan Tergar Indonesia\nNo. 441 3988 899\nCantumkan angka “9” di akhir nominal transfer (contoh: 50.009). \nInfo:\n0838 0692 2450\n@TergarIndonesia
URL:https://tergarindonesia.com/event/puja-amitabha-11/
CATEGORIES:Amitabha,Puja Mingguan
ATTACH;FMTTYPE=image/jpeg:https://tergarindonesia.com/wp-content/uploads/2023/07/WhatsApp-Image-2023-07-29-at-11.16.42-e1690773846120.jpeg
END:VEVENT
END:VCALENDAR