BEGIN:VCALENDAR
VERSION:2.0
PRODID:-//Tergar Indonesia - ECPv6.15.20//NONSGML v1.0//EN
CALSCALE:GREGORIAN
METHOD:PUBLISH
X-WR-CALNAME:Tergar Indonesia
X-ORIGINAL-URL:https://tergarindonesia.com
X-WR-CALDESC:Events for Tergar Indonesia
REFRESH-INTERVAL;VALUE=DURATION:PT1H
X-Robots-Tag:noindex
X-PUBLISHED-TTL:PT1H
BEGIN:VTIMEZONE
TZID:UTC
BEGIN:STANDARD
TZOFFSETFROM:+0000
TZOFFSETTO:+0000
TZNAME:UTC
DTSTART:20220101T000000
END:STANDARD
END:VTIMEZONE
BEGIN:VEVENT
DTSTART;TZID=UTC:20230108T100000
DTEND;TZID=UTC:20230108T120000
DTSTAMP:20260423T185431
CREATED:20230109T040120Z
LAST-MODIFIED:20230109T040120Z
UID:1113-1673172000-1673179200@tergarindonesia.com
SUMMARY:Puja Amitabha Offline & Online
DESCRIPTION:Puja Amitabha Offline & Online\nDedikasi Untuk:\nAlm. Hang Siauw YH\,\nAlm. Lilik Anustari (Huang Tjik Niang) \nMinggu\, 8 Januari 2023\nJam 10.00 – 12.00 \nUntuk memasuki alam Buddha seseorang umumnya harus telah menghilangkan halangan yang paling halus\, memiliki samaya yang sangat murni\, dan telah mencapai bhumi bodhisattva. Jadi\, bagi makhluk biasa\, sangat sulit untuk memasuki alam Buddha. Namun dikarenakan kekuatan aspirasi Amitabha\, siapa pun yang membuat doa harapan yang tulus untuk pergi ke Déwachen (Sukhavati) serta menciptakan sebab kondisinya\, dapatlah terlahir di sana walau belum memurnikan karma buruk atau sepenuhnya terbebas dari emosi negatif. \nNotes:\n– Umat dapat mengikuti puja secara langsung di Tergar\, dengan syarat: telah mendapatkan vaksin sebanyak 2x (minimal) dan saat di Tergar\, melakukan scan barcode peduli lindungi.\n– Umat juga dapat mengikuti puja melalui Zoom\, tanpa registrasi. \nLokasi:\nTergar Meditation Centre Jakarta \nOnline di Zoom\nMeeting ID: 838 5648 5372\nPassword: tergar\nLink:\nhttps://us02web.zoom.us/j/83856485372?pwd=M3VpZ0xxeU5kRTJjZXhoZEtqTWtLdz09 \n@tergarindonesia
URL:https://tergarindonesia.com/event/puja-amitabha-offline-online/
CATEGORIES:Amitabha,Puja Mingguan
ATTACH;FMTTYPE=image/jpeg:https://tergarindonesia.com/wp-content/uploads/2023/01/WhatsApp-Image-2023-01-07-at-10.01.18-e1673236839730.jpeg
END:VEVENT
END:VCALENDAR