BEGIN:VCALENDAR
VERSION:2.0
PRODID:-//Tergar Indonesia - ECPv6.15.20//NONSGML v1.0//EN
CALSCALE:GREGORIAN
METHOD:PUBLISH
X-WR-CALNAME:Tergar Indonesia
X-ORIGINAL-URL:https://tergarindonesia.com
X-WR-CALDESC:Events for Tergar Indonesia
REFRESH-INTERVAL;VALUE=DURATION:PT1H
X-Robots-Tag:noindex
X-PUBLISHED-TTL:PT1H
BEGIN:VTIMEZONE
TZID:UTC
BEGIN:STANDARD
TZOFFSETFROM:+0000
TZOFFSETTO:+0000
TZNAME:UTC
DTSTART:20220101T000000
END:STANDARD
END:VTIMEZONE
BEGIN:VEVENT
DTSTART;TZID=UTC:20230319T100000
DTEND;TZID=UTC:20230319T120000
DTSTAMP:20260421T134408
CREATED:20230317T035119Z
LAST-MODIFIED:20230317T035119Z
UID:1378-1679220000-1679227200@tergarindonesia.com
SUMMARY:Puja 21 Tara
DESCRIPTION:Puja 21 Tara \nMinggu\, 19 Maret 2023\nJam 10:00 – 12:15 WIB \nDipimpin oleh Lama Nurbu \nTara (Tib. Jetsun Drolma) berarti ‘Yang membebaskan’\, dikenal sebagai Ibu dari semua Buddha. Merupakan manifestasi wanita dari energi pencerahan para Buddha\, Tara dikenal dengan pertolongannya yang tangkas dan kuat dari rintangan luar dan dalam. Melalui aktifitas pencerahanNya yang luas dalam menolong para makhluk\, Tara mewujud dalam 21 emanasi. Dengan mempraktikkan 21 Tara\, batin kita terkoneksi dengan batin kebijaksanaan\, kualitas tercerahkan dan aktifitas pencerahan dari Tara. \nNotes:\n– Umat dapat mengikuti Puja secara langsung di Tergar Center Jakarta\, dengan syarat: sehat dan telah mendapatkan vaksin 2x (minimal)\, atau\n– Umat yang berada di luar kota\, dapat mengikuti puja melalui Zoom\, tanpa registrasi. Teks sadhana akan ditampilkan lewat layar monitor.\nMeeting ID: 870 7922 4472\nPassword: tergar\nLink:\nhttps://us02web.zoom.us/j/87079224472?pwd=UGVCQkkweDFXczJqMnNmQ3ZGTG93Zz09 \nDibuka kesempatan berdana untuk puja mingguan:\nBCA a/n. Yayasan Tergar Indonesia\nNo. 441 3988 899\nCantumkan angka “9” di akhir nominal transfer (contoh: 50.009). \nInfo:\n0838 0692 2450 \n@TergarIndonesia
URL:https://tergarindonesia.com/event/puja-21-tara-7/
CATEGORIES:21 Tara,Puja Mingguan
ATTACH;FMTTYPE=image/jpeg:https://tergarindonesia.com/wp-content/uploads/2023/03/WhatsApp-Image-2023-03-10-at-10.40.38-e1679025052569.jpeg
END:VEVENT
BEGIN:VEVENT
DTSTART;TZID=UTC:20230312T100000
DTEND;TZID=UTC:20230312T120000
DTSTAMP:20260421T134408
CREATED:20230310T040110Z
LAST-MODIFIED:20230310T040110Z
UID:1346-1678615200-1678622400@tergarindonesia.com
SUMMARY:Puja 21 Tara
DESCRIPTION:Puja 21 Tara \nMinggu\, 12 Maret 2023\nJam 10:00 – 12:15 WIB \nDipimpin oleh Lama Nurbu \nTara (Tib. Jetsun Drolma) berarti ‘Yang membebaskan’\, dikenal sebagai Ibu dari semua Buddha. Merupakan manifestasi wanita dari energi pencerahan para Buddha\, Tara dikenal dengan pertolongannya yang tangkas dan kuat dari rintangan luar dan dalam. Melalui aktifitas pencerahanNya yang luas dalam menolong para makhluk\, Tara mewujud dalam 21 emanasi. Dengan mempraktikkan 21 Tara\, batin kita terkoneksi dengan batin kebijaksanaan\, kualitas tercerahkan dan aktifitas pencerahan dari Tara. \nNotes:\n– Umat dapat mengikuti Puja secara langsung di Tergar Center Jakarta\, dengan syarat: sehat dan telah mendapatkan vaksin 2x (minimal)\, atau\n– Umat yang berada di luar kota\, dapat mengikuti puja melalui Zoom\, tanpa registrasi. Teks sadhana akan ditampilkan lewat layar monitor.\nMeeting ID: 870 7922 4472\nPassword: tergar\nLink:\nhttps://us02web.zoom.us/j/87079224472?pwd=UGVCQkkweDFXczJqMnNmQ3ZGTG93Zz09 \nDibuka kesempatan berdana untuk puja mingguan:\nBCA a/n. Yayasan Tergar Indonesia\nNo. 441 3988 899\nCantumkan angka “9” di akhir nominal transfer (contoh: 50.009). \nInfo:\n0838 0692 2450 \n@TergarIndonesia
URL:https://tergarindonesia.com/event/puja-21-tara-6/
CATEGORIES:21 Tara,Puja Mingguan
ATTACH;FMTTYPE=image/jpeg:https://tergarindonesia.com/wp-content/uploads/2023/03/WhatsApp-Image-2023-03-10-at-10.40.32-e1678420814226.jpeg
END:VEVENT
BEGIN:VEVENT
DTSTART;TZID=UTC:20230305T100000
DTEND;TZID=UTC:20230305T123000
DTSTAMP:20260421T134408
CREATED:20230303T035919Z
LAST-MODIFIED:20230303T040003Z
UID:1323-1678010400-1678019400@tergarindonesia.com
SUMMARY:Puja 21 Tara
DESCRIPTION:Puja 21 Tara \nMinggu\, 5 Maret 2023\nJam 10:00 – 12:15 WIB \nDipimpin oleh Lama Nurbu \nTara (Tib. Jetsun Drolma) berarti ‘Yang membebaskan’\, dikenal sebagai Ibu dari semua Buddha. Merupakan manifestasi wanita dari energi pencerahan para Buddha\, Tara dikenal dengan pertolongannya yang tangkas dan kuat dari rintangan luar dan dalam. Melalui aktifitas pencerahanNya yang luas dalam menolong para makhluk\, Tara mewujud dalam 21 emanasi. Dengan mempraktikkan 21 Tara\, batin kita terkoneksi dengan batin kebijaksanaan\, kualitas tercerahkan dan aktifitas pencerahan dari Tara. \nNotes:\n– Umat dapat mengikuti Puja secara langsung di Tergar Center Jakarta\, dengan syarat: sehat dan telah mendapatkan vaksin 2x (minimal)\, atau\n– Umat yang berada di luar kota\, dapat mengikuti puja melalui Zoom\, tanpa registrasi. Teks sadhana akan ditampilkan lewat layar monitor.\nMeeting ID: 870 7922 4472\nPassword: tergar\nLink:\nhttps://us02web.zoom.us/j/87079224472?pwd=UGVCQkkweDFXczJqMnNmQ3ZGTG93Zz09 \nDibuka kesempatan berdana untuk puja mingguan:\nBCA a/n. Yayasan Tergar Indonesia\nNo. 441 3988 899\nCantumkan angka “9” di akhir nominal transfer (contoh: 50.009). \nInfo:\n0838 0692 2450 \n@TergarIndonesia
URL:https://tergarindonesia.com/event/puja-21-tara-5/
CATEGORIES:21 Tara,Puja Mingguan
ATTACH;FMTTYPE=image/jpeg:https://tergarindonesia.com/wp-content/uploads/2023/03/WhatsApp-Image-2023-03-03-at-10.54.30-e1677815945738.jpeg
END:VEVENT
BEGIN:VEVENT
DTSTART;TZID=UTC:20230219T100000
DTEND;TZID=UTC:20230219T120000
DTSTAMP:20260421T134408
CREATED:20230220T033256Z
LAST-MODIFIED:20230220T033256Z
UID:1277-1676800800-1676808000@tergarindonesia.com
SUMMARY:Puja 21 Tara
DESCRIPTION:Puja 21 Tara \nMinggu\, 19 Februari 2023\nJam 10:00 – 12:15 WIB \nDipimpin oleh Lama Nurbu \nTara (Tib. Jetsun Drolma) berarti ‘Yang membebaskan’\, dikenal sebagai Ibu dari semua Buddha. Merupakan manifestasi wanita dari energi pencerahan para Buddha\, Tara dikenal dengan pertolongannya yang tangkas dan kuat dari rintangan luar dan dalam. Melalui aktifitas pencerahanNya yang luas dalam menolong para makhluk\, Tara mewujud dalam 21 emanasi. Dengan mempraktikkan 21 Tara\, batin kita terkoneksi dengan batin kebijaksanaan\, kualitas tercerahkan dan aktifitas pencerahan dari Tara. \nNotes:\n– Umat dapat mengikuti Puja secara langsung di Tergar Center Jakarta\, dengan syarat: sehat dan telah mendapatkan vaksin 2x (minimal)\, atau\n– Umat yang berada di luar kota\, dapat mengikuti puja melalui Zoom\, tanpa registrasi. Teks sadhana akan ditampilkan lewat layar monitor.\nMeeting ID: 870 7922 4472\nPassword: tergar\nLink:\nhttps://us02web.zoom.us/j/87079224472?pwd=UGVCQkkweDFXczJqMnNmQ3ZGTG93Zz09 \nDibuka kesempatan berdana untuk puja mingguan:\nBCA a/n. Yayasan Tergar Indonesia\nNo. 441 3988 899\nCantumkan angka “9” di akhir nominal transfer (contoh: 50.009). \nInfo:\n0838 0692 2450 \n@TergarIndonesia
URL:https://tergarindonesia.com/event/puja-21-tara-4/
CATEGORIES:21 Tara,Puja Mingguan
ATTACH;FMTTYPE=image/jpeg:https://tergarindonesia.com/wp-content/uploads/2023/02/WhatsApp-Image-2023-02-18-at-09.24.24-e1676863945573.jpeg
END:VEVENT
BEGIN:VEVENT
DTSTART;TZID=UTC:20230212T100000
DTEND;TZID=UTC:20230212T120000
DTSTAMP:20260421T134408
CREATED:20230211T045152Z
LAST-MODIFIED:20230211T045152Z
UID:1249-1676196000-1676203200@tergarindonesia.com
SUMMARY:Puja 21 Tara
DESCRIPTION:Puja 21 Tara \nMinggu\, 12 Februari 2023\nJam 10:00 – 12:15 WIB \nDipimpin oleh Lama Nurbu \nTara (Tib. Jetsun Drolma) berarti ‘Yang membebaskan’\, dikenal sebagai Ibu dari semua Buddha. Merupakan manifestasi wanita dari energi pencerahan para Buddha\, Tara dikenal dengan pertolongannya yang tangkas dan kuat dari rintangan luar dan dalam. Melalui aktifitas pencerahanNya yang luas dalam menolong para makhluk\, Tara mewujud dalam 21 emanasi. Dengan mempraktikkan 21 Tara\, batin kita terkoneksi dengan batin kebijaksanaan\, kualitas tercerahkan dan aktifitas pencerahan dari Tara. \nNotes:\n– Umat dapat mengikuti Puja secara langsung di Tergar Center Jakarta\, dengan syarat: sehat dan telah mendapatkan vaksin 2x (minimal)\, atau\n– Umat yang berada di luar kota\, dapat mengikuti puja melalui Zoom\, tanpa registrasi. Teks sadhana akan ditampilkan lewat layar monitor.\nMeeting ID: 870 7922 4472\nPassword: tergar\nLink:\nhttps://us02web.zoom.us/j/87079224472?pwd=UGVCQkkweDFXczJqMnNmQ3ZGTG93Zz09 \nDibuka kesempatan berdana untuk puja mingguan:\nBCA a/n. Yayasan Tergar Indonesia\nNo. 441 3988 899\nCantumkan angka “9” di akhir nominal transfer (contoh: 50.009). \nInfo:\n0838 0692 2450 \n@TergarIndonesia
URL:https://tergarindonesia.com/event/puja-21-tara-3/
CATEGORIES:21 Tara,Puja Mingguan
ATTACH;FMTTYPE=image/jpeg:https://tergarindonesia.com/wp-content/uploads/2023/02/WhatsApp-Image-2023-02-11-at-10.57.19-e1676091082391.jpeg
END:VEVENT
BEGIN:VEVENT
DTSTART;TZID=UTC:20230205T100000
DTEND;TZID=UTC:20230205T120000
DTSTAMP:20260421T134408
CREATED:20230206T031332Z
LAST-MODIFIED:20230206T031332Z
UID:1217-1675591200-1675598400@tergarindonesia.com
SUMMARY:Puja 21 Tara
DESCRIPTION:Minggu\, 5 Februari 2023\nJam 10:00 – 12:15 WIB \nDipimpin oleh Lama Nurbu \nTara (Tib. Jetsun Drolma) berarti ‘Yang membebaskan’\, dikenal sebagai Ibu dari semua Buddha. Merupakan manifestasi wanita dari energi pencerahan para Buddha\, Tara dikenal dengan pertolongannya yang tangkas dan kuat dari rintangan luar dan dalam. Melalui aktifitas pencerahanNya yang luas dalam menolong para makhluk\, Tara mewujud dalam 21 emanasi. Dengan mempraktikkan 21 Tara\, batin kita terkoneksi dengan batin kebijaksanaan\, kualitas tercerahkan dan aktifitas pencerahan dari Tara. \nNotes:\n– Umat dapat mengikuti Puja secara langsung di Tergar Center Jakarta\, dengan syarat: sehat dan telah mendapatkan vaksin 2x (minimal)\, atau\n– Umat yang berada di luar kota\, dapat mengikuti puja melalui Zoom\, tanpa registrasi. Teks sadhana akan ditampilkan lewat layar monitor.\nMeeting ID: 870 7922 4472\nPassword: tergar\nLink:\nhttps://us02web.zoom.us/j/87079224472?pwd=UGVCQkkweDFXczJqMnNmQ3ZGTG93Zz09 \nDibuka kesempatan berdana untuk puja mingguan:\nBCA a/n. Yayasan Tergar Indonesia\nNo. 441 3988 899\nCantumkan angka “9” di akhir nominal transfer (contoh: 50.009). \nInfo:\n0838 0692 2450 \n@TergarIndonesia
URL:https://tergarindonesia.com/event/puja-21-tara-2/
CATEGORIES:21 Tara,Puja Mingguan
ATTACH;FMTTYPE=image/jpeg:https://tergarindonesia.com/wp-content/uploads/2023/02/WhatsApp-Image-2023-02-04-at-09.01.14-e1675653158484.jpeg
END:VEVENT
BEGIN:VEVENT
DTSTART;TZID=UTC:20230129T100000
DTEND;TZID=UTC:20230129T120000
DTSTAMP:20260421T134408
CREATED:20230130T033030Z
LAST-MODIFIED:20230130T033030Z
UID:1184-1674986400-1674993600@tergarindonesia.com
SUMMARY:Puja 21 Tara
DESCRIPTION:Puja 21 Tara \nMinggu\, 29 Januari 2023\nJam 10:00 – 12:15 WIB \nDipimpin oleh Lama Nurbu \nTara (Tib. Jetsun Drolma) berarti ‘Yang membebaskan’\, dikenal sebagai Ibu dari semua Buddha. Merupakan manifestasi wanita dari energi pencerahan para Buddha\, Tara dikenal dengan pertolongannya yang tangkas dan kuat dari rintangan luar dan dalam. Melalui aktifitas pencerahanNya yang luas dalam menolong para makhluk\, Tara mewujud dalam 21 emanasi. Dengan mempraktikkan 21 Tara\, batin kita terkoneksi dengan batin kebijaksanaan\, kualitas tercerahkan dan aktifitas pencerahan dari Tara. \nNotes:\n– Umat dapat menyiapkan beras di piring kecil untuk offering.\n– Umat dapat mengikuti puja melalui Zoom\, tanpa registrasi.\n– Teks sadhana akan ditampilkan lewat layar monitor.\n– Puja dilakukan via ZOOM.\nMeeting ID: 870 7922 4472\nPassword: tergar\nLink:\nhttps://us02web.zoom.us/j/87079224472?pwd=UGVCQkkweDFXczJqMnNmQ3ZGTG93Zz09 \nDibuka kesempatan berdana untuk puja mingguan:\nBCA a/n. Yayasan Tergar Indonesia\nNo. 441 3988 899\nCantumkan angka “9” di akhir nominal transfer (contoh: 50.009). \nInfo:\n0838 0692 2450 \n@TergarIndonesia
URL:https://tergarindonesia.com/event/puja-21-tara/
CATEGORIES:21 Tara,Puja Mingguan
ATTACH;FMTTYPE=image/jpeg:https://tergarindonesia.com/wp-content/uploads/2023/01/WhatsApp-Image-2023-01-28-at-09.18.00-e1675049397249.jpeg
END:VEVENT
END:VCALENDAR