BEGIN:VCALENDAR
VERSION:2.0
PRODID:-//Tergar Indonesia - ECPv6.15.20//NONSGML v1.0//EN
CALSCALE:GREGORIAN
METHOD:PUBLISH
X-ORIGINAL-URL:https://tergarindonesia.com
X-WR-CALDESC:Events for Tergar Indonesia
REFRESH-INTERVAL;VALUE=DURATION:PT1H
X-Robots-Tag:noindex
X-PUBLISHED-TTL:PT1H
BEGIN:VTIMEZONE
TZID:UTC
BEGIN:STANDARD
TZOFFSETFROM:+0000
TZOFFSETTO:+0000
TZNAME:UTC
DTSTART:20240101T000000
END:STANDARD
END:VTIMEZONE
BEGIN:VEVENT
DTSTART;TZID=UTC:20250818T193000
DTEND;TZID=UTC:20250818T203000
DTSTAMP:20260421T134448
CREATED:20250818T034047Z
LAST-MODIFIED:20250818T034047Z
UID:2642-1755545400-1755549000@tergarindonesia.com
SUMMARY:The Paradox of Time
DESCRIPTION:Seperti halnya Materi\, Waktu adalah tidak terbatas ke masa depan dan ke masa lalu\, begitu luas dan menghanyutkan dan kita tenggelam terbawa waktu (lost in time).\nTetapi sebenarnya apa itu waktu secara kebenaran relatif dan kebenaran absolutnya ? Kalo kita bisa menyadari esensi hakekat waktu maka menjadi sederhana dan dangkal\, kita tidak akan lost dan hilang dalam waktu..\nSamsara adalah bagaikan lautan\, tetapi jika kita mengenali hakekatnya maka itu hanyalah bagaikan genangan air di tapak kaki kuda. Dengan mudah kita bisa menyeberanginya menuju Kebahagiaan yang Sejati. \nDiskusi dan Latihan meditasi JOL 3. Hanya untuk Alumni JOL 3. \nSenin\, 18 Agustus 2025\, 19:30-20:30 WIB\nDipandu oleh Mustafa (Host) dan Arief (Co-host). \nPendaftaran : 0838 0692 2450 (WA)\n.\nOrganized by: @tergarindonesia
URL:https://tergarindonesia.com/event/the-paradox-of-time/
CATEGORIES:Latihan Meditasi Bersama,Latihan Meditasi JOL 3
ATTACH;FMTTYPE=image/jpeg:https://tergarindonesia.com/wp-content/uploads/2025/08/WhatsApp-Image-2025-08-18-at-09.17.12-e1755488407251.jpeg
END:VEVENT
END:VCALENDAR