BEGIN:VCALENDAR
VERSION:2.0
PRODID:-//Tergar Indonesia - ECPv6.15.20//NONSGML v1.0//EN
CALSCALE:GREGORIAN
METHOD:PUBLISH
X-ORIGINAL-URL:https://tergarindonesia.com
X-WR-CALDESC:Events for Tergar Indonesia
REFRESH-INTERVAL;VALUE=DURATION:PT1H
X-Robots-Tag:noindex
X-PUBLISHED-TTL:PT1H
BEGIN:VTIMEZONE
TZID:UTC
BEGIN:STANDARD
TZOFFSETFROM:+0000
TZOFFSETTO:+0000
TZNAME:UTC
DTSTART:20240101T000000
END:STANDARD
END:VTIMEZONE
BEGIN:VEVENT
DTSTART;TZID=UTC:20250217T193000
DTEND;TZID=UTC:20250217T203000
DTSTAMP:20260421T222950
CREATED:20250217T043613Z
LAST-MODIFIED:20250217T043613Z
UID:2501-1739820600-1739824200@tergarindonesia.com
SUMMARY:Karma : Wisdom of interdependent
DESCRIPTION:Diskusi dan Latihan meditasi JOL 3. Hanya untuk Alumni JOL 3. \nSenin\, 17 Februari 2025\, 19:30-20:30 WIB\nDipandu oleh Mustafa (Host) dan Eripin (Co-host). \nPendaftaran : 0838 0692 2450 (WA) \nOrganized by: @tergarindonesia
URL:https://tergarindonesia.com/event/karma-wisdom-of-interdependent/
CATEGORIES:Latihan Meditasi JOL 3
ATTACH;FMTTYPE=image/jpeg:https://tergarindonesia.com/wp-content/uploads/2025/02/WhatsApp-Image-2025-02-16-at-21.24.41-e1739766952841.jpeg
END:VEVENT
END:VCALENDAR