BEGIN:VCALENDAR
VERSION:2.0
PRODID:-//Tergar Indonesia - ECPv6.15.20//NONSGML v1.0//EN
CALSCALE:GREGORIAN
METHOD:PUBLISH
X-WR-CALNAME:Tergar Indonesia
X-ORIGINAL-URL:https://tergarindonesia.com
X-WR-CALDESC:Events for Tergar Indonesia
REFRESH-INTERVAL;VALUE=DURATION:PT1H
X-Robots-Tag:noindex
X-PUBLISHED-TTL:PT1H
BEGIN:VTIMEZONE
TZID:UTC
BEGIN:STANDARD
TZOFFSETFROM:+0000
TZOFFSETTO:+0000
TZNAME:UTC
DTSTART:20230101T000000
END:STANDARD
END:VTIMEZONE
BEGIN:VEVENT
DTSTART;TZID=UTC:20240812T193000
DTEND;TZID=UTC:20240812T203000
DTSTAMP:20260422T070541
CREATED:20240812T035322Z
LAST-MODIFIED:20240812T035322Z
UID:2353-1723491000-1723494600@tergarindonesia.com
SUMMARY:Freedom of Mind
DESCRIPTION:Diskusi dan Latihan meditasi JOL 3. Hanya untuk Alumni JOL 3. \nSenin\, 12 Agustus 2024\, 19:30-20:30 WIB\nDipandu oleh Mustafa (Host) dan Clay (Co-host). \nPendaftaran : 0838 0692 2450 (WA) \nOrganized by: @tergarindonesia
URL:https://tergarindonesia.com/event/freedom-of-mind/
CATEGORIES:Latihan Meditasi Bersama,Latihan Meditasi JOL 3
ATTACH;FMTTYPE=image/jpeg:https://tergarindonesia.com/wp-content/uploads/2024/08/WhatsApp-Image-2024-08-12-at-09.35.16-e1723434771216.jpeg
END:VEVENT
END:VCALENDAR