BEGIN:VCALENDAR
VERSION:2.0
PRODID:-//Tergar Indonesia - ECPv6.15.20//NONSGML v1.0//EN
CALSCALE:GREGORIAN
METHOD:PUBLISH
X-WR-CALNAME:Tergar Indonesia
X-ORIGINAL-URL:https://tergarindonesia.com
X-WR-CALDESC:Events for Tergar Indonesia
REFRESH-INTERVAL;VALUE=DURATION:PT1H
X-Robots-Tag:noindex
X-PUBLISHED-TTL:PT1H
BEGIN:VTIMEZONE
TZID:UTC
BEGIN:STANDARD
TZOFFSETFROM:+0000
TZOFFSETTO:+0000
TZNAME:UTC
DTSTART:20230101T000000
END:STANDARD
END:VTIMEZONE
BEGIN:VEVENT
DTSTART;TZID=UTC:20240529T190000
DTEND;TZID=UTC:20240529T200000
DTSTAMP:20260422T112138
CREATED:20240529T032008Z
LAST-MODIFIED:20240529T032008Z
UID:2277-1717009200-1717012800@tergarindonesia.com
SUMMARY:Then...Who Are You?
DESCRIPTION:Diskusi dan Latihan meditasi khusus alumni JOL 3. \nRabu\, 29 Mei 2024\, 19:00-20:00 WIB\nDipandu oleh Brian (Host) dan Arief (Co-host). \nInfo :\n– Pendaftaran : 0838 0692 2450 (WA)\n– Website : http://www.tergarindonesia.com/events/\n– Organized by @tergarindonesia
URL:https://tergarindonesia.com/event/then-who-are-you/
CATEGORIES:Latihan Meditasi Bersama,Latihan Meditasi JOL 3
ATTACH;FMTTYPE=image/jpeg:https://tergarindonesia.com/wp-content/uploads/2024/05/WhatsApp-Image-2024-05-28-at-20.05.31-e1716952778792.jpeg
END:VEVENT
END:VCALENDAR