BEGIN:VCALENDAR
VERSION:2.0
PRODID:-//Tergar Indonesia - ECPv6.15.20//NONSGML v1.0//EN
CALSCALE:GREGORIAN
METHOD:PUBLISH
X-ORIGINAL-URL:https://tergarindonesia.com
X-WR-CALDESC:Events for Tergar Indonesia
REFRESH-INTERVAL;VALUE=DURATION:PT1H
X-Robots-Tag:noindex
X-PUBLISHED-TTL:PT1H
BEGIN:VTIMEZONE
TZID:UTC
BEGIN:STANDARD
TZOFFSETFROM:+0000
TZOFFSETTO:+0000
TZNAME:UTC
DTSTART:20230101T000000
END:STANDARD
END:VTIMEZONE
BEGIN:VEVENT
DTSTART;TZID=UTC:20240110T190000
DTEND;TZID=UTC:20240110T200000
DTSTAMP:20260424T140443
CREATED:20240108T040016Z
LAST-MODIFIED:20240108T040016Z
UID:2083-1704913200-1704916800@tergarindonesia.com
SUMMARY:Who Am I
DESCRIPTION:Diskusi dan Latihan meditasi JOL 3. Hanya untuk alumni JOL 3. \nRabu\, 10 Jan 2024\, 19:00-20:00 WIB\nDipandu oleh Elvi (Host) dan Eripin (Co-host). \nRegistrasi: 0838 0692 2450 (WA) \nOrganized by: @tergarindonesia
URL:https://tergarindonesia.com/event/who-am-i/
CATEGORIES:Latihan Meditasi Bersama,Latihan Meditasi JOL 3
ATTACH;FMTTYPE=image/jpeg:https://tergarindonesia.com/wp-content/uploads/2024/01/WhatsApp-Image-2024-01-07-at-16.46.03-e1704686390610.jpeg
END:VEVENT
END:VCALENDAR