BEGIN:VCALENDAR
VERSION:2.0
PRODID:-//Tergar Indonesia - ECPv6.15.20//NONSGML v1.0//EN
CALSCALE:GREGORIAN
METHOD:PUBLISH
X-WR-CALNAME:Tergar Indonesia
X-ORIGINAL-URL:https://tergarindonesia.com
X-WR-CALDESC:Events for Tergar Indonesia
REFRESH-INTERVAL;VALUE=DURATION:PT1H
X-Robots-Tag:noindex
X-PUBLISHED-TTL:PT1H
BEGIN:VTIMEZONE
TZID:UTC
BEGIN:STANDARD
TZOFFSETFROM:+0000
TZOFFSETTO:+0000
TZNAME:UTC
DTSTART:20220101T000000
END:STANDARD
END:VTIMEZONE
BEGIN:VEVENT
DTSTART;TZID=UTC:20231108T190000
DTEND;TZID=UTC:20231108T200000
DTSTAMP:20260424T165512
CREATED:20231108T030119Z
LAST-MODIFIED:20231108T030119Z
UID:1983-1699470000-1699473600@tergarindonesia.com
SUMMARY:Self-Created Suffering
DESCRIPTION:Ketidak-puasan \, Ketidak-nyamanan dan Penderitaan yang kita alami sebagian besar kita sendiri yang membuatnya. Tetapi ketika kita melihat lebih dalam lagi dan mulai mengenali “Kebaikan mendasar” kita (Basic Innate Goodness)\, perlahan kita dapat mencerabut akar masalah dan penderitaan.\nSeperti Mingyur Rinpoche katakan : transform poison into medicine \, problem into solution. \nMari kita berdiskusi & berlatih meditasi bersama. \nRabu\, 8 November 2023\, 19:00-20:00 WIB. Dipandu oleh Brian dan Supriyanto \nVia ZOOM meeting\nRegistrasi :\n0838 0692 2450\n@tergarindonesia
URL:https://tergarindonesia.com/event/self-created-suffering/
CATEGORIES:Latihan Meditasi Bersama,Latihan Meditasi JOL 3
ATTACH;FMTTYPE=image/jpeg:https://tergarindonesia.com/wp-content/uploads/2023/11/WhatsApp-Image-2023-11-08-at-08.39.21-e1699412452138.jpeg
END:VEVENT
END:VCALENDAR