BEGIN:VCALENDAR
VERSION:2.0
PRODID:-//Tergar Indonesia - ECPv6.15.20//NONSGML v1.0//EN
CALSCALE:GREGORIAN
METHOD:PUBLISH
X-ORIGINAL-URL:https://tergarindonesia.com
X-WR-CALDESC:Events for Tergar Indonesia
REFRESH-INTERVAL;VALUE=DURATION:PT1H
X-Robots-Tag:noindex
X-PUBLISHED-TTL:PT1H
BEGIN:VTIMEZONE
TZID:UTC
BEGIN:STANDARD
TZOFFSETFROM:+0000
TZOFFSETTO:+0000
TZNAME:UTC
DTSTART:20220101T000000
END:STANDARD
END:VTIMEZONE
BEGIN:VEVENT
DTSTART;TZID=UTC:20230329T190000
DTEND;TZID=UTC:20230329T200000
DTSTAMP:20260425T040455
CREATED:20230328T025858Z
LAST-MODIFIED:20230328T025858Z
UID:1422-1680116400-1680120000@tergarindonesia.com
SUMMARY:Great Things Inside
DESCRIPTION:Latihan meditasi bersama JOL 3 online. Hanya untuk alumni JOL 3\nRabu\, 29 Maret 2023\, 19:00-20:00 WIB\nDipandu oleh Rudy (Host) dan Norlela (Co-host). \nRegistrasi: 0838 0692 2450 (WA) \nOrganized by: @tergarindonesia
URL:https://tergarindonesia.com/event/great-things-inside/
CATEGORIES:Latihan Meditasi Bersama,Latihan Meditasi JOL 3
ATTACH;FMTTYPE=image/jpeg:https://tergarindonesia.com/wp-content/uploads/2023/03/WhatsApp-Image-2023-03-28-at-09.40.45-e1679972302177.jpeg
END:VEVENT
END:VCALENDAR