BEGIN:VCALENDAR
VERSION:2.0
PRODID:-//Tergar Indonesia - ECPv6.15.20//NONSGML v1.0//EN
CALSCALE:GREGORIAN
METHOD:PUBLISH
X-WR-CALNAME:Tergar Indonesia
X-ORIGINAL-URL:https://tergarindonesia.com
X-WR-CALDESC:Events for Tergar Indonesia
REFRESH-INTERVAL;VALUE=DURATION:PT1H
X-Robots-Tag:noindex
X-PUBLISHED-TTL:PT1H
BEGIN:VTIMEZONE
TZID:UTC
BEGIN:STANDARD
TZOFFSETFROM:+0000
TZOFFSETTO:+0000
TZNAME:UTC
DTSTART:20240101T000000
END:STANDARD
END:VTIMEZONE
BEGIN:VEVENT
DTSTART;TZID=UTC:20250804T193000
DTEND;TZID=UTC:20250804T203000
DTSTAMP:20260421T132605
CREATED:20250804T034407Z
LAST-MODIFIED:20250804T034407Z
UID:2632-1754335800-1754339400@tergarindonesia.com
SUMMARY:Dari Kesadaran\, Tumbuh Cinta
DESCRIPTION:Diskusi dan Latihan meditasi JOL 2. Hanya untuk Alumni JOL 2. \nKadang sulit mencintai orang yang menyakiti kita. Tapi saat batin jernih\, cinta kasih bisa tumbuh tanpa dipaksa. Yuk\, berlatih menumbuhkan cinta dari dalam diri. \nDalam latihan ini\, kita belajar menghadirkan cinta yang tulus\, dimulai dari diri sendiri\, lalu mengalir ke orang lain. \nMari berlatih meditasi JOL 2 bersama:\nSenin\, 04 Agt 2025\, 19:30-20:30 WIB\nDipandu oleh Hemmarata (Host) dan Anto (Co-host) \nPendaftaran : 0838 0692 2450 (WA) \nOrganized by: @tergarindonesia
URL:https://tergarindonesia.com/event/dari-kesadaran-tumbuh-cinta/
CATEGORIES:Latihan Meditasi Bersama,Latihan Meditasi JOL 2
ATTACH;FMTTYPE=image/jpeg:https://tergarindonesia.com/wp-content/uploads/2025/08/WhatsApp-Image-2025-08-04-at-09.10.45-e1754279014491.jpeg
END:VEVENT
END:VCALENDAR