BEGIN:VCALENDAR
VERSION:2.0
PRODID:-//Tergar Indonesia - ECPv6.15.20//NONSGML v1.0//EN
CALSCALE:GREGORIAN
METHOD:PUBLISH
X-ORIGINAL-URL:https://tergarindonesia.com
X-WR-CALDESC:Events for Tergar Indonesia
REFRESH-INTERVAL;VALUE=DURATION:PT1H
X-Robots-Tag:noindex
X-PUBLISHED-TTL:PT1H
BEGIN:VTIMEZONE
TZID:UTC
BEGIN:STANDARD
TZOFFSETFROM:+0000
TZOFFSETTO:+0000
TZNAME:UTC
DTSTART:20240101T000000
END:STANDARD
END:VTIMEZONE
BEGIN:VEVENT
DTSTART;TZID=UTC:20250721T193000
DTEND;TZID=UTC:20250721T203000
DTSTAMP:20260421T145251
CREATED:20250721T025720Z
LAST-MODIFIED:20250721T025720Z
UID:2618-1753126200-1753129800@tergarindonesia.com
SUMMARY:Discontent as a Doorway
DESCRIPTION:Diskusi dan Latihan meditasi JOL 2. Hanya untuk Alumni JOL 2. \nDalam keseharian\, kita sering merasa kecewa—karena suasana tidak sesuai harapan\, karena orang lain tak bertindak seperti yang kita inginkan\, atau karena muncul hal-hal yang tak kita harapkan. \nKetidakpuasan ini tampak sepele\, tapi bila diperhatikan lebih dalam\, ia bisa menjadi pintu masuk untuk mengenal kualitas sejati dari batin kita: kewelasasihan. \nBukan dengan menghindari ketidaknyamanan\, tapi dengan menyadari dan menyelami lapisan terdalam dari rasa tak puas itu\, kita bisa menemukan kebijaksanaan\, penerimaan\, dan kelembutan hati. \nMari berlatih meditasi JOL 2 bersama:\nSenin\, 21 Juli 2025\, 19:30-20:30 WIB\nDipandu oleh Hemmarata (Host) dan Arief (Co-host) \nPendaftaran : 0838 0692 2450 (WA)\nOrganized by: @tergarindonesia
URL:https://tergarindonesia.com/event/discontent-as-a-doorway/
CATEGORIES:Latihan Meditasi Bersama,Latihan Meditasi JOL 2
ATTACH;FMTTYPE=image/jpeg:https://tergarindonesia.com/wp-content/uploads/2025/07/WhatsApp-Image-2025-07-21-at-09.12.22-e1753066597909.jpeg
END:VEVENT
END:VCALENDAR