BEGIN:VCALENDAR
VERSION:2.0
PRODID:-//Tergar Indonesia - ECPv6.15.20//NONSGML v1.0//EN
CALSCALE:GREGORIAN
METHOD:PUBLISH
X-ORIGINAL-URL:https://tergarindonesia.com
X-WR-CALDESC:Events for Tergar Indonesia
REFRESH-INTERVAL;VALUE=DURATION:PT1H
X-Robots-Tag:noindex
X-PUBLISHED-TTL:PT1H
BEGIN:VTIMEZONE
TZID:UTC
BEGIN:STANDARD
TZOFFSETFROM:+0000
TZOFFSETTO:+0000
TZNAME:UTC
DTSTART:20240101T000000
END:STANDARD
END:VTIMEZONE
BEGIN:VEVENT
DTSTART;TZID=UTC:20250428T193000
DTEND;TZID=UTC:20250428T203000
DTSTAMP:20260421T190351
CREATED:20250428T104235Z
LAST-MODIFIED:20250428T104235Z
UID:2555-1745868600-1745872200@tergarindonesia.com
SUMMARY:Healthier Relationship With Ourselves
DESCRIPTION:Diskusi dan Latihan meditasi JOL 2. Hanya untuk Alumni JOL 2. \nSenin\, 28 April 2025\, 19:30-20:30 WIB\nDipandu oleh Susi (Host) dan Arief (Co-host) \nPendaftaran : 0838 0692 2450 (WA) \nOrganized by: @tergarindonesia
URL:https://tergarindonesia.com/event/healthier-relationship-with-ourselves/
CATEGORIES:Latihan Meditasi Bersama,Latihan Meditasi JOL 2
ATTACH;FMTTYPE=image/jpeg:https://tergarindonesia.com/wp-content/uploads/2025/04/WhatsApp-Image-2025-04-27-at-18.13.07-e1745836924855.jpeg
END:VEVENT
END:VCALENDAR