BEGIN:VCALENDAR
VERSION:2.0
PRODID:-//Tergar Indonesia - ECPv6.15.20//NONSGML v1.0//EN
CALSCALE:GREGORIAN
METHOD:PUBLISH
X-ORIGINAL-URL:https://tergarindonesia.com
X-WR-CALDESC:Events for Tergar Indonesia
REFRESH-INTERVAL;VALUE=DURATION:PT1H
X-Robots-Tag:noindex
X-PUBLISHED-TTL:PT1H
BEGIN:VTIMEZONE
TZID:UTC
BEGIN:STANDARD
TZOFFSETFROM:+0000
TZOFFSETTO:+0000
TZNAME:UTC
DTSTART:20230101T000000
END:STANDARD
END:VTIMEZONE
BEGIN:VEVENT
DTSTART;TZID=UTC:20241021T193000
DTEND;TZID=UTC:20241021T210000
DTSTAMP:20260422T033628
CREATED:20241021T034621Z
LAST-MODIFIED:20241021T034621Z
UID:2430-1729539000-1729544400@tergarindonesia.com
SUMMARY:Immeasurable Equanimity
DESCRIPTION:Diskusi dan Latihan meditasi JOL 2. Hanya untuk Alumni JOL 2. \nSenin\, 21 Okt 2024\, 19:30-20:30 WIB\nDipandu oleh Elvi (Host) dan Alit (Co-host). \nPendaftaran : 0838 0692 2450 (WA) \nOrganized by: @tergarindonesia
URL:https://tergarindonesia.com/event/immeasurable-equanimity/
CATEGORIES:Latihan Meditasi Bersama,Latihan Meditasi JOL 2
ATTACH;FMTTYPE=image/jpeg:https://tergarindonesia.com/wp-content/uploads/2024/10/WhatsApp-Image-2024-10-20-at-16.08.40-e1729482352224.jpeg
END:VEVENT
END:VCALENDAR