BEGIN:VCALENDAR
VERSION:2.0
PRODID:-//Tergar Indonesia - ECPv6.15.20//NONSGML v1.0//EN
CALSCALE:GREGORIAN
METHOD:PUBLISH
X-WR-CALNAME:Tergar Indonesia
X-ORIGINAL-URL:https://tergarindonesia.com
X-WR-CALDESC:Events for Tergar Indonesia
REFRESH-INTERVAL;VALUE=DURATION:PT1H
X-Robots-Tag:noindex
X-PUBLISHED-TTL:PT1H
BEGIN:VTIMEZONE
TZID:UTC
BEGIN:STANDARD
TZOFFSETFROM:+0000
TZOFFSETTO:+0000
TZNAME:UTC
DTSTART:20230101T000000
END:STANDARD
END:VTIMEZONE
BEGIN:VEVENT
DTSTART;TZID=UTC:20240417T190000
DTEND;TZID=UTC:20240417T200000
DTSTAMP:20260422T122518
CREATED:20240417T033011Z
LAST-MODIFIED:20240417T033011Z
UID:2245-1713380400-1713384000@tergarindonesia.com
SUMMARY:A Wealth of Good Qualities
DESCRIPTION:Diskusi dan Latihan meditasi JOL 2. Hanya untuk Alumni JOL 2. \nRabu\, 17 April 2024\, 19:00-20:00 WIB\nDipandu oleh Anthony (Host) dan Gunawan (Co-host). \nPendaftaran : 0838 0692 2450 (WA) \nOrganized by: @tergarindonesia
URL:https://tergarindonesia.com/event/a-wealth-of-good-qualities/
CATEGORIES:Latihan Meditasi Bersama,Latihan Meditasi JOL 2
ATTACH;FMTTYPE=image/jpeg:https://tergarindonesia.com/wp-content/uploads/2024/04/WhatsApp-Image-2024-04-17-at-10.25.58-e1713324570567.jpeg
END:VEVENT
END:VCALENDAR