BEGIN:VCALENDAR
VERSION:2.0
PRODID:-//Tergar Indonesia - ECPv6.15.20//NONSGML v1.0//EN
CALSCALE:GREGORIAN
METHOD:PUBLISH
X-ORIGINAL-URL:https://tergarindonesia.com
X-WR-CALDESC:Events for Tergar Indonesia
REFRESH-INTERVAL;VALUE=DURATION:PT1H
X-Robots-Tag:noindex
X-PUBLISHED-TTL:PT1H
BEGIN:VTIMEZONE
TZID:UTC
BEGIN:STANDARD
TZOFFSETFROM:+0000
TZOFFSETTO:+0000
TZNAME:UTC
DTSTART:20220101T000000
END:STANDARD
END:VTIMEZONE
BEGIN:VEVENT
DTSTART;TZID=UTC:20230927T190000
DTEND;TZID=UTC:20230927T200000
DTSTAMP:20260422T235014
CREATED:20230927T022706Z
LAST-MODIFIED:20230927T022706Z
UID:1893-1695841200-1695844800@tergarindonesia.com
SUMMARY:The Great Treasure
DESCRIPTION:Latihan meditasi bersama. Hanya untuk Alumni JOL 2 \nRabu\, 25 Sept 2023\, 19:00-20:00 WIB\nDipandu oleh Anthony (Host) dan Gunawan (Co-host).\nRegistrasi: 0838 0692 2450 (WA) \nOrganized by Komunitas Meditasi @tergarindonesia
URL:https://tergarindonesia.com/event/the-great-treasure/
CATEGORIES:Latihan Meditasi Bersama,Latihan Meditasi JOL 2
ATTACH;FMTTYPE=image/jpeg:https://tergarindonesia.com/wp-content/uploads/2023/09/WhatsApp-Image-2023-09-26-at-23.22.15-e1695781595236.jpeg
END:VEVENT
END:VCALENDAR