BEGIN:VCALENDAR
VERSION:2.0
PRODID:-//Tergar Indonesia - ECPv6.15.20//NONSGML v1.0//EN
CALSCALE:GREGORIAN
METHOD:PUBLISH
X-ORIGINAL-URL:https://tergarindonesia.com
X-WR-CALDESC:Events for Tergar Indonesia
REFRESH-INTERVAL;VALUE=DURATION:PT1H
X-Robots-Tag:noindex
X-PUBLISHED-TTL:PT1H
BEGIN:VTIMEZONE
TZID:UTC
BEGIN:STANDARD
TZOFFSETFROM:+0000
TZOFFSETTO:+0000
TZNAME:UTC
DTSTART:20220101T000000
END:STANDARD
END:VTIMEZONE
BEGIN:VEVENT
DTSTART;TZID=UTC:20230215T190000
DTEND;TZID=UTC:20230215T200000
DTSTAMP:20260423T104849
CREATED:20230215T021918Z
LAST-MODIFIED:20230215T021918Z
UID:1269-1676487600-1676491200@tergarindonesia.com
SUMMARY:Cultivating Loving-kindness
DESCRIPTION:Latihan meditasi bersama JOL 2 Online. Hanya untuk alumni JOL 2.\nRabu\, 15 Feb 2023\, 19:00-20:00 WIB\nDipandu oleh Fery (Host) dan Norlela (Co-host). \nRegistrasi: 0838 0692 2450 (WA) \nOrganized by: @tergarindonesia
URL:https://tergarindonesia.com/event/cultivating-loving-kindness/
CATEGORIES:Latihan Meditasi Bersama,Latihan Meditasi JOL 2
ATTACH;FMTTYPE=image/jpeg:https://tergarindonesia.com/wp-content/uploads/2023/02/WhatsApp-Image-2023-02-15-at-07.42.20-e1676427533327.jpeg
END:VEVENT
END:VCALENDAR