BEGIN:VCALENDAR
VERSION:2.0
PRODID:-//Tergar Indonesia - ECPv6.15.20//NONSGML v1.0//EN
CALSCALE:GREGORIAN
METHOD:PUBLISH
X-ORIGINAL-URL:https://tergarindonesia.com
X-WR-CALDESC:Events for Tergar Indonesia
REFRESH-INTERVAL;VALUE=DURATION:PT1H
X-Robots-Tag:noindex
X-PUBLISHED-TTL:PT1H
BEGIN:VTIMEZONE
TZID:UTC
BEGIN:STANDARD
TZOFFSETFROM:+0000
TZOFFSETTO:+0000
TZNAME:UTC
DTSTART:20220101T000000
END:STANDARD
END:VTIMEZONE
BEGIN:VEVENT
DTSTART;TZID=UTC:20230118T190000
DTEND;TZID=UTC:20230118T200000
DTSTAMP:20260423T123152
CREATED:20230118T031412Z
LAST-MODIFIED:20230118T031441Z
UID:1149-1674068400-1674072000@tergarindonesia.com
SUMMARY:The Butterfly Effect
DESCRIPTION:Latihan meditasi bersama JOL 2. Hanya untuk alumni JOL 2\nRabu\, 18 Januari 2023\, 19:00-20:00 WIB\nDipandu oleh Mustafa (Host) dan Susi (Co-host). \nRegistrasi: 0838 0692 2450 (WA) \nOrganized by: @tergarindonesia
URL:https://tergarindonesia.com/event/the-butterfly-effect/
CATEGORIES:Latihan Meditasi Bersama,Latihan Meditasi JOL 2
ATTACH;FMTTYPE=image/jpeg:https://tergarindonesia.com/wp-content/uploads/2023/01/WhatsApp-Image-2023-01-18-at-09.36.13-e1674011613352.jpeg
END:VEVENT
END:VCALENDAR