BEGIN:VCALENDAR
VERSION:2.0
PRODID:-//Tergar Indonesia - ECPv6.15.20//NONSGML v1.0//EN
CALSCALE:GREGORIAN
METHOD:PUBLISH
X-ORIGINAL-URL:https://tergarindonesia.com
X-WR-CALDESC:Events for Tergar Indonesia
REFRESH-INTERVAL;VALUE=DURATION:PT1H
X-Robots-Tag:noindex
X-PUBLISHED-TTL:PT1H
BEGIN:VTIMEZONE
TZID:UTC
BEGIN:STANDARD
TZOFFSETFROM:+0000
TZOFFSETTO:+0000
TZNAME:UTC
DTSTART:20210101T000000
END:STANDARD
END:VTIMEZONE
BEGIN:VEVENT
DTSTART;TZID=UTC:20221221T190000
DTEND;TZID=UTC:20221221T200000
DTSTAMP:20260423T143338
CREATED:20221220T100923Z
LAST-MODIFIED:20221220T100923Z
UID:1038-1671649200-1671652800@tergarindonesia.com
SUMMARY:Our True Home
DESCRIPTION:Latihan meditasi dan diskusi bersama. Hanya untuk Alumni JOL 2 \nRabu\, 21 Desember 2022\, 19:00-20:00 WIB\nDipandu oleh Mustafa (Host) dan Arief (Co-host).\nRegistrasi: 0838 0692 2450 (WA) \nOrganized by Komunitas Meditasi @tergarindonesia
URL:https://tergarindonesia.com/event/our-true-home/
CATEGORIES:Latihan Meditasi Bersama,Latihan Meditasi JOL 2
ATTACH;FMTTYPE=image/jpeg:https://tergarindonesia.com/wp-content/uploads/2022/12/WhatsApp-Image-2022-12-20-at-09.57.45-e1671530937233.jpeg
END:VEVENT
END:VCALENDAR