BEGIN:VCALENDAR
VERSION:2.0
PRODID:-//Tergar Indonesia - ECPv6.15.20//NONSGML v1.0//EN
CALSCALE:GREGORIAN
METHOD:PUBLISH
X-WR-CALNAME:Tergar Indonesia
X-ORIGINAL-URL:https://tergarindonesia.com
X-WR-CALDESC:Events for Tergar Indonesia
REFRESH-INTERVAL;VALUE=DURATION:PT1H
X-Robots-Tag:noindex
X-PUBLISHED-TTL:PT1H
BEGIN:VTIMEZONE
TZID:UTC
BEGIN:STANDARD
TZOFFSETFROM:+0000
TZOFFSETTO:+0000
TZNAME:UTC
DTSTART:20210101T000000
END:STANDARD
END:VTIMEZONE
BEGIN:VEVENT
DTSTART;TZID=UTC:20220912T193000
DTEND;TZID=UTC:20220912T203000
DTSTAMP:20260421T132836
CREATED:20220912T030052Z
LAST-MODIFIED:20220912T030052Z
UID:583-1663011000-1663014600@tergarindonesia.com
SUMMARY:Turning Negative Emotions As Friends
DESCRIPTION:Latihan meditasi bersama dan diskusi. Hanya untuk alumni Alumni JOL 1 \nSenin\, 12 September 2022\, 19:30-20:30 WIB\nDipandu oleh Elvi (Host) dan Arief (Co-host).\nRegistrasi: 0838 0692 2450 (WA) \nOrganized by Komunitas Meditasi @tergarindonesia
URL:https://tergarindonesia.com/event/turning-negative-emotions-as-friends/
CATEGORIES:Latihan Meditasi Bersama,Pendalaman JOL 1
ATTACH;FMTTYPE=image/jpeg:https://tergarindonesia.com/wp-content/uploads/2022/09/WhatsApp-Image-2022-09-11-at-15.33.25-e1662951632251.jpeg
END:VEVENT
BEGIN:VEVENT
DTSTART;TZID=UTC:20220829T193000
DTEND;TZID=UTC:20220829T203000
DTSTAMP:20260421T132836
CREATED:20220829T033331Z
LAST-MODIFIED:20220829T033331Z
UID:536-1661801400-1661805000@tergarindonesia.com
SUMMARY:Choice of Freedom
DESCRIPTION:Choice of Freedom \nLatihan meditasi bersama dan diskusi. Hanya untuk alumni Alumni JOL 1 \nSenin\, 29 Agustus 2022\, 19:30-20:30 WIB\nDipandu oleh Anto (Host) dan Arief (Co-host). \nRegistrasi: 0838 0692 2450 (WA) \nOrganized by: @tergarindonesia
URL:https://tergarindonesia.com/event/choice-of-freedom/
CATEGORIES:Latihan Meditasi Bersama,Pendalaman JOL 1
ATTACH;FMTTYPE=image/jpeg:https://tergarindonesia.com/wp-content/uploads/2022/08/WhatsApp-Image-2022-08-28-at-18.26.01-e1661743987313.jpeg
END:VEVENT
BEGIN:VEVENT
DTSTART;TZID=UTC:20220822T193000
DTEND;TZID=UTC:20220822T203000
DTSTAMP:20260421T132836
CREATED:20220822T032326Z
LAST-MODIFIED:20220822T032326Z
UID:504-1661196600-1661200200@tergarindonesia.com
SUMMARY:Turning Boring Routine into Clarity
DESCRIPTION:Turning Boring Routine into Clarity \nAda 2 jenis rasa bosan : dengan pekerjaan dan tanpa pekerjaan\, dan bagaimana meditasi mengubah rasa bosan dan ngantuk menjadi pengalaman kejernihan dan bebas dari kebingungan. kita juga akan mempraktekkan meditasi tidur dalam sesi ini \nLatihan meditasi bersama dan diskusi. Hanya untuk alumni Alumni JOL 1 \nSenin\, 22 Agustus 2022\, 19:30-20:30 WIB\nDipandu oleh Mustapa (Host) dan Elvi (Co-host). \nRegistrasi: 0838 0692 2450 (WA) \nOrganized by: @tergarindonesia
URL:https://tergarindonesia.com/event/turning-boring-routine-into-clarity/
CATEGORIES:Latihan Meditasi Bersama,Pendalaman JOL 1
ATTACH;FMTTYPE=image/jpeg:https://tergarindonesia.com/wp-content/uploads/2022/08/WhatsApp-Image-2022-08-22-at-09.02.17-e1661138587454.jpeg
END:VEVENT
BEGIN:VEVENT
DTSTART;TZID=UTC:20220815T193000
DTEND;TZID=UTC:20220815T203000
DTSTAMP:20260421T132836
CREATED:20220815T024823Z
LAST-MODIFIED:20220815T024823Z
UID:485-1660591800-1660595400@tergarindonesia.com
SUMMARY:Fear of Uncertainty Part 2
DESCRIPTION:Fear of Uncertainty Part 2 \nMengenali kesadaran mengizinkan kita untuk mengarungi gelombang kehidupan. Berlatih tahap demi tahap sehingga kita dapat dengan mudah menerima naik turunnya gelombang kehidupan \nLatihan meditasi bersama dan diskusi. Hanya untuk alumni Alumni JOL 1 \nSenin\, 15 Agustus 2022\, 19:30-20:30 WIB\nDipandu oleh Ray (Host) dan Gunawan (Co-host). \nRegistrasi: 0838 0692 2450 (WA) \nOrganized by: @tergarindonesia
URL:https://tergarindonesia.com/event/fear-of-uncertainty-part-2/
CATEGORIES:Latihan Meditasi Bersama,Pendalaman JOL 1
ATTACH;FMTTYPE=image/jpeg:https://tergarindonesia.com/wp-content/uploads/2022/08/WhatsApp-Image-2022-08-14-at-21.38.18-e1660531689730.jpeg
END:VEVENT
BEGIN:VEVENT
DTSTART;TZID=UTC:20220808T193000
DTEND;TZID=UTC:20220808T203000
DTSTAMP:20260421T132836
CREATED:20220808T095002Z
LAST-MODIFIED:20220808T095002Z
UID:459-1659987000-1659990600@tergarindonesia.com
SUMMARY:Smile at Fear
DESCRIPTION:Smile at Fear \nLatihan meditasi bersama dan diskusi. Hanya untuk alumni Alumni JOL 1 \nSenin\, 8 Agustus 2022\, 19:30-20:30 WIB\nDipandu oleh Elvi (Host) dan Clay (Co-host). \nRegistrasi: 0838 0692 2450 (WA) \nOrganized by: @tergarindonesia
URL:https://tergarindonesia.com/event/smile-at-fear/
CATEGORIES:Latihan Meditasi Bersama,Pendalaman JOL 1
ATTACH;FMTTYPE=image/jpeg:https://tergarindonesia.com/wp-content/uploads/2022/08/WhatsApp-Image-2022-08-08-at-13.18.41-e1659952080705.jpeg
END:VEVENT
BEGIN:VEVENT
DTSTART;TZID=UTC:20220801T193000
DTEND;TZID=UTC:20220801T203000
DTSTAMP:20260421T132836
CREATED:20220801T034937Z
LAST-MODIFIED:20220801T034937Z
UID:422-1659382200-1659385800@tergarindonesia.com
SUMMARY:Fear of Uncertainty
DESCRIPTION:Fear of Uncertainty \nBerlatih menyadari kesadaran membuat kita mampu berselancar mengarungi gelombang kehidupan. Satu demi satu langkah kecil\, sampai suatu titik kita dapat menerima naik turunnya kehidupan. \nLatihan meditasi bersama dan diskusi. Hanya untuk alumni Alumni JOL 1 \nSenin\, 1 Agustus 2022\, 19:30-20:30 WIB\nDipandu oleh Ray (Host) dan Gunawan (Co-host). \nRegistrasi: 0838 0692 2450 (WA) \nOrganized by: @tergarindonesia
URL:https://tergarindonesia.com/event/fear-of-uncertainty/
CATEGORIES:Latihan Meditasi Bersama,Pendalaman JOL 1
ATTACH;FMTTYPE=image/jpeg:https://tergarindonesia.com/wp-content/uploads/2022/08/WhatsApp-Image-2022-08-01-at-09.05.11-e1659325764390.jpeg
END:VEVENT
BEGIN:VEVENT
DTSTART;TZID=UTC:20220725T193000
DTEND;TZID=UTC:20220725T203000
DTSTAMP:20260421T132836
CREATED:20220725T103046Z
LAST-MODIFIED:20220725T103046Z
UID:392-1658777400-1658781000@tergarindonesia.com
SUMMARY:Harmony Vs Chaos
DESCRIPTION:Harmony Vs Chaos \nLatihan meditasi bersama dan diskusi khusus Alumni JOL-1 \nSenin\, 25 Juli\, 19.30 – 20.30 WIB\nDipandu oleh Rudy ( Host ) dan Susi (Co-Host). \nRegistrasi: 0838 0692 2450 (WA) \nOrganized by: @tergarindonesia
URL:https://tergarindonesia.com/event/harmony-vs-chaos/
CATEGORIES:Latihan Meditasi Bersama,Pendalaman JOL 1
ATTACH;FMTTYPE=image/jpeg:https://tergarindonesia.com/wp-content/uploads/2022/07/WhatsApp-Image-2022-07-25-at-15.46.27-e1658745034602.jpeg
END:VEVENT
BEGIN:VEVENT
DTSTART;TZID=UTC:20220718T193000
DTEND;TZID=UTC:20220718T203000
DTSTAMP:20260421T132836
CREATED:20220718T021459Z
LAST-MODIFIED:20220718T021459Z
UID:348-1658172600-1658176200@tergarindonesia.com
SUMMARY:Aware of The Spark\, Beware of The Fire
DESCRIPTION:Aware of The Spark\, Beware of The Fire \nEmosi seperti api dimulai dari percikan kecil yang akan membesar tidak terkendalikan dan dapat menghancurkan semuanya.\nMari kita berlatih & berdiskusi bersama untuk dapat menerapkan dalam keseharian kita. \nSenin\, 18 Juli 2022\, 19:30 – 20:30 WIB.\nPendalaman Latihan Meditasi JOL1\, hanya untuk alumni JOL1. \nDipandu oleh Brian dan Clay (co-host). \nRegistrasi: 0838 0692 2450 (WA) \nAcara ini diselenggarakan oleh komunitas meditasi @Tergarindonesia
URL:https://tergarindonesia.com/event/aware-of-the-spark-beware-of-the-fire/
CATEGORIES:Latihan Meditasi Bersama,Pendalaman JOL 1
ATTACH;FMTTYPE=image/jpeg:https://tergarindonesia.com/wp-content/uploads/2022/07/WhatsApp-Image-2022-07-18-at-09.08.19-e1658110455500.jpeg
END:VEVENT
BEGIN:VEVENT
DTSTART;TZID=UTC:20220711T193000
DTEND;TZID=UTC:20220711T203000
DTSTAMP:20260421T132836
CREATED:20220711T035601Z
LAST-MODIFIED:20220711T183638Z
UID:285-1657567800-1657571400@tergarindonesia.com
SUMMARY:When Life Disappoints\, Rest a Moment
DESCRIPTION:  \n\n\n\nWhen Life Disappoints\, Rest a Moment \nSenin\, 11 Juli 2022\, 19:30-20:30 WIBPendalaman Latihan Meditasi JOL1\, hanya untuk alumni JOL1.Dipandu oleh Susi (Host) dan Mustapa (Co-Host). \nVia ZOOM\, meeting ID: 881 0911 4172Passcode: aware \nInfo: 0838-0692-2450 (WA) \nOrganized by @tergarindonesia \n\n\n\n\n\n 
URL:https://tergarindonesia.com/event/when-life-disappoints-rest-a-moment/
CATEGORIES:Pendalaman JOL 1
ATTACH;FMTTYPE=image/jpeg:https://tergarindonesia.com/wp-content/uploads/2022/07/WhatsApp-Image-2022-07-11-at-09.05.10-e1657511747675.jpeg
END:VEVENT
END:VCALENDAR