BEGIN:VCALENDAR
VERSION:2.0
PRODID:-//Tergar Indonesia - ECPv6.15.20//NONSGML v1.0//EN
CALSCALE:GREGORIAN
METHOD:PUBLISH
X-WR-CALNAME:Tergar Indonesia
X-ORIGINAL-URL:https://tergarindonesia.com
X-WR-CALDESC:Events for Tergar Indonesia
REFRESH-INTERVAL;VALUE=DURATION:PT1H
X-Robots-Tag:noindex
X-PUBLISHED-TTL:PT1H
BEGIN:VTIMEZONE
TZID:UTC
BEGIN:STANDARD
TZOFFSETFROM:+0000
TZOFFSETTO:+0000
TZNAME:UTC
DTSTART:20230101T000000
END:STANDARD
END:VTIMEZONE
BEGIN:VEVENT
DTSTART;TZID=UTC:20240605T193000
DTEND;TZID=UTC:20240605T210000
DTSTAMP:20260424T184652
CREATED:20240605T041346Z
LAST-MODIFIED:20240605T041346Z
UID:2287-1717615800-1717621200@tergarindonesia.com
SUMMARY:The Map & The Journey
DESCRIPTION:Semua orang ingin terbebas dari masalah2 dan ingin bahagia. Apakah Anda sudah menemukannya? Atau Anda malah tersesat & terjebak dalam “kebahagian” semu? Bagaimana berlatih meditasi dapat membebaskan kita dari penderitaan dan mengenali kebahagiaan sejati. \nMari kita berlatih meditasi dan diskusi bersama di Tergar Meditation Center. \nWaktu : Rabu\, 5 Juni 2024\nJam 19:30 – 21:00 WIB\nKhusus Alumni JOL1\, Bebas Biaya . \nAlamat:\nJl. Daan Mogot\, Perumahan Green Mansion Boulevard Raya No.35\, Jakarta Barat\, DKI Jakarta.\nMaps: https://goo.gl/maps/maVW3Y3upjbVouqm8 \nInfo:\nTlp. 021-29025314 | WA. 083806922450\nhttps://tergarindonesia.com/events/\n@TergarIndonesia
URL:https://tergarindonesia.com/event/the-map-the-journey/
CATEGORIES:Latihan Meditasi Bersama,Pendalaman JOL 1
ATTACH;FMTTYPE=image/jpeg:https://tergarindonesia.com/wp-content/uploads/2024/06/WhatsApp-Image-2024-06-05-at-10.39.39-e1717560791256.jpeg
END:VEVENT
END:VCALENDAR