BEGIN:VCALENDAR
VERSION:2.0
PRODID:-//Tergar Indonesia - ECPv6.15.20//NONSGML v1.0//EN
CALSCALE:GREGORIAN
METHOD:PUBLISH
X-WR-CALNAME:Tergar Indonesia
X-ORIGINAL-URL:https://tergarindonesia.com
X-WR-CALDESC:Events for Tergar Indonesia
REFRESH-INTERVAL;VALUE=DURATION:PT1H
X-Robots-Tag:noindex
X-PUBLISHED-TTL:PT1H
BEGIN:VTIMEZONE
TZID:UTC
BEGIN:STANDARD
TZOFFSETFROM:+0000
TZOFFSETTO:+0000
TZNAME:UTC
DTSTART:20230101T000000
END:STANDARD
END:VTIMEZONE
BEGIN:VEVENT
DTSTART;TZID=UTC:20240527T193000
DTEND;TZID=UTC:20240527T203000
DTSTAMP:20260424T200926
CREATED:20240527T031213Z
LAST-MODIFIED:20240527T031213Z
UID:2269-1716838200-1716841800@tergarindonesia.com
SUMMARY:7 Steps to Build a Meditation Habit
DESCRIPTION:Diskusi dan Latihan meditasi JOL 1. Hanya untuk Alumni JOL 1. \nSenin\, 27 Mei 2024\, 19:30-20:30 WIB\nDipandu oleh Anthony (Host) dan Elvi (Co-host). \nPendaftaran : 0838 0692 2450 (WA) \nOrganized by: @tergarindonesia
URL:https://tergarindonesia.com/event/7-steps-to-build-a-meditation-habit/
CATEGORIES:Latihan Meditasi Bersama,Pendalaman JOL 1
ATTACH;FMTTYPE=image/jpeg:https://tergarindonesia.com/wp-content/uploads/2024/05/WhatsApp-Image-2024-05-27-at-09.09.22-e1716779496358.jpeg
END:VEVENT
END:VCALENDAR