BEGIN:VCALENDAR
VERSION:2.0
PRODID:-//Tergar Indonesia - ECPv6.15.20//NONSGML v1.0//EN
CALSCALE:GREGORIAN
METHOD:PUBLISH
X-WR-CALNAME:Tergar Indonesia
X-ORIGINAL-URL:https://tergarindonesia.com
X-WR-CALDESC:Events for Tergar Indonesia
REFRESH-INTERVAL;VALUE=DURATION:PT1H
X-Robots-Tag:noindex
X-PUBLISHED-TTL:PT1H
BEGIN:VTIMEZONE
TZID:UTC
BEGIN:STANDARD
TZOFFSETFROM:+0000
TZOFFSETTO:+0000
TZNAME:UTC
DTSTART:20230101T000000
END:STANDARD
END:VTIMEZONE
BEGIN:VEVENT
DTSTART;TZID=UTC:20240401T193000
DTEND;TZID=UTC:20240401T203000
DTSTAMP:20260424T213200
CREATED:20240401T023534Z
LAST-MODIFIED:20240401T023534Z
UID:2227-1711999800-1712003400@tergarindonesia.com
SUMMARY:Meditasi Terbaik
DESCRIPTION:Diskusi dan Latihan meditasi JOL 1. Hanya untuk Alumni JOL 1 \nSenin\, 1 April 2024\, 19:30-20:30 WIB\nDipandu oleh Mustafa (Host) dan Alit (Co-host). \nPendaftaran : 0838 0692 2450 (WA) \nOrganized by: @tergarindonesia
URL:https://tergarindonesia.com/event/meditasi-terbaik/
CATEGORIES:Latihan Meditasi Bersama,Pendalaman JOL 1
ATTACH;FMTTYPE=image/jpeg:https://tergarindonesia.com/wp-content/uploads/2024/04/WhatsApp-Image-2024-04-01-at-9.15.30-AM-e1711938907258.jpeg
END:VEVENT
BEGIN:VEVENT
DTSTART;TZID=UTC:20240415T193000
DTEND;TZID=UTC:20240415T203000
DTSTAMP:20260424T213200
CREATED:20240415T072529Z
LAST-MODIFIED:20240415T072529Z
UID:2239-1713209400-1713213000@tergarindonesia.com
SUMMARY:The Sound Meditation
DESCRIPTION:Diskusi dan Latihan meditasi JOL 1. Hanya untuk Alumni JOL 1 \nSenin\, 15 April 2024\, 19:30-20:30 WIB\nDipandu oleh Susi (Host) dan Norlela (Co-host). \nPendaftaran : 0838 0692 2450 (WA) \nOrganized by: @tergarindonesia
URL:https://tergarindonesia.com/event/the-sound-meditation/
CATEGORIES:Latihan Meditasi Bersama,Pendalaman JOL 1
ATTACH;FMTTYPE=image/jpeg:https://tergarindonesia.com/wp-content/uploads/2024/04/WhatsApp-Image-2024-04-15-at-09.37.53-e1713165899994.jpeg
END:VEVENT
BEGIN:VEVENT
DTSTART;TZID=UTC:20240429T193000
DTEND;TZID=UTC:20240429T203000
DTSTAMP:20260424T213200
CREATED:20240429T064129Z
LAST-MODIFIED:20240429T064129Z
UID:2252-1714419000-1714422600@tergarindonesia.com
SUMMARY:How to use thoughts as a support for meditation
DESCRIPTION:Dalam sesi ini kita akan berdiskusi\, sharing dan berlatih bersama dengan Pikiran sebagai pendukung untuk latihan meditasi. Pikiran terkadang membuat kita terganggu sehingga kita kewalahan\, Cemas\, Stress bahkan Depresi. \nMari kita bahas bersama. Dan Sesi ini hanya untuk Alumni JOL 1 & Up \nSenin\, 29 April 2024\, 19:30-20:30 WIB\nDipandu oleh Brian (Host) dan Supri (Co-host). \nPendaftaran : 0838 0692 2450 (WA) \nOrganized by: tergarindonesia
URL:https://tergarindonesia.com/event/how-to-use-thoughts-as-a-support-for-meditation/
CATEGORIES:Latihan Meditasi Bersama,Pendalaman JOL 1
ATTACH;FMTTYPE=image/jpeg:https://tergarindonesia.com/wp-content/uploads/2024/04/WhatsApp-Image-2024-04-27-at-20.22.37-e1714372863937.jpeg
END:VEVENT
END:VCALENDAR