BEGIN:VCALENDAR
VERSION:2.0
PRODID:-//Tergar Indonesia - ECPv6.15.20//NONSGML v1.0//EN
CALSCALE:GREGORIAN
METHOD:PUBLISH
X-WR-CALNAME:Tergar Indonesia
X-ORIGINAL-URL:https://tergarindonesia.com
X-WR-CALDESC:Events for Tergar Indonesia
REFRESH-INTERVAL;VALUE=DURATION:PT1H
X-Robots-Tag:noindex
X-PUBLISHED-TTL:PT1H
BEGIN:VTIMEZONE
TZID:UTC
BEGIN:STANDARD
TZOFFSETFROM:+0000
TZOFFSETTO:+0000
TZNAME:UTC
DTSTART:20230101T000000
END:STANDARD
END:VTIMEZONE
BEGIN:VEVENT
DTSTART;TZID=UTC:20240205T193000
DTEND;TZID=UTC:20240205T203000
DTSTAMP:20260425T001752
CREATED:20240205T041355Z
LAST-MODIFIED:20240205T082601Z
UID:2146-1707161400-1707165000@tergarindonesia.com
SUMMARY:Glimpse of Awareness
DESCRIPTION:Diskusi dan Latihan meditasi JOL 1. Hanya untuk alumni JOL 1. \nSenin\, 5 Feb 2024\, 19:30-20:30 WIB\nDipandu oleh Anthony (Host) dan Alit (Co-host). \nRegistrasi: 0838 0692 2450 (WA) \nOrganized by: @tergarindonesia
URL:https://tergarindonesia.com/event/glimpse-of-awareness/
CATEGORIES:Latihan Meditasi Bersama,Pendalaman JOL 1
ATTACH;FMTTYPE=image/jpeg:https://tergarindonesia.com/wp-content/uploads/2024/02/WhatsApp-Image-2024-02-05-at-09.24.25-e1707106407553.jpeg
END:VEVENT
END:VCALENDAR