BEGIN:VCALENDAR
VERSION:2.0
PRODID:-//Tergar Indonesia - ECPv6.15.20//NONSGML v1.0//EN
CALSCALE:GREGORIAN
METHOD:PUBLISH
X-WR-CALNAME:Tergar Indonesia
X-ORIGINAL-URL:https://tergarindonesia.com
X-WR-CALDESC:Events for Tergar Indonesia
REFRESH-INTERVAL;VALUE=DURATION:PT1H
X-Robots-Tag:noindex
X-PUBLISHED-TTL:PT1H
BEGIN:VTIMEZONE
TZID:UTC
BEGIN:STANDARD
TZOFFSETFROM:+0000
TZOFFSETTO:+0000
TZNAME:UTC
DTSTART:20230101T000000
END:STANDARD
END:VTIMEZONE
BEGIN:VEVENT
DTSTART;TZID=UTC:20240108T193000
DTEND;TZID=UTC:20240108T203000
DTSTAMP:20260425T014250
CREATED:20240108T030742Z
LAST-MODIFIED:20240108T030742Z
UID:2080-1704742200-1704745800@tergarindonesia.com
SUMMARY:Openness\, Acceptance\, Okayness
DESCRIPTION:Diskusi dan Latihan meditasi JOL 1. Hanya untuk alumni JOL 1. \nSenin\, 8 Jan 2024\, 19:30-20:30 WIB\nDipandu oleh Susi (Host) dan Arief (Co-host). \nRegistrasi: 0838 0692 2450 (WA) \nOrganized by: @tergarindonesia
URL:https://tergarindonesia.com/event/openness-acceptance-okayness/
CATEGORIES:Latihan Meditasi Bersama,Pendalaman JOL 1
ATTACH;FMTTYPE=image/jpeg:https://tergarindonesia.com/wp-content/uploads/2024/01/WhatsApp-Image-2024-01-08-at-09.36.06-e1704683235862.jpeg
END:VEVENT
BEGIN:VEVENT
DTSTART;TZID=UTC:20240122T193000
DTEND;TZID=UTC:20240122T203000
DTSTAMP:20260425T014250
CREATED:20240122T044405Z
LAST-MODIFIED:20240122T044405Z
UID:2114-1705951800-1705955400@tergarindonesia.com
SUMMARY:Peace Of Mind
DESCRIPTION:Diskusi dan Latihan meditasi JOL 1. Hanya untuk alumni JOL 1. \nSenin\, 22 Jan 2024\, 19:30-20:30 WIB\nDipandu oleh Elvi (Host) dan Eripin (Cohost) \nRegistrasi: 0838 0692 2450 (WA) \nOrganized by: @tergarindonesia
URL:https://tergarindonesia.com/event/peace-of-mind/
CATEGORIES:Latihan Meditasi Bersama,Pendalaman JOL 1
ATTACH;FMTTYPE=image/jpeg:https://tergarindonesia.com/wp-content/uploads/2024/01/WhatsApp-Image-2024-01-22-at-10.57.28-e1705898605375.jpeg
END:VEVENT
END:VCALENDAR