BEGIN:VCALENDAR
VERSION:2.0
PRODID:-//Tergar Indonesia - ECPv6.15.20//NONSGML v1.0//EN
CALSCALE:GREGORIAN
METHOD:PUBLISH
X-ORIGINAL-URL:https://tergarindonesia.com
X-WR-CALDESC:Events for Tergar Indonesia
REFRESH-INTERVAL;VALUE=DURATION:PT1H
X-Robots-Tag:noindex
X-PUBLISHED-TTL:PT1H
BEGIN:VTIMEZONE
TZID:UTC
BEGIN:STANDARD
TZOFFSETFROM:+0000
TZOFFSETTO:+0000
TZNAME:UTC
DTSTART:20220101T000000
END:STANDARD
END:VTIMEZONE
BEGIN:VEVENT
DTSTART;TZID=UTC:20231204T193000
DTEND;TZID=UTC:20231204T203000
DTSTAMP:20260425T031516
CREATED:20231204T085722Z
LAST-MODIFIED:20231204T085722Z
UID:2004-1701718200-1701721800@tergarindonesia.com
SUMMARY:3 Metode Meditasi Dengan Emosi
DESCRIPTION:Diskusi dan Latihan meditasi JOL 1. Hanya untuk alumni JOL 1. \nSenin\, 4 Des 2023\, 19:30-20:30 WIB\nDipandu oleh Gunawan (Host) dan Arief (Co-host). \nRegistrasi: 0838 0692 2450 (WA) \nOrganized by: @tergarindonesia
URL:https://tergarindonesia.com/event/3-metode-meditasi-dengan-emosi/
CATEGORIES:Pendalaman JOL 1
ATTACH;FMTTYPE=image/jpeg:https://tergarindonesia.com/wp-content/uploads/2023/12/WhatsApp-Image-2023-12-04-at-12.49.39-e1701680205170.jpeg
END:VEVENT
BEGIN:VEVENT
DTSTART;TZID=UTC:20231218T193000
DTEND;TZID=UTC:20231218T203000
DTSTAMP:20260425T031516
CREATED:20231218T031342Z
LAST-MODIFIED:20231218T031342Z
UID:2031-1702927800-1702931400@tergarindonesia.com
SUMMARY:The Important Key in Practice
DESCRIPTION:Diskusi dan Latihan meditasi JOL 1. Hanya untuk alumni JOL 1. \nSenin\, 18 Dec 2023\, 19:30-20:30 WIB\nDipandu oleh Susi (Host) dan Arief (Co-host). \nRegistrasi: 0838 0692 2450 (WA) \nOrganized by: @tergarindonesia
URL:https://tergarindonesia.com/event/the-important-key-in-practice/
CATEGORIES:Latihan Meditasi Bersama,Pendalaman JOL 1
ATTACH;FMTTYPE=image/jpeg:https://tergarindonesia.com/wp-content/uploads/2023/12/WhatsApp-Image-2023-12-17-at-14.19.04-e1702869196716.jpeg
END:VEVENT
END:VCALENDAR