BEGIN:VCALENDAR
VERSION:2.0
PRODID:-//Tergar Indonesia - ECPv6.15.20//NONSGML v1.0//EN
CALSCALE:GREGORIAN
METHOD:PUBLISH
X-WR-CALNAME:Tergar Indonesia
X-ORIGINAL-URL:https://tergarindonesia.com
X-WR-CALDESC:Events for Tergar Indonesia
REFRESH-INTERVAL;VALUE=DURATION:PT1H
X-Robots-Tag:noindex
X-PUBLISHED-TTL:PT1H
BEGIN:VTIMEZONE
TZID:UTC
BEGIN:STANDARD
TZOFFSETFROM:+0000
TZOFFSETTO:+0000
TZNAME:UTC
DTSTART:20220101T000000
END:STANDARD
END:VTIMEZONE
BEGIN:VEVENT
DTSTART;TZID=UTC:20230703T193000
DTEND;TZID=UTC:20230703T203000
DTSTAMP:20260425T104916
CREATED:20230703T082820Z
LAST-MODIFIED:20230703T082820Z
UID:1641-1688412600-1688416200@tergarindonesia.com
SUMMARY:Turn It Into Awareness
DESCRIPTION:Latihan meditasi bersama. Hanya untuk Alumni JOL 1. \nSenin\, 3 Juli 2023\, 19:30-20:30 WIB\nDipandu oleh Susi (Host) dan Arief (Co-host).\nRegistrasi: 0838 0692 2450 (WA) \nOrganized by Komunitas Meditasi @tergarindonesia
URL:https://tergarindonesia.com/event/turn-it-into-awareness/
CATEGORIES:Latihan Meditasi Bersama,Pendalaman JOL 1
ATTACH;FMTTYPE=image/jpeg:https://tergarindonesia.com/wp-content/uploads/2023/07/WhatsApp-Image-2023-07-01-at-15.58.57-e1688372862215.jpeg
END:VEVENT
BEGIN:VEVENT
DTSTART;TZID=UTC:20230717T193000
DTEND;TZID=UTC:20230717T203000
DTSTAMP:20260425T104916
CREATED:20230717T024755Z
LAST-MODIFIED:20230717T024755Z
UID:1692-1689622200-1689625800@tergarindonesia.com
SUMMARY:Trouble As Friend
DESCRIPTION:Latihan meditasi bersama. Hanya untuk Alumni JOL 1 \nSenin\, 17 Juli 2023\, 19:30-20:30 WIB\nDipandu oleh Elvi (Host) dan Gunawan (Co-host).\nRegistrasi: 0838 0692 2450 (WA) \nOrganized by Komunitas Meditasi @tergarindonesia
URL:https://tergarindonesia.com/event/trouble-as-friend/
CATEGORIES:Latihan Meditasi Bersama,Pendalaman JOL 1
ATTACH;FMTTYPE=image/jpeg:https://tergarindonesia.com/wp-content/uploads/2023/07/WhatsApp-Image-2023-07-16-at-18.10.49-e1689562042635.jpeg
END:VEVENT
BEGIN:VEVENT
DTSTART;TZID=UTC:20230731T193000
DTEND;TZID=UTC:20230731T203000
DTSTAMP:20260425T104916
CREATED:20230731T032158Z
LAST-MODIFIED:20230731T032158Z
UID:1733-1690831800-1690835400@tergarindonesia.com
SUMMARY:Difficulty As Opportunity
DESCRIPTION:Diskusi dan Latihan meditasi JOL 1. Hanya untuk alumni JOL 1. \nSenin\, 31 Juli 2023\, 19:30-20:30 WIB\nDipandu oleh Elvi \nRegistrasi: 0838 0692 2450 (WA) \nOrganized by: @tergarindonesia
URL:https://tergarindonesia.com/event/difficulty-as-opportunity/
CATEGORIES:Latihan Meditasi Bersama,Pendalaman JOL 1
ATTACH;FMTTYPE=image/jpeg:https://tergarindonesia.com/wp-content/uploads/2023/07/WhatsApp-Image-2023-07-31-at-09.02.54-e1690773681752.jpeg
END:VEVENT
END:VCALENDAR