BEGIN:VCALENDAR
VERSION:2.0
PRODID:-//Tergar Indonesia - ECPv6.15.20//NONSGML v1.0//EN
CALSCALE:GREGORIAN
METHOD:PUBLISH
X-ORIGINAL-URL:https://tergarindonesia.com
X-WR-CALDESC:Events for Tergar Indonesia
REFRESH-INTERVAL;VALUE=DURATION:PT1H
X-Robots-Tag:noindex
X-PUBLISHED-TTL:PT1H
BEGIN:VTIMEZONE
TZID:UTC
BEGIN:STANDARD
TZOFFSETFROM:+0000
TZOFFSETTO:+0000
TZNAME:UTC
DTSTART:20220101T000000
END:STANDARD
END:VTIMEZONE
BEGIN:VEVENT
DTSTART;TZID=UTC:20230213T193000
DTEND;TZID=UTC:20230213T203000
DTSTAMP:20260425T181501
CREATED:20230213T023016Z
LAST-MODIFIED:20230213T023016Z
UID:1252-1676316600-1676320200@tergarindonesia.com
SUMMARY:Surf the waves of your thoughts
DESCRIPTION:Latihan meditasi bersama JOL 1 Online. Hanya untuk alumni JOL 1.\nSenin\, 13 Feb 2023\, 19:30-20:30 WIB\nDipandu oleh Brian (Host) dan Alit (Co-host). \nInfo: 0838 0692 2450 (WA) \nOrganized by: @tergarindonesia
URL:https://tergarindonesia.com/event/surf-the-waves-of-your-thoughts/
CATEGORIES:Latihan Meditasi Bersama,Pendalaman JOL 1
ATTACH;FMTTYPE=image/jpeg:https://tergarindonesia.com/wp-content/uploads/2023/02/WhatsApp-Image-2023-02-12-at-13.50.25-e1676255394841.jpeg
END:VEVENT
BEGIN:VEVENT
DTSTART;TZID=UTC:20230227T193000
DTEND;TZID=UTC:20230227T203000
DTSTAMP:20260425T181501
CREATED:20230227T030509Z
LAST-MODIFIED:20230227T030509Z
UID:1302-1677526200-1677529800@tergarindonesia.com
SUMMARY:Again and Again
DESCRIPTION:Latihan meditasi bersama dan diskusi. Hanya untuk alumni JOL 1. \nSenin\, 27 Februari 2023\, 19:30-20:30 WIB\nDipandu oleh Susi (Host) dan Arief (Co-host). \nRegistrasi: 0838 0692 2450 (WA) \nOrganized by: @tergarindonesia
URL:https://tergarindonesia.com/event/again-and-again/
CATEGORIES:Latihan Meditasi Bersama,Pendalaman JOL 1
ATTACH;FMTTYPE=image/jpeg:https://tergarindonesia.com/wp-content/uploads/2023/02/WhatsApp-Image-2023-02-25-at-17.17.35-e1677467052985.jpeg
END:VEVENT
END:VCALENDAR