BEGIN:VCALENDAR
VERSION:2.0
PRODID:-//Tergar Indonesia - ECPv6.15.20//NONSGML v1.0//EN
CALSCALE:GREGORIAN
METHOD:PUBLISH
X-WR-CALNAME:Tergar Indonesia
X-ORIGINAL-URL:https://tergarindonesia.com
X-WR-CALDESC:Events for Tergar Indonesia
REFRESH-INTERVAL;VALUE=DURATION:PT1H
X-Robots-Tag:noindex
X-PUBLISHED-TTL:PT1H
BEGIN:VTIMEZONE
TZID:UTC
BEGIN:STANDARD
TZOFFSETFROM:+0000
TZOFFSETTO:+0000
TZNAME:UTC
DTSTART:20210101T000000
END:STANDARD
END:VTIMEZONE
BEGIN:VTIMEZONE
TZID:Asia/Krasnoyarsk
BEGIN:STANDARD
TZOFFSETFROM:+0700
TZOFFSETTO:+0700
TZNAME:+07
DTSTART:20210101T000000
END:STANDARD
END:VTIMEZONE
BEGIN:VEVENT
DTSTART;TZID=UTC:20220802T190000
DTEND;TZID=UTC:20220802T200000
DTSTAMP:20260421T235013
CREATED:20220802T023518Z
LAST-MODIFIED:20220802T023518Z
UID:425-1659466800-1659470400@tergarindonesia.com
SUMMARY:Selangkah-Selangkah
DESCRIPTION:Selangkah-Selangkah \nSolusi damai menjalani teror ketidakpastian \nMari kita berlatih meditasi mengembangkan kesadaran dipandu oleh @yudhigejali dan @diella.dachlan. Terbuka untuk umum dan bebas biaya. Selasa\, 2 Agustus 2022\, 19:00-20:00 WIB. \nVia ZOOM\, meeting ID : 821 1856 5010\nPasscode : kesadaran \nInfo : 0838 0692 2450\nOrganized by @tergarindonesia
URL:https://tergarindonesia.com/event/selangkah-selangkah/
CATEGORIES:Latihan Meditasi Bersama,Meditasi Umum
ATTACH;FMTTYPE=image/jpeg:https://tergarindonesia.com/wp-content/uploads/2022/08/WhatsApp-Image-2022-08-02-at-09.23.54-e1659407655425.jpeg
END:VEVENT
BEGIN:VEVENT
DTSTART;TZID=UTC:20220726T190000
DTEND;TZID=UTC:20220726T200000
DTSTAMP:20260421T235013
CREATED:20220726T025009Z
LAST-MODIFIED:20220726T025022Z
UID:395-1658862000-1658865600@tergarindonesia.com
SUMMARY:Mind and Body
DESCRIPTION:Mind and Body \nMind ( batin ) and body ( tubuh ) adalah dua hal yang jelas berbeda\, namun keduanya memiliki relasi yang erat. \nKondisi batin mempengaruhi kondisi tubuh dan sebaliknya\, kondisi tubuh mempengaruhi kondisi batin. \nKita bisa belajar tentang “harmoni dalam perbedaan” dari relasi batin dan tubuh. \nMari kita berlatih meditasi mengembangkan kesadaran “Mind and Body”. Terbuka untuk umum dan bebas biaya. Selasa\, 26 Juli 2022\, 19:00-20:00 WIB. Dipandu oleh Hemmarata dan @diella.dachlan \nVia ZOOM\, meeting ID : 821 1856 5010\nPasscode : kesadaran \nInfo : 0838 0692 2450\nOrganized by @tergarindonesia
URL:https://tergarindonesia.com/event/mind-and-body/
CATEGORIES:Latihan Meditasi Bersama,Meditasi Umum
ATTACH;FMTTYPE=image/jpeg:https://tergarindonesia.com/wp-content/uploads/2022/07/WhatsApp-Image-2022-07-26-at-09.06.11-e1658803795629.jpeg
END:VEVENT
BEGIN:VEVENT
DTSTART;TZID=UTC:20220719T190000
DTEND;TZID=UTC:20220719T200000
DTSTAMP:20260421T235013
CREATED:20220719T030558Z
LAST-MODIFIED:20220719T030558Z
UID:358-1658257200-1658260800@tergarindonesia.com
SUMMARY:Saat Harus Berkomunikasi\, Meski Nyebelin
DESCRIPTION:Saat Harus Berkomunikasi\, Meski Nyebelin \nDipendem ga sehat\, tapi bagaimana menyampaikan dengan jujur\, jernih\, dan sehat? \nIkuti Meditasi Bareng dan Bincang Santai bersama @lani.ganda dan @yudhigejali\, Selasa 19 Juli 2022\, jam 19:00-20:00 WIB\, via ZOOM: 821 1856 5010\, passcode: kesadaran \nLani Ganda adalah seorang Ibu\, praktisi meditasi\, dan Direktur Utama ACER Indonesia (lembaga riset pendidikan). \ndr. Yudhi Gejali adalah seorang penggiat kesehatan holistik integratif dan juga seorang murid dan pemandu latihan meditasi di komunitas Tergar Indonesia. \nAcara ini diorganize oleh Komunitas Meditasi @tergarindonesia
URL:https://tergarindonesia.com/event/saat-harus-berkomunikasi-meski-nyebelin/
CATEGORIES:Meditasi Umum
ATTACH;FMTTYPE=image/jpeg:https://tergarindonesia.com/wp-content/uploads/2022/07/WhatsApp-Image-2022-07-19-at-09.03.54-e1658199944366.jpeg
END:VEVENT
BEGIN:VEVENT
DTSTART;TZID=UTC:20220712T190000
DTEND;TZID=UTC:20220712T200000
DTSTAMP:20260421T235013
CREATED:20220712T023034Z
LAST-MODIFIED:20220712T034255Z
UID:306-1657652400-1657656000@tergarindonesia.com
SUMMARY:Bersama Dengan Perbedaan
DESCRIPTION:Bersama Dengan Perbedaan \nTidak mudah bagi kita untuk menerima perbedaan. Padahal dalam kehidupan semuanya berbeda. \nAda yang menyikapi perbedaan dengan menjaga jarak\, ada yang cuek\, ada yang memaksa dan lain sebagainya. \nBagaimana jika kita coba menyikapi perbedaan itu dengan sikap “bersama dengan perbedaan itu apa adanya” ? tidak perlu memaksakan diri untuk menerimanya\, tidak juga menolaknya.\n.\nMari kita berlatih meditasi mengembangkan kesadaran “bersama dengan perbedaan”. Terbuka untuk umum dan bebas biaya. Selasa\, 12 Juli 2022\, 19:00-20:00 WIB. Dipandu oleh Hemmarata dan @diella.dachlan\n.\nVia ZOOM\, meeting ID : 821 1856 5010\nPasscode : kesadaran\n.\nInfo : 0838 0692 2450\nOrganized by @tergarindonesia
URL:https://tergarindonesia.com/event/bersama-dengan-perbedaan/
CATEGORIES:Latihan Meditasi Bersama,Meditasi Umum
ATTACH;FMTTYPE=image/jpeg:https://tergarindonesia.com/wp-content/uploads/2022/07/WhatsApp-Image-2022-07-12-at-09.12.40-e1657592987316.jpeg
END:VEVENT
BEGIN:VEVENT
DTSTART;TZID=UTC:20220706T190000
DTEND;TZID=UTC:20220706T200000
DTSTAMP:20260421T235013
CREATED:20220706T024732Z
LAST-MODIFIED:20220711T180204Z
UID:277-1657134000-1657137600@tergarindonesia.com
SUMMARY:Sense of Me
DESCRIPTION:  \n\n\n\n \nSense of Me Latihan meditasi bersama dan diskusi khusus Alumni JOL3 \nRabu\, 6 Juli\, 19:00-20:00 WIB Dipandu oleh Anthony dan Lusy (co-host). Registrasi: 0838 0692 2450 (WA) Organized by: @tergarindonesia \n\n\n\n\n\n\n\n\n\n 
URL:https://tergarindonesia.com/event/sense-of-me/
CATEGORIES:Meditasi Umum
ATTACH;FMTTYPE=image/jpeg:https://tergarindonesia.com/wp-content/uploads/2022/07/WhatsApp-Image-2022-07-06-at-09.13.19-e1657075646428.jpeg
END:VEVENT
BEGIN:VEVENT
DTSTART;TZID=UTC:20220705T190000
DTEND;TZID=UTC:20220705T200000
DTSTAMP:20260421T235013
CREATED:20220705T031032Z
LAST-MODIFIED:20220705T031032Z
UID:274-1657047600-1657051200@tergarindonesia.com
SUMMARY:BERDAMAI
DESCRIPTION:BERDAMAI \nLatihan Meditasi Bersama\, Selasa\, 5 Juli 2022\, jam 19:00-20:00 WIB. Dipandu @yudhigejali dan @diella.dachlan \nOrganized by @TergarIndonesia
URL:https://tergarindonesia.com/event/berdamai/
CATEGORIES:Meditasi Umum
ATTACH;FMTTYPE=image/jpeg:https://tergarindonesia.com/wp-content/uploads/2022/07/WhatsApp-Image-2022-07-05-at-09.07.03-e1656990623294.jpeg
END:VEVENT
BEGIN:VEVENT
DTSTART;TZID=UTC:20220704T193000
DTEND;TZID=UTC:20220704T203000
DTSTAMP:20260421T235013
CREATED:20220704T023217Z
LAST-MODIFIED:20220704T054801Z
UID:271-1656963000-1656966600@tergarindonesia.com
SUMMARY:Anything As Support
DESCRIPTION:Anything As Support \nSenin\, 4 Juli 2022\, 19:30-20:30 WIB\nPendalaman Latihan Meditasi JOL1\, hanya untuk alumni JOL1.\nDipandu oleh Elvi dan Arif (Co-Host). \nVia ZOOM\, meeting ID: 844 2665 0327\nPasscode: aware \nInfo: 0838-0692-2450 (WA)\n.\nOrganized by @tergarindonesia
URL:https://tergarindonesia.com/event/anything-as-support/
CATEGORIES:Meditasi Umum
ATTACH;FMTTYPE=image/jpeg:https://tergarindonesia.com/wp-content/uploads/2022/07/WhatsApp-Image-2022-07-04-at-09.16.05-e1656901907163.jpeg
END:VEVENT
BEGIN:VEVENT
DTSTART;TZID=UTC:20220629T190000
DTEND;TZID=UTC:20220629T200000
DTSTAMP:20260421T235013
CREATED:20220629T035743Z
LAST-MODIFIED:20220704T054424Z
UID:264-1656529200-1656532800@tergarindonesia.com
SUMMARY:The Light of Compassionate Wisdom
DESCRIPTION:Latihan meditasi dan diskusi bersama\, khusus Alumni JOL-2. Rabu\, 29 Juni 2022\, 19:00-20:00 WIB. \nRegistrasi: WA 0838 0692 2450 \nDipandu oleh Elvi & Arief Kanginnadhi (co-host) \nOrganized by @tergarindonesia
URL:https://tergarindonesia.com/event/the-light-of-compassionate-wisdom/
CATEGORIES:Meditasi Umum
ATTACH;FMTTYPE=image/jpeg:https://tergarindonesia.com/wp-content/uploads/2022/06/WhatsApp-Image-2022-06-29-at-09.09.25-e1656475712418.jpeg
END:VEVENT
BEGIN:VEVENT
DTSTART;TZID=UTC:20220628T190000
DTEND;TZID=UTC:20220628T200000
DTSTAMP:20260421T235013
CREATED:20220628T024750Z
LAST-MODIFIED:20220704T054432Z
UID:260-1656442800-1656446400@tergarindonesia.com
SUMMARY:Di Sini Rumah Kesejatian Kita
DESCRIPTION:  \nDi Sini Rumah Kesejatian Kita \nBanyak di antara kita yang masih bingung saat mau pulang ke rumah kesejatian\, rumah yang memberi kita kebahagiaan sejati. Mengapa ? Karena banyak di antara kita yang tak menyadari kalau sudah punya rumah kesejatian. \nDimana rumah kesejatian itu sebenarnya ? Bagaimana kita bisa balik ke rumah kesejatian kita ?\n.\nMari kita berlatih meditasi bersama\, untuk mengenali rumah kesejatian kita dan bagaimana ke sananya.\nTerbuka untuk umum dan bebas biaya. Selasa\, 28 Juni 2022\, 19:00-20:00 WIB. Dipandu oleh Hemmarata dan @diella.dachlan\n.\nVia ZOOM\, meeting ID : 821 1856 5010\nPasscode : kesadaran\n•\nInfo: 0838-0692-2450 (WA)\n.\nOrganized by @tergarindonesia
URL:https://tergarindonesia.com/event/di-sini-rumah-kesejatian-kita/
CATEGORIES:Meditasi Umum
ATTACH;FMTTYPE=image/jpeg:https://tergarindonesia.com/wp-content/uploads/2022/06/WhatsApp-Image-2022-06-28-at-09.40.05.jpeg
END:VEVENT
BEGIN:VEVENT
DTSTART;TZID=UTC:20220627T193000
DTEND;TZID=UTC:20220627T203000
DTSTAMP:20260421T235013
CREATED:20220627T092350Z
LAST-MODIFIED:20220629T035833Z
UID:244-1656358200-1656361800@tergarindonesia.com
SUMMARY:Pendalaman JOL 1 - Like a River Flow
DESCRIPTION:  \nLike a River Flow \nDalam sesi ini mari kita berlatih dengan objek Pikiran sebagai pendukung meditasi kita. \nSenin\, 27 Juni 2022\, 19:30-20:30 WIB\nPendalaman Latihan Meditasi JOL1\, hanya untuk alumni JOL1.\nDipandu oleh Mustapa dan Brian (Co-Host). \nVia ZOOM\, meeting ID: 884 3873 7580\nPasscode: justaware \nInfo: 0838-0692-2450 (WA) \nOrganized by @tergarindonesia
URL:https://tergarindonesia.com/event/pendalaman-jol-1-like-a-river-flow/
CATEGORIES:Meditasi Umum
ATTACH;FMTTYPE=image/jpeg:https://tergarindonesia.com/wp-content/uploads/2022/06/WhatsApp-Image-2022-06-27-at-13.23.37.jpeg
END:VEVENT
BEGIN:VEVENT
DTSTART;TZID=Asia/Krasnoyarsk:20220607T190000
DTEND;TZID=Asia/Krasnoyarsk:20220607T200000
DTSTAMP:20260421T235013
CREATED:20220522T072623Z
LAST-MODIFIED:20220704T054453Z
UID:161-1654628400-1654632000@tergarindonesia.com
SUMMARY:Engga Lari Lagi
DESCRIPTION:Latihan Meditasi bersama untuk menghadapi kenyataan menghadapi diri secara jujur\, lembut dan tanpa negosiasi.\nTerbuka untuk umum. Bebas Biaya. \nDipandu oleh @yudhigejali dan @diella.dachlan \nSelasa\, 7 Juni | 19.00-20.00 WIB
URL:https://tergarindonesia.com/event/abc/
CATEGORIES:Meditasi Umum
END:VEVENT
BEGIN:VEVENT
DTSTART;VALUE=DATE:20220601
DTEND;VALUE=DATE:20220602
DTSTAMP:20260421T235013
CREATED:20220521T204600Z
LAST-MODIFIED:20220610T031657Z
UID:141-1654041600-1654127999@tergarindonesia.com
SUMMARY:Pendalaman Latihan Meditasi
DESCRIPTION:Pendalaman Latihan Meditasi\,\nhanya untuk alumni JOL1. Dipandu oleh Susi \nSenin\, 25 April 2022 | 19.30 – 20.15 WIB \nZOOM Meeting ID : 843 2583 3870 | Passcode : justaware
URL:https://tergarindonesia.com/event/pendalaman-latihan-meditasi-2/
CATEGORIES:Meditasi Umum
END:VEVENT
END:VCALENDAR