BEGIN:VCALENDAR
VERSION:2.0
PRODID:-//Tergar Indonesia - ECPv6.15.20//NONSGML v1.0//EN
CALSCALE:GREGORIAN
METHOD:PUBLISH
X-ORIGINAL-URL:https://tergarindonesia.com
X-WR-CALDESC:Events for Tergar Indonesia
REFRESH-INTERVAL;VALUE=DURATION:PT1H
X-Robots-Tag:noindex
X-PUBLISHED-TTL:PT1H
BEGIN:VTIMEZONE
TZID:UTC
BEGIN:STANDARD
TZOFFSETFROM:+0000
TZOFFSETTO:+0000
TZNAME:UTC
DTSTART:20240101T000000
END:STANDARD
END:VTIMEZONE
BEGIN:VEVENT
DTSTART;TZID=UTC:20250304T190000
DTEND;TZID=UTC:20250304T200000
DTSTAMP:20260421T152559
CREATED:20250304T033720Z
LAST-MODIFIED:20250304T033720Z
UID:2508-1741114800-1741118400@tergarindonesia.com
SUMMARY:Kesulitan\, Guru Terbaik
DESCRIPTION:Kita sering mencari “Guru Terbaik” yang bisa membimbing menuju kesuksesan. Banyak yang berharap guru ini akan menunjukkan jalan yang mudah dan instan. \nNamun\, tanpa disadari\, kesulitan justru menjadi guru terbaik kita. Hal yang tidak kita sukai sering kali memicu pertumbuhan terbesar. Saat kita menghadapi ketidaknyamanan dengan kesadaran\, kita belajar\, beradaptasi\, dan menjadi lebih kuat. \nMari luangkan waktu untuk bermeditasi\, melihat tantangan bukan sebagai hambatan\, tetapi sebagai jalan menuju perkembangan diri yang lebih dalam. \nTerbuka untuk umum dan bebas biaya. Selasa\, 4 Maret 2025\, 19:00-20:00 WIB. Dipandu oleh Hemmarata dan Gunawan \nVia ZOOM\, meeting ID : 821 1856 5010\nPasscode : kesadaran \nInfo :\n– WA : 0838 0692 2450\n– Website : http://www.tergarindonesia.com/events/\n* Organized by @tergarindonesia
URL:https://tergarindonesia.com/event/kesulitan-guru-terbaik/
CATEGORIES:Latihan Meditasi Bersama,Meditasi Umum
ATTACH;FMTTYPE=image/jpeg:https://tergarindonesia.com/wp-content/uploads/2025/03/WhatsApp-Image-2025-03-03-at-18.51.49-e1741059411768.jpeg
END:VEVENT
BEGIN:VEVENT
DTSTART;TZID=UTC:20250305T193000
DTEND;TZID=UTC:20250305T210000
DTSTAMP:20260421T152559
CREATED:20250304T033830Z
LAST-MODIFIED:20250304T033830Z
UID:2511-1741203000-1741208400@tergarindonesia.com
SUMMARY:Befriending The Monster
DESCRIPTION:Latihan meditasi JOL 1 bersama.\nWaktu : Rabu\, 5 Maret 2025\nJam 19:30 – 21:00 WIB\nBebas Biaya dan terbuka untuk umum. \nAlamat:\nJl. Daan Mogot\, Perumahan Green Mansion Boulevard Raya No.35\, Jakarta Barat\, DKI Jakarta.\nMaps: https://goo.gl/maps/maVW3Y3upjbVouqm8 \nInfo:\n083806922450\nhttps://tergarindonesia.com/events/\n@TergarIndonesia
URL:https://tergarindonesia.com/event/befriending-the-monster/
CATEGORIES:Meditasi Umum
ATTACH;FMTTYPE=image/jpeg:https://tergarindonesia.com/wp-content/uploads/2025/03/WhatsApp-Image-2025-03-03-at-18.57.04-e1741059487958.jpeg
END:VEVENT
BEGIN:VEVENT
DTSTART;TZID=UTC:20250312T193000
DTEND;TZID=UTC:20250312T210000
DTSTAMP:20260421T152559
CREATED:20250311T042131Z
LAST-MODIFIED:20250311T042131Z
UID:2515-1741807800-1741813200@tergarindonesia.com
SUMMARY:Latihan meditasi JOL 1 Bersama 12 Maret 2025
DESCRIPTION:Waktu : Rabu\, 12 Maret 2025\nJam 19:30 – 21:00 WIB\nBebas Biaya dan terbuka untuk umum. \nAlamat:\nJl. Daan Mogot\, Perumahan Green Mansion Boulevard Raya No.35\, Jakarta Barat\, DKI Jakarta.\nMaps: https://goo.gl/maps/maVW3Y3upjbVouqm8 \nInfo:\n083806922450\nhttps://tergarindonesia.com/events/\n@TergarIndonesia
URL:https://tergarindonesia.com/event/latihan-meditasi-jol-1-bersama-12-maret-2025/
CATEGORIES:Latihan Meditasi Bersama,Meditasi Umum
ATTACH;FMTTYPE=image/jpeg:https://tergarindonesia.com/wp-content/uploads/2025/03/WhatsApp-Image-2025-03-10-at-18.41.12-e1741666865643.jpeg
END:VEVENT
BEGIN:VEVENT
DTSTART;TZID=UTC:20250318T190000
DTEND;TZID=UTC:20250318T200000
DTSTAMP:20260421T152559
CREATED:20250318T050128Z
LAST-MODIFIED:20250318T050128Z
UID:2522-1742324400-1742328000@tergarindonesia.com
SUMMARY:Awareness VS Mindfulness- Part 2
DESCRIPTION:Terbuka untuk umum dan bebas biaya. Selasa\, 18 Maret 2025\, 19:00-20:00 WIB. Dipandu oleh Anthony dan Pranav. \nVia ZOOM\, meeting ID : 821 1856 5010\nPasscode : kesadaran \nInfo :\n•⁠ ⁠WA : 0838 0692 2450\n•⁠ ⁠Website : http://www.tergarindonesia.com/events/\n•⁠ ⁠Organized by @tergarindonesia
URL:https://tergarindonesia.com/event/awareness-vs-mindfulness-part-2/
CATEGORIES:Latihan Meditasi Bersama,Meditasi Umum
ATTACH;FMTTYPE=image/jpeg:https://tergarindonesia.com/wp-content/uploads/2025/03/WhatsApp-Image-2025-03-18-at-09.53.29-e1742274070622.jpeg
END:VEVENT
BEGIN:VEVENT
DTSTART;TZID=UTC:20250319T193000
DTEND;TZID=UTC:20250319T210000
DTSTAMP:20260421T152559
CREATED:20250318T070256Z
LAST-MODIFIED:20250318T070256Z
UID:2525-1742412600-1742418000@tergarindonesia.com
SUMMARY:Restless Mind
DESCRIPTION:Gaya hidup modern ini seringkali mengakibatkan batin menjadi gelisah\, apakah meditasi dapat membantu untuk menenangkan kegelisahan batin?\nMari diskusi dan latihan meditasi bersama \nWaktu : Rabu\, 19 Maret 2025\nJam 19:30 – 21:00 WIB\nBebas Biaya dan terbuka untuk umum. \nAlamat:\nJl. Daan Mogot\, Perumahan Green Mansion Boulevard Raya No.35\, Jakarta Barat\, DKI Jakarta.\nMaps: https://goo.gl/maps/maVW3Y3upjbVouqm8 \nInfo:\n083806922450\nhttps://tergarindonesia.com/events/\n@TergarIndonesia
URL:https://tergarindonesia.com/event/restless-mind/
CATEGORIES:Meditasi Umum
ATTACH;FMTTYPE=image/jpeg:https://tergarindonesia.com/wp-content/uploads/2025/03/WhatsApp-Image-2025-03-18-at-13.39.55-e1742281356844.jpeg
END:VEVENT
BEGIN:VEVENT
DTSTART;TZID=UTC:20250326T193000
DTEND;TZID=UTC:20250326T210000
DTSTAMP:20260421T152559
CREATED:20250326T041105Z
LAST-MODIFIED:20250326T041105Z
UID:2529-1743017400-1743022800@tergarindonesia.com
SUMMARY:Latihan meditasi JOL 1 Bersama 26 Maret 2025
DESCRIPTION:Waktu : Rabu\, 26 Maret 2025\nJam 19:30 – 21:00 WIB\nBebas Biaya dan terbuka untuk umum. \nAlamat:\nJl. Daan Mogot\, Perumahan Green Mansion Boulevard Raya No.35\, Jakarta Barat\, DKI Jakarta.\nMaps: https://goo.gl/maps/maVW3Y3upjbVouqm8 \nInfo:\n083806922450\nhttps://tergarindonesia.com/events/\n@TergarIndonesia
URL:https://tergarindonesia.com/event/latihan-meditasi-jol-1-bersama-26-maret-2025/
CATEGORIES:Latihan Meditasi Bersama,Meditasi Umum
ATTACH;FMTTYPE=image/jpeg:https://tergarindonesia.com/wp-content/uploads/2025/03/WhatsApp-Image-2025-03-25-at-21.44.52-e1742962246204.jpeg
END:VEVENT
END:VCALENDAR