BEGIN:VCALENDAR
VERSION:2.0
PRODID:-//Tergar Indonesia - ECPv6.15.20//NONSGML v1.0//EN
CALSCALE:GREGORIAN
METHOD:PUBLISH
X-ORIGINAL-URL:https://tergarindonesia.com
X-WR-CALDESC:Events for Tergar Indonesia
REFRESH-INTERVAL;VALUE=DURATION:PT1H
X-Robots-Tag:noindex
X-PUBLISHED-TTL:PT1H
BEGIN:VTIMEZONE
TZID:UTC
BEGIN:STANDARD
TZOFFSETFROM:+0000
TZOFFSETTO:+0000
TZNAME:UTC
DTSTART:20240101T000000
END:STANDARD
END:VTIMEZONE
BEGIN:VEVENT
DTSTART;TZID=UTC:20250204T190000
DTEND;TZID=UTC:20250204T200000
DTSTAMP:20260421T165621
CREATED:20250204T075855Z
LAST-MODIFIED:20250204T075855Z
UID:2494-1738695600-1738699200@tergarindonesia.com
SUMMARY:Temukan Kembali Nilai Dirimu
DESCRIPTION:Harga diri yang kuat lahir dari kesadaran akan betapa berharganya diri kita. Namun\, pengaruh lingkungan dan arus informasi yang tak tersaring sering kali membentuk pola pikir negatif\, melemahkan keyakinan kita pada kualitas diri yang sebenarnya sudah baik sejak awal. \nMari luangkan waktu sejenak untuk berlatih meditasi bersama\, menyelami\, dan mengenali kembali nilai-nilai kebaikan bawaan yang telah ada dalam diri kita. Dengan kesadaran ini\, kita dapat membangun harga diri yang kokoh dan menjalani hidup dengan lebih percaya diri. \nTerbuka untuk umum dan bebas biaya. Selasa\, 4 Februari 2025\, 19:00-20:00 WIB. Dipandu oleh Hemmarata dan Arief \nVia ZOOM\, meeting ID : 821 1856 5010\nPasscode : kesadaran \nInfo :\n– WA : 0838 0692 2450\n– Website : http://www.tergarindonesia.com/events/\n* Organized by @tergarindonesia
URL:https://tergarindonesia.com/event/temukan-kembali-nilai-dirimu/
CATEGORIES:Meditasi Umum
ATTACH;FMTTYPE=image/jpeg:https://tergarindonesia.com/wp-content/uploads/2025/02/WhatsApp-Image-2025-02-03-at-20.54.43-e1738655910660.jpeg
END:VEVENT
BEGIN:VEVENT
DTSTART;TZID=UTC:20250205T193000
DTEND;TZID=UTC:20250205T210000
DTSTAMP:20260421T165621
CREATED:20250204T075657Z
LAST-MODIFIED:20250204T075933Z
UID:2491-1738783800-1738789200@tergarindonesia.com
SUMMARY:Calming the Mind
DESCRIPTION:Mari kita sejenak meluangkan waktu untuk menenangkan batin kita. \nLatihan meditasi dan studi bersama\nWaktu : Rabu\, 5 Februari 2025\nJam 19:30 – 21:00 WIB\nBebas Biaya dan terbuka untuk umum. \nAlamat:\nJl. Daan Mogot\, Perumahan Green Mansion Boulevard Raya No.35\, Jakarta Barat\, DKI Jakarta.\nMaps: https://goo.gl/maps/maVW3Y3upjbVouqm8 \nInfo:\nTlp. 021-29025314 | WA. 083806922450\nhttps://tergarindonesia.com/events/\n@TergarIndonesia
URL:https://tergarindonesia.com/event/calming-the-mind/
CATEGORIES:Meditasi Umum
ATTACH;FMTTYPE=image/jpeg:https://tergarindonesia.com/wp-content/uploads/2025/02/WhatsApp-Image-2025-02-03-at-23.12.04-e1738655780793.jpeg
END:VEVENT
BEGIN:VEVENT
DTSTART;TZID=UTC:20250212T193000
DTEND;TZID=UTC:20250212T210000
DTSTAMP:20260421T165621
CREATED:20250210T083846Z
LAST-MODIFIED:20250210T083846Z
UID:2497-1739388600-1739394000@tergarindonesia.com
SUMMARY:Latihan Meditasi Bersama 12 Februari 2025
DESCRIPTION:Mari ikuti latihan meditasi JOL 1 bersama\, dimana latihan malam ini akan kita lakukan dengan sambil menikmati menu special Cap Go Meh bersama. \nWaktu : Rabu\, 12 Feb 2025\nJam 19:30 – 21:00 WIB\nBebas Biaya dan terbuka untuk umum. \nAlamat:\nJl. Daan Mogot\, Perumahan Green Mansion Boulevard Raya No.35\, Jakarta Barat\, DKI Jakarta.\nMaps: https://goo.gl/maps/maVW3Y3upjbVouqm8 \nInfo:\nTlp. 021-29025314 | WA. 083806922450\nhttps://tergarindonesia.com/events/\n@TergarIndonesia
URL:https://tergarindonesia.com/event/latihan-meditasi-bersama-12-februari-2025/
CATEGORIES:Latihan Meditasi Bersama,Meditasi Umum
ATTACH;FMTTYPE=image/jpeg:https://tergarindonesia.com/wp-content/uploads/2025/02/WhatsApp-Image-2025-02-10-at-15.13.22-e1739176694799.jpeg
END:VEVENT
BEGIN:VEVENT
DTSTART;TZID=UTC:20250218T190000
DTEND;TZID=UTC:20250218T200000
DTSTAMP:20260421T165621
CREATED:20250217T043930Z
LAST-MODIFIED:20250217T043930Z
UID:2504-1739905200-1739908800@tergarindonesia.com
SUMMARY:Is Peace The Essence of Meditation?
DESCRIPTION:Terbuka untuk umum dan bebas biaya. Selasa\, 18 Februari 2025\, 19:00-20:00 WIB. Dipandu oleh Anthony dan Norlela \nVia ZOOM\, meeting ID : 821 1856 5010\nPasscode : kesadaran \nInfo :\n•⁠ ⁠WA : 0838 0692 2450\n•⁠ ⁠Website : http://www.tergarindonesia.com/events/\n•⁠ ⁠Organized by @tergarindonesia
URL:https://tergarindonesia.com/event/is-peace-the-essence-of-meditation/
CATEGORIES:Latihan Meditasi Bersama,Meditasi Umum
ATTACH;FMTTYPE=image/jpeg:https://tergarindonesia.com/wp-content/uploads/2025/02/WhatsApp-Image-2025-02-17-at-10.24.45-e1739767045510.jpeg
END:VEVENT
END:VCALENDAR