BEGIN:VCALENDAR
VERSION:2.0
PRODID:-//Tergar Indonesia - ECPv6.15.20//NONSGML v1.0//EN
CALSCALE:GREGORIAN
METHOD:PUBLISH
X-ORIGINAL-URL:https://tergarindonesia.com
X-WR-CALDESC:Events for Tergar Indonesia
REFRESH-INTERVAL;VALUE=DURATION:PT1H
X-Robots-Tag:noindex
X-PUBLISHED-TTL:PT1H
BEGIN:VTIMEZONE
TZID:UTC
BEGIN:STANDARD
TZOFFSETFROM:+0000
TZOFFSETTO:+0000
TZNAME:UTC
DTSTART:20230101T000000
END:STANDARD
END:VTIMEZONE
BEGIN:VEVENT
DTSTART;TZID=UTC:20241203T190000
DTEND;TZID=UTC:20241203T200000
DTSTAMP:20260421T195022
CREATED:20241202T110044Z
LAST-MODIFIED:20241202T110044Z
UID:2454-1733252400-1733256000@tergarindonesia.com
SUMMARY:Mind Detox: Membersihkan Pola Pikir yang Menghambat"
DESCRIPTION:Pernahkah Anda berkata kepada diri sendiri\, “Saya gagal\,” “Saya tidak cukup pintar\,” atau bahkan “Saya tidak berharga”? Frasa-frasa seperti ini seringkali muncul tanpa kita sadari\, menjadi soundtrack batin yang terus mengalun. \nKetika pikiran otomatis ini mendominasi\, kita mulai percaya bahwa “saya adalah apa yang saya pikirkan.” Dampaknya? Kualitas hidup kita menurun—kesehatan terganggu\, hubungan memburuk\, dan pekerjaan terasa berat. \nTapi\, apakah benar kita adalah apa yang kita pikirkan? Tentu tidak. Pikiran hanyalah fenomena yang muncul dan pergi\, bukan identitas sejati kita. \nMari berlatih meditasi bersama untuk:\nMenyadari pola pikir otomatis yang muncul\,\nMelepaskan diri dari keyakinan yang membatasi\,\nDan menemukan siapa diri kita yang sebenarnya—bebas\, tenang\, dan penuh potensi. \nTerbuka untuk umum dan bebas biaya. Selasa\, 3 Desember 2024\, 19:00-20:00 WIB. Dipandu oleh Hemmarata dan Norlela \nVia ZOOM\, meeting ID : 821 1856 5010\nPasscode : kesadaran \nInfo :\n– WA : 0838 0692 2450\n– Website : http://www.tergarindonesia.com/events/\n* Organized by @tergarindonesia
URL:https://tergarindonesia.com/event/mind-detox-membersihkan-pola-pikir-yang-menghambat/
CATEGORIES:Meditasi Umum
ATTACH;FMTTYPE=image/jpeg:https://tergarindonesia.com/wp-content/uploads/2024/12/WhatsApp-Image-2024-12-02-at-16.20.16.jpeg
END:VEVENT
BEGIN:VEVENT
DTSTART;TZID=UTC:20241204T193000
DTEND;TZID=UTC:20241204T210000
DTSTAMP:20260421T195022
CREATED:20241204T070138Z
LAST-MODIFIED:20241204T070138Z
UID:2457-1733340600-1733346000@tergarindonesia.com
SUMMARY:Turning Inward: Find Your True-Self
DESCRIPTION:GOM adalah “Meditasi” dalam bahasa Tibet yang berarti “lebih mengenali dengan” (“to get familiar with”).\nTentunya dengan diri kita.\nApa ada gunanya ? Manfaat? atau untung nya buat saya? \nMari kita kenali \, renungkan\, share diskusi dan berlatih bersama pada sesi ini. \nWaktu : Rabu\, 4 Desember 2024\nJam 19:30 – 21:00 WIB\nBebas Biaya dan Terbuka untuk umum. \nAlamat:\nJl. Daan Mogot\, Perumahan Green Mansion Boulevard Raya No.35\, Jakarta Barat\, DKI Jakarta.\nMaps: https://goo.gl/maps/maVW3Y3upjbVouqm8 \nInfo:\nTlp. 021-29025314 | WA. 083806922450\nhttps://tergarindonesia.com/events/\n@TergarIndonesia
URL:https://tergarindonesia.com/event/turning-inward-find-your-true-self/
CATEGORIES:Latihan Meditasi Bersama,Meditasi Umum
ATTACH;FMTTYPE=image/jpeg:https://tergarindonesia.com/wp-content/uploads/2024/12/WhatsApp-Image-2024-12-04-at-13.55.53-e1733295658294.jpeg
END:VEVENT
BEGIN:VEVENT
DTSTART;TZID=UTC:20241211T193000
DTEND;TZID=UTC:20241211T210000
DTSTAMP:20260421T195022
CREATED:20241210T074600Z
LAST-MODIFIED:20241210T074600Z
UID:2461-1733945400-1733950800@tergarindonesia.com
SUMMARY:When You Feel : “Something Isn’t Quite Right”
DESCRIPTION:Latihan meditasi dan studi bersama\nWaktu : Rabu\, 11 Desember 2024\nJam 19:30 – 21:00 WIB\nBebas Biaya dan terbuka untuk umum. \nAlamat:\nJl. Daan Mogot\, Perumahan Green Mansion Boulevard Raya No.35\, Jakarta Barat\, DKI Jakarta.\nMaps: https://goo.gl/maps/maVW3Y3upjbVouqm8 \nInfo:\nTlp. 021-29025314 | WA. 083806922450\nhttps://tergarindonesia.com/events/\n@TergarIndonesia
URL:https://tergarindonesia.com/event/when-you-feel-something-isnt-quite-right/
CATEGORIES:Latihan Meditasi Bersama,Meditasi Umum
ATTACH;FMTTYPE=image/jpeg:https://tergarindonesia.com/wp-content/uploads/2024/12/WhatsApp-Image-2024-12-10-at-14.06.28-e1733816729686.jpeg
END:VEVENT
BEGIN:VEVENT
DTSTART;TZID=UTC:20241217T190000
DTEND;TZID=UTC:20241217T200000
DTSTAMP:20260421T195022
CREATED:20241216T044725Z
LAST-MODIFIED:20241216T044725Z
UID:2467-1734462000-1734465600@tergarindonesia.com
SUMMARY:They’re Just Like Me
DESCRIPTION:Sering sekali judgement yang kita berikan terhadap seseorang tidak sesuai dengan kenyataan. Banyak sekali kekecewaan yang terjadi di dalam kehidupan dikarenakan oleh hal tersebut. Perilaku kita yang seperti ini\, tidak hanya kita terapkan pada keluarga tetapi juga pada fenomena yang terjadi di luar sana. Mari kita belajar untuk menenangkan batin\, mereview kembali apa yang sudah kita terapkan selama ini dalam kehidupan kita. \nTerbuka untuk umum dan bebas biaya. Selasa\, 17 Desember 2024\, 19:00-20:00 WIB. Dipandu oleh Elvi dan Arief. \nVia ZOOM\, meeting ID : 821 1856 5010\nPasscode : kesadaran \nInfo :\n– WA : 0838 0692 2450\n– Website : http://www.tergarindonesia.com/events/\n* Organized by @tergarindonesia
URL:https://tergarindonesia.com/event/theyre-just-like-me/
CATEGORIES:Latihan Meditasi Bersama,Meditasi Umum
ATTACH;FMTTYPE=image/jpeg:https://tergarindonesia.com/wp-content/uploads/2024/12/WhatsApp-Image-2024-12-15-at-17.40.21-e1734324413822.jpeg
END:VEVENT
BEGIN:VEVENT
DTSTART;TZID=UTC:20241218T193000
DTEND;TZID=UTC:20241218T210000
DTSTAMP:20260421T195022
CREATED:20241217T044241Z
LAST-MODIFIED:20241217T044241Z
UID:2470-1734550200-1734555600@tergarindonesia.com
SUMMARY:Latihan Meditasi Bersama 18 Desember 2024
DESCRIPTION:Latihan meditasi bersama JOL 1 terakhir di tahun 2024. \nWaktu : Rabu\, 18 Desember 2024\nJam 19:30 – 21:00 WIB\nBebas Biaya dan terbuka untuk umum. \nAlamat:\nJl. Daan Mogot\, Perumahan Green Mansion Boulevard Raya No.35\, Jakarta Barat\, DKI Jakarta.\nMaps: https://goo.gl/maps/maVW3Y3upjbVouqm8 \nInfo:\nTlp. 021-29025314 | WA. 083806922450\nhttps://tergarindonesia.com/events/\n@TergarIndonesia
URL:https://tergarindonesia.com/event/latihan-meditasi-bersama-18-desember-2024/
CATEGORIES:Meditasi Umum
ATTACH;FMTTYPE=image/jpeg:https://tergarindonesia.com/wp-content/uploads/2024/12/WhatsApp-Image-2024-12-17-at-11.38.55-e1734410538816.jpeg
END:VEVENT
END:VCALENDAR