BEGIN:VCALENDAR
VERSION:2.0
PRODID:-//Tergar Indonesia - ECPv6.15.20//NONSGML v1.0//EN
CALSCALE:GREGORIAN
METHOD:PUBLISH
X-ORIGINAL-URL:https://tergarindonesia.com
X-WR-CALDESC:Events for Tergar Indonesia
REFRESH-INTERVAL;VALUE=DURATION:PT1H
X-Robots-Tag:noindex
X-PUBLISHED-TTL:PT1H
BEGIN:VTIMEZONE
TZID:UTC
BEGIN:STANDARD
TZOFFSETFROM:+0000
TZOFFSETTO:+0000
TZNAME:UTC
DTSTART:20230101T000000
END:STANDARD
END:VTIMEZONE
BEGIN:VEVENT
DTSTART;TZID=UTC:20241002T193000
DTEND;TZID=UTC:20241002T210000
DTSTAMP:20260421T223350
CREATED:20241001T062032Z
LAST-MODIFIED:20241001T062032Z
UID:2406-1727897400-1727902800@tergarindonesia.com
SUMMARY:Build a New Habit
DESCRIPTION:Membangun kebiasaan baru \nBagaimanakah cara membangun sebuah kebiasaan baru? Hal apa sajakah yang perlu kita lakukan dan hal apa saja yang membantu kita membangun kebiasaan baru? Mari kita belajar dan berlatih bersama.\nLatihan meditasi dan studi bersama\nWaktu : Rabu\, 2 Oktober 2024\nJam 19:30 – 21:00 WIB\nBebas Biaya dan terbuka untuk umum. \nAlamat:\nJl. Daan Mogot\, Perumahan Green Mansion Boulevard Raya No.35\, Jakarta Barat\, DKI Jakarta.\nMaps: https://goo.gl/maps/maVW3Y3upjbVouqm8 \nInfo:\nTlp. 021-29025314 | WA. 083806922450\nhttps://tergarindonesia.com/events/\n@TergarIndonesia
URL:https://tergarindonesia.com/event/build-a-new-habit/
CATEGORIES:Latihan Meditasi Bersama,Meditasi Umum
ATTACH;FMTTYPE=image/jpeg:https://tergarindonesia.com/wp-content/uploads/2024/10/WhatsApp-Image-2024-10-01-at-11.00.28-e1727763587422.jpeg
END:VEVENT
BEGIN:VEVENT
DTSTART;TZID=UTC:20241008T190000
DTEND;TZID=UTC:20241008T200000
DTSTAMP:20260421T223350
CREATED:20241008T022937Z
LAST-MODIFIED:20241008T022937Z
UID:2415-1728414000-1728417600@tergarindonesia.com
SUMMARY:How To Practice Open Awareness Meditation?
DESCRIPTION:Latihan Meditasi Bersama. Terbuka untuk umum dan bebas biaya. \nSelasa\, 8 Oktober 2024\, 19:00-20:00 WIB.\nDipandu oleh Anthony (Host) dan Norlela (Co-Host) \nVia ZOOM\, meeting ID : 821 1856 5010\nPasscode : kesadaran \nInfo :\n•⁠ ⁠WA : 0838 0692 2450\n•⁠ ⁠Website : http://www.tergarindonesia.com/events/\n•⁠ ⁠Organized by @tergarindonesia
URL:https://tergarindonesia.com/event/how-to-practice-open-awareness-meditation/
CATEGORIES:Latihan Meditasi Bersama,Meditasi Umum
ATTACH;FMTTYPE=image/jpeg:https://tergarindonesia.com/wp-content/uploads/2024/10/WhatsApp-Image-2024-10-08-at-08.13.41-e1728354549608.jpeg
END:VEVENT
BEGIN:VEVENT
DTSTART;TZID=UTC:20241009T193000
DTEND;TZID=UTC:20241009T210000
DTSTAMP:20260421T223350
CREATED:20241007T092705Z
LAST-MODIFIED:20241007T092705Z
UID:2412-1728502200-1728507600@tergarindonesia.com
SUMMARY:Latihan JOL 1 Bersama 9 Oktober 2024
DESCRIPTION:Latihan meditasi bersama JOL 1 \nWaktu : Rabu\, 9 Oktober 2024\nJam 19:30 – 21:00 WIB\nBebas Biaya dan terbuka untuk umum. \nAlamat:\nJl. Daan Mogot\, Perumahan Green Mansion Boulevard Raya No.35\, Jakarta Barat\, DKI Jakarta.\nMaps: https://goo.gl/maps/maVW3Y3upjbVouqm8 \nInfo:\nTlp. 021-29025314 | WA. 083806922450\nhttps://tergarindonesia.com/events/\n@TergarIndonesia
URL:https://tergarindonesia.com/event/latihan-jol-1-bersama-9-oktober-2024/
CATEGORIES:Latihan Meditasi Bersama,Meditasi Umum
ATTACH;FMTTYPE=image/jpeg:https://tergarindonesia.com/wp-content/uploads/2024/10/WhatsApp-Image-2024-10-07-at-07.46.22-e1728293196141.jpeg
END:VEVENT
BEGIN:VEVENT
DTSTART;TZID=UTC:20241016T193000
DTEND;TZID=UTC:20241016T210000
DTSTAMP:20260421T223350
CREATED:20241015T042113Z
LAST-MODIFIED:20241015T042113Z
UID:2421-1729107000-1729112400@tergarindonesia.com
SUMMARY:Ada Apa Dengan Kesadaran?
DESCRIPTION:Seringkali ketika bermeditasi kita selalu mendengar tentang mengenali “kesadaran”\, mungkin masih banyak yang bingung kenapa perlu untuk mengenali kesadaran? ada apa dengan “kesadaran”? \nMari kita belajar dan berlatih bersama mengenali kesadaran melalui 3 metode yaitu pandangan\, meditasi\, dan penerapan dalam kehidupan. \nWaktu : Rabu\, 16 Oktober 2024\nJam 19:30 – 21:00 WIB\nBebas Biaya dan terbuka untuk umum. \nAlamat:\nJl. Daan Mogot\, Perumahan Green Mansion Boulevard Raya No.35\, Jakarta Barat\, DKI Jakarta.\nMaps: https://goo.gl/maps/maVW3Y3upjbVouqm8 \nInfo:\nTlp. 021-29025314 | WA. 083806922450\nhttps://tergarindonesia.com/events/\n@TergarIndonesia
URL:https://tergarindonesia.com/event/ada-apa-dengan-kesadaran/
CATEGORIES:Latihan Meditasi Bersama,Meditasi Umum
ATTACH;FMTTYPE=image/jpeg:https://tergarindonesia.com/wp-content/uploads/2024/10/WhatsApp-Image-2024-10-15-at-10.54.16-e1728966038744.jpeg
END:VEVENT
BEGIN:VEVENT
DTSTART;TZID=UTC:20241022T190000
DTEND;TZID=UTC:20241022T200000
DTSTAMP:20260421T223350
CREATED:20241021T034431Z
LAST-MODIFIED:20241021T034431Z
UID:2427-1729623600-1729627200@tergarindonesia.com
SUMMARY:Merangkul Ketidaksesuaian dengan Harapan
DESCRIPTION:Pernahkah kita merasa sedih\, kecewa\, frustrasi\, atau marah ketika sesuatu tidak berjalan seperti yang kita harapkan? Perasaan ini wajar muncul ketika harapan kita tidak terpenuhi. Terkadang\, semakin besar harapan yang kita pasang\, semakin dalam pula rasa kecewa yang kita rasakan. Bahkan\, perasaan ini bisa mendorong kita untuk bertindak secara emosional dan tidak rasional. \nJika dibiarkan\, kekecewaan ini bisa berdampak buruk pada kesehatan mental kita. Lama-kelamaan\, ketidakpuasan batin tersebut dapat menurunkan kualitas hidup secara keseluruhan—dari kondisi fisik\, produktivitas kerja\, hingga hubungan dengan orang-orang di sekitar kita. \nNamun\, kita memiliki pilihan untuk merespons situasi ini dengan cara yang lebih bijak. Daripada menolak atau melawan kenyataan\, kita bisa belajar merangkul ketidaksesuaian dengan harapan. \nMari kita kembangkan keterampilan untuk menerima perbedaan antara harapan dan kenyataan dengan sebagaimana adanya\, tanpa penilaian. Dengan demikian\, kita bisa menjaga keseimbangan batin dan meningkatkan kualitas kesehatan mental kita. \nTerbuka untuk umum dan bebas biaya. Selasa\, 22 Oktober 2024\, 19:00-20:00 WIB. Dipandu oleh Hemmarata dan Gunawan\n.\nVia ZOOM\, meeting ID : 821 1856 5010\nPasscode : kesadaran \nInfo :\n– WA : 0838 0692 2450\n– Website : http://www.tergarindonesia.com/events/\n* Organized by @tergarindonesia
URL:https://tergarindonesia.com/event/merangkul-ketidaksesuaian-dengan-harapan/
CATEGORIES:Meditasi Umum
ATTACH;FMTTYPE=image/jpeg:https://tergarindonesia.com/wp-content/uploads/2024/10/WhatsApp-Image-2024-10-20-at-15.34.58-e1729482230596.jpeg
END:VEVENT
BEGIN:VEVENT
DTSTART;TZID=UTC:20241023T193000
DTEND;TZID=UTC:20241023T210000
DTSTAMP:20260421T223350
CREATED:20241021T034815Z
LAST-MODIFIED:20241021T034815Z
UID:2433-1729711800-1729717200@tergarindonesia.com
SUMMARY:Latihan JOL 1 Bersama 23 Oktober 2024
DESCRIPTION:Latihan meditasi bersama JOL 1 terbuka untuk umum. \nWaktu : Rabu\, 23 Oktober 2024\nJam 19:30 – 21:00 WIB\nBebas Biaya dan terbuka untuk umum. \nAlamat:\nJl. Daan Mogot\, Perumahan Green Mansion Boulevard Raya No.35\, Jakarta Barat\, DKI Jakarta.\nMaps: https://goo.gl/maps/maVW3Y3upjbVouqm8 \nInfo:\nTlp. 021-29025314 | WA. 083806922450\nhttps://tergarindonesia.com/events/\n@TergarIndonesia
URL:https://tergarindonesia.com/event/latihan-jol-1-bersama-23-oktober-2024/
CATEGORIES:Latihan Meditasi Bersama,Meditasi Umum
ATTACH;FMTTYPE=image/jpeg:https://tergarindonesia.com/wp-content/uploads/2024/10/WhatsApp-Image-2024-10-20-at-16.09.53-e1729482462478.jpeg
END:VEVENT
BEGIN:VEVENT
DTSTART;TZID=UTC:20241030T193000
DTEND;TZID=UTC:20241030T210000
DTSTAMP:20260421T223350
CREATED:20241028T064128Z
LAST-MODIFIED:20241028T064128Z
UID:2437-1730316600-1730322000@tergarindonesia.com
SUMMARY:WHY I SO TIRED
DESCRIPTION:Pada kehidupan Modern ini\, Sering kali kita mengalami kelelahan bukan hanya Fisik tetapi Mental kita juga mengalami kelelahan.\nParahnya kita sering mengabaikannya bahkan tidak pernah untuk memperdulikannya. Sehingga memicu masalah2 yg lebih besar seperti kecemasan yg berlebihan\, Stress\, bahkan Depresi.\nBagaimana Meditasi dapat mengatasi masalah diatas?\nMari kita experience \, share diskusi dan berlatih bersama pada sesi ini. \nWaktu : Rabu\, 30 Oktober 2024\nJam 19:30 – 21:00 WIB\nBebas Biaya dan terbuka untuk umum. \nAlamat:\nJl. Daan Mogot\, Perumahan Green Mansion Boulevard Raya No.35\, Jakarta Barat\, DKI Jakarta.\nMaps: https://goo.gl/maps/maVW3Y3upjbVouqm8 \nInfo:\nTlp. 021-29025314 | WA. 083806922450\nhttps://tergarindonesia.com/events/\n@TergarIndonesia
URL:https://tergarindonesia.com/event/why-i-so-tired/
CATEGORIES:Latihan Meditasi Bersama,Meditasi Umum
ATTACH;FMTTYPE=image/jpeg:https://tergarindonesia.com/wp-content/uploads/2024/10/WhatsApp-Image-2024-10-28-at-11.52.25-e1730097582579.jpeg
END:VEVENT
END:VCALENDAR